Workbook
Name Print_Titles: 'BOLETIM DE MEDIÇÃO'!$1:$10
Name acumulado: #REF!
Name Aq_ASF: #REF!
Name Cabecalho: #REF!
Name Carga_SO: #REF!
Name edital: #REF!
Name extensao: #REF!
Name firma1: #REF!
Name firma2: #REF!
Name HM: #REF!
Name I: #REF!
Name lote: #REF!
Name mes: #REF!
Name resumo2: #REF!
Name rodovia: #REF!
Name SD: #REF!
Name SINALIZAÇÃO: #REF!
Name SO: #REF!
Name SP: #REF!
Name ST: #REF!
Name ST_HM: #REF!
Name ST_SO: #REF!
Name ST_SP: #REF!
Name ST_ST: #REF!
Name Sub_GERAL: #REF!
Name subtrecho: #REF!
Name TABELA_SD: #REF!
Name TABELA_SO: #REF!
Name TABELA_SP: #REF!
Name TABELA_ST: #REF!
Name Transporte_ASF: #REF!
Name Transporte_da_folha_anterior: #REF!
Name transporte_massa: #REF!
Name Transporte_SO: #REF!
Name Transporte_SP: #REF!
Name Transportr_ST: #REF!
Name trecho: #REF!
Name acumulado: #REF!
Name Aq_ASF: #REF!
Name Cabecalho: #REF!
Name Carga_SO: #REF!
Name edital: #REF!
Name extensao: #REF!
Name firma1: #REF!
Name firma2: #REF!
Name HM: #REF!
Name I: #REF!
Name lote: #REF!
Name mes: #REF!
Name resumo2: #REF!
Name rodovia: #REF!
Name SD: #REF!
Name SINALIZAÇÃO: #REF!
Name SO: #REF!
Name SP: #REF!
Name ST: #REF!
Name ST_HM: #REF!
Name ST_SO: #REF!
Name ST_SP: #REF!
Name ST_ST: #REF!

Sheet RESUMO
A2: NOVATEC Construções e Empeendimentos Ltda. Rua José de Alencar, nº 916 sala 703 Ilha do Leite Recife-PE CNPJ : 00.338.885/0001-33
A5: Objeto: Execução das obras e serviços de terraplenagem, drenagem e pavimentação de vias de acesso ao Distrito Industrial do Município de São Cristóvão/SE, sob o regime de empreitada por preço unitário.
A6: Local: | B6: Município de São Cristóvão/ SE | C6: Período: | D6: ='BOLETIM DE MEDIÇÃO'!G8 -> 10/08/2026 a31/08/2026
A7: Contrato: | B7: CT 076/2023
A8: Ordem de serviço: 15/10/2024 | C8: BM: | D8: ='BOLETIM DE MEDIÇÃO'!G7 -> 14
A10: PLANILHA RESUMO
A11: Entidade: | B11: Prefeitura Municipal de São Cristóvão
A12: Edital: | B12: Concorrência Nº 002/2023
A13: ITEM | B13: DESCRIÇÃO | C13: CONTRATADO | D13: ACUM. ANTERIOR | E13: MEDIDO MÊS | F13: ACUM. ATÉ PERÍODO | G13: SALDO | H13: (%) DO PERÍODO | I13: (%) ACUMULADO | J13: (%) À MEDIR
A14: 01 | B14: ADMINISTRAÇÃO DO EMPREENDIMENTO | C14: ='BOLETIM DE MEDIÇÃO'!L12 -> 199436.84 | D14: ='BOLETIM DE MEDIÇÃO'!M12 -> 118564.89 | E14: ='BOLETIM DE MEDIÇÃO'!N12 -> 17379.364 | F14: ='BOLETIM DE MEDIÇÃO'!O12 -> 135944.25 | G14: ='BOLETIM DE MEDIÇÃO'!P12 -> 63492.589 | H14: =E14/C14*100 -> 8.7142194 | I14: =F14/C14*100 -> 68.164062 | J14: =G14/C14*100 -> 31.835938 | K14: =C14-(F14+G14) -> 0
A15: 01.01 | B15: ADMINISTRAÇÃO LOCAL | C15: ='BOLETIM DE MEDIÇÃO'!L13 -> 197044.94 | D15: ='BOLETIM DE MEDIÇÃO'!M13 -> 117392.39 | E15: ='BOLETIM DE MEDIÇÃO'!N13 -> 17379.364 | F15: ='BOLETIM DE MEDIÇÃO'!O13 -> 134771.75 | G15: ='BOLETIM DE MEDIÇÃO'!P13 -> 62273.189 | H15: =E15/C15*100 -> 8.82 | I15: =F15/C15*100 -> 68.396453 | J15: =G15/C15*100 -> 31.603547 | K15: =C15-(F15+G15) -> 0
A16: 02 | B16: CANTEIRO DA OBRA | C16: ='BOLETIM DE MEDIÇÃO'!L19 -> 77907.398 | D16: ='BOLETIM DE MEDIÇÃO'!M19 -> 77907.405 | E16: ='BOLETIM DE MEDIÇÃO'!N19 -> 0 | F16: ='BOLETIM DE MEDIÇÃO'!O19 -> 77907.405 | G16: ='BOLETIM DE MEDIÇÃO'!P19 -> 0 | H16: =E16/C16*100 -> 0 | I16: =F16/C16*100 -> 100.00001 | J16: =G16/C16*100 -> 0
A17: 03.01 | B17: TERRAPLENAGEM | C17: ='BOLETIM DE MEDIÇÃO'!L42 -> 3298670 | D17: ='BOLETIM DE MEDIÇÃO'!M42 -> 2915573.6 | E17: ='BOLETIM DE MEDIÇÃO'!N42 -> 0 | F17: ='BOLETIM DE MEDIÇÃO'!O42 -> 2915573.6 | G17: ='BOLETIM DE MEDIÇÃO'!P42 -> 383096.36 | H17: =E17/C17*100 -> 0 | I17: =F17/C17*100 -> 88.386339 | J17: =G17/C17*100 -> 11.613662 | K17: =C17-(F17+G17) -> -0.0105
A18: 03.02 | B18: DRENAGEM PLUVIAL | C18: ='BOLETIM DE MEDIÇÃO'!L126 -> 148174.83 | D18: ='BOLETIM DE MEDIÇÃO'!M126 -> 82715.419 | E18: ='BOLETIM DE MEDIÇÃO'!N126 -> 0 | F18: ='BOLETIM DE MEDIÇÃO'!O126 -> 82715.419 | G18: ='BOLETIM DE MEDIÇÃO'!P126 -> 65459.408 | H18: =E18/C18*100 -> 0 | I18: =F18/C18*100 -> 55.822855 | J18: =G18/C18*100 -> 44.177145 | K18: =C18-(F18+G18) -> 0
A19: 04 | B19: PAVIMENTAÇÃO | C19: ='BOLETIM DE MEDIÇÃO'!L143 -> 1937333.2 | D19: ='BOLETIM DE MEDIÇÃO'!M143 -> 191379.85 | E19: ='BOLETIM DE MEDIÇÃO'!N143 -> 484375.61 | F19: ='BOLETIM DE MEDIÇÃO'!O143 -> 675755.45 | G19: ='BOLETIM DE MEDIÇÃO'!P143 -> 1261577.8 | H19: =E19/C19*100 -> 25.002184 | I19: =F19/C19*100 -> 34.880704 | J19: =G19/C19*100 -> 65.119296 | K19: =C19-(F19+G19) -> 0
A20: 05 | B20: SINALIZAÇÃO VIÁRIA | C20: ='BOLETIM DE MEDIÇÃO'!L176 -> 27634.15 | D20: ='BOLETIM DE MEDIÇÃO'!M176 -> 0 | E20: ='BOLETIM DE MEDIÇÃO'!N176 -> 0 | F20: ='BOLETIM DE MEDIÇÃO'!O176 -> 0 | G20: ='BOLETIM DE MEDIÇÃO'!P176 -> 27634.15 | H20: =E20/C20*100 -> 0 | I20: =F20/C20*100 -> 0 | J20: =G20/C20*100 -> 100 | K20: =C20-(F20+G20) -> 0
B21: TOTAL DO ORÇAMENTO | C21: =SUM(C14:C20)-C15 -> 5689156.4 | D21: =SUM(D14:D20)-D15 -> 3386141.2 | E21: =SUM(E14:E20)-E15 -> 501754.97 | F21: =SUM(F14:F20)-F15 -> 3887896.1 | G21: =SUM(G14:G20)-G15 -> 1801260.3 | H21: =E21/$C$21*100 -> 8.8194969 | I21: =F21/$C$21*100 -> 68.338711 | J21: =G21/$C$21*100 -> 31.661289

Sheet BOLETIM DE MEDIÇÃO
A2: NOVATEC Construções e Empeendimentos Ltda. Rua José de Alencar, nº 916 sala 703 Ilha do Leite Recife-PE CNPJ : 00.338.885/0001-33
A5: OBJETO: Execução das obras e serviços de terraplenagem, drenagem e pavimentação de vias do Distrito Industrial do Município de São Cristóvão/SE.
A6: BOLETIM DE MEDIÇÃO
A7: CONTRANTE: | B7: Prefeitura Municipal de São Cristóvão | F7: BM: | G7: 14
A8: CONTRATO: | B8: Nº 076/2023 | F8: PERÍODO: | G8: 10/08/2026 a31/08/2026
A9: ITEM | B9: CÓDIGO | C9: DESCRIÇÃO | D9: QUANTITATIVO | K9: PREÇO UNIT | L9: VALOR | Q9: PERC.
D10: UND | E10: QTD | F10: ACUM. ANTERIOR | G10: DO PERÍODO | H10: ACUM. TOTAL | I10: SALDO | J10: P UNIT S/ BDI | L10: CONTRATADO | M10: ACUM. ANTERIOR | N10: DO PERÍODO | O10: ACUM. ATÉ O PERÍODO | P10: SALDO | Q10: (%) ACUMULADO
L11: =L181 -> 5689156.4 | M11: =M181 -> 3386141.2 | N11: =N181 -> 501754.97 | O11: =O181 -> 3887896.1 | P11: =P181 -> 1801260.3 | Q11: =O11/$L$181 -> 0.68338711
A12: 01 | C12: ADMINISTRAÇÃO DO EMPREENDIMENTO | L12: =L13+L17 -> 199436.84 | M12: =M13+M17 -> 118564.89 | N12: =N13+N17 -> 17379.364 | O12: =O13+O17 -> 135944.25 | P12: =P13+P17 -> 63492.589 | Q12: =O12/$L$181 -> 0.023895327
A13: 01.01 | C13: ADMINISTRAÇÃO LOCAL | L13: =SUM(L14:L16) -> 197044.94 | M13: =SUM(M14:M16) -> 117392.39 | N13: =SUM(N14:N16) -> 17379.364 | O13: =SUM(O14:O16) -> 134771.75 | P13: =SUM(P14:P16) -> 62273.189 | Q13: =O13/$L$181 -> 0.023689233
A14: 01.01.01 | B14: EQDIR | C14: Equipe Dirigente | D14: UN | E14: 1 | F14: 0.59576453 | G14: 0.0882 | H14: =F14+G14 -> 0.68396453 | I14: =E14-H14 -> 0.31603547 | J14: 156196.76 | K14: =TRUNC(J14*1.2211,2) -> 190731.86 | L14: =TRUNC(E14*K14,2) -> 190731.86 | M14: =F14*K14 -> 113631.28 | N14: =G14*K14 -> 16822.55 | O14: =H14*K14 -> 130453.83 | P14: =L14-O14 -> 60278.032 | Q14: =O14/$L$181 -> 0.022930259
A15: 01.01.02 | B15: MACANT | C15: Manutenção do Canteiro | D15: UN | E15: 1 | F15: 0.59576453 | G15: 0.0882 | H15: =F15+G15 -> 0.68396453 | I15: =E15-H15 -> 0.31603547 | J15: 2920 | K15: =TRUNC(J15*1.2211,2) -> 3565.61 | L15: =TRUNC(E15*K15,2) -> 3565.61 | M15: =F15*K15 -> 2124.264 | N15: =G15*K15 -> 314.4868 | O15: =H15*K15 -> 2438.7508 | P15: =L15-O15 -> 1126.8592 | Q15: =O15/$L$181 -> 0.00042866651
A16: 01.01.03 | B16: EQUIAP | C16: Equipamentos de Apoio à Produção | D16: UN | E16: 1 | F16: 0.59576453 | G16: 0.0882 | H16: =F16+G16 -> 0.68396453 | I16: =E16-H16 -> 0.31603547 | J16: 2250 | K16: =TRUNC(J16*1.2211,2) -> 2747.47 | L16: =TRUNC(E16*K16,2) -> 2747.47 | M16: =F16*K16 -> 1636.8452 | N16: =G16*K16 -> 242.32685 | O16: =H16*K16 -> 1879.172 | P16: =L16-O16 -> 868.29796 | Q16: =O16/$L$181 -> 0.00033030768
A17: 01.02 | C17: MOBILIZAÇÃO E DESMOBILIZAÇÃO DE EQUIPAMENTOS | L17: =SUM(L18) -> 2391.9 | M17: =SUM(M18) -> 1172.5 | N17: =SUM(N18) -> 0 | O17: =SUM(O18) -> 1172.5 | P17: =SUM(P18) -> 1219.4 | Q17: =O17/$L$181 -> 0.00020609383
A18: 01.02.01 | B18: 10434/ORSE | C18: CAMINHÃO CARROCERIA DE MADEIRA 9 T - FONTE:DNIT | D18: H | E18: 51 | F18: 25 | H18: =F18+G18 -> 25 | I18: =E18-H18 -> 26 | J18: 38.41 | K18: =TRUNC(J18*1.2211,2) -> 46.9 | L18: =TRUNC(E18*K18,2) -> 2391.9 | M18: =F18*K18 -> 1172.5 | N18: =G18*K18 -> 0 | O18: =H18*K18 -> 1172.5 | P18: =L18-O18 -> 1219.4 | Q18: =O18/$L$181 -> 0.00020609383
A19: 02 | C19: CANTEIRO DA OBRA | L19: =L20+L23+L27+L30+L35 -> 77907.398 | M19: =M20+M23+M27+M30+M35 -> 77907.405 | N19: =N20+N23+N27+N30+N35 -> 0 | O19: =O20+O23+O27+O30+O35 -> 77907.405 | Q19: =O19/$L$181 -> 0.013694017
A20: 02.01 | C20: LIMPEZA DE TERRENO | L20: =SUM(L21:L22) -> 2113.6864 | M20: =SUM(M21:M22) -> 2113.6864 | N20: =SUM(N21:N22) -> 0 | O20: =SUM(O21:O22) -> 2113.6864 | Q20: =O20/$L$181 -> 0.00037152897
A21: 02.01.01 | B21: 00004/ORSE | C21: LIMPEZA MECANIZADA DO TERRENO C/ TRATOR ESTEIRA (VEGETAÇÃO RASTEIRA) INCLUSIVE CARGA E TRANSPORTE - DMT ATÉ 1 KM | D21: M2 | E21: 353.46 | F21: 353.46 | H21: =F21+G21 -> 353.46 | I21: =E21-H21 -> 0 | J21: 3.97 | K21: =TRUNC(J21*1.2211,2) -> 4.84 | L21: =E21*K21 -> 1710.7464 | M21: =L21 -> 1710.7464 | N21: =G21*K21 -> 0 | O21: =M21+N21 -> 1710.7464 | Q21: =O21/$L$181 -> 0.000300703
A22: 02.01.02 | B22: 02496/ORSE | C22: REGULARIZAÇÃO MECANIZADA DE ÁREAS | D22: M2 | E22: 353.46 | F22: 353.46 | H22: =F22+G22 -> 353.46 | I22: =E22-H22 -> 0 | J22: 0.94 | K22: =TRUNC(J22*1.2211,2) -> 1.14 | L22: =TRUNC(E22*K22,2) -> 402.94 | M22: =L22 -> 402.94 | N22: =G22*K22 -> 0 | O22: =M22+N22 -> 402.94 | Q22: =O22/$L$181 -> 7.0825967e-05
A23: 02.02 | C23: REVESTIMENTO PRIMÁRIO e=0,1 | L23: =SUM(L24:L26) -> 4043.9416 | M23: =SUM(M24:M26) -> 4043.9485 | N23: =SUM(N24:N26) -> 0 | O23: =SUM(O24:O26) -> 4043.9485 | Q23: =O23/$L$181 -> 0.0007108169
A24: 02.02.01 | B24: 11722/ORSE | C24: MATERIAL PARA SUB-BASE, CBR>20, ADQUIRIDO SOLTO NA JAZIDA, INCLUSIVE CARGA, EXCLUSIVE TRANSPORTE | D24: M3 | E24: 70.69 | F24: 70.691 | H24: =F24+G24 -> 70.691 | I24: =IF(ABS(E24-F24)<0.005,0,E24-F24) -> 0 | J24: 5.67 | K24: =TRUNC(J24*1.2211,2) -> 6.92 | L24: =E24*K24 -> 489.1748 | M24: =F24*K24 -> 489.18172 | N24: =G24*K24 -> 0 | O24: =H24*K24 -> 489.18172 | Q24: =O24/$L$181 -> 8.5984931e-05
A25: 02.02.02 | B25: 5914359 | C25: Transporte com caminhão basculante de 10 m³ - rodovia em leito natural (SICRO 5914359) | D25: t.km | E25: 2288.3 | F25: 2288.3 | H25: =F25+G25 -> 2288.3 | I25: =E25-H25 -> 0 | J25: 1.17 | K25: =TRUNC(J25*1.2211,2) -> 1.42 | L25: =E25*K25 -> 3249.386 | M25: =F25*K25 -> 3249.386 | N25: =G25*K25 -> 0 | O25: =H25*K25 -> 3249.386 | Q25: =O25/$L$181 -> 0.00057115428
A26: 02.02.03 | B26: 02521/ORSE | C26: COMPACTAÇÃO DE ATERROS, COM ROLO VIBRATÓRIO, A 95% DO PROCTOR NORMAL | D26: M3 | E26: 70.69 | F26: 70.69 | H26: =F26+G26 -> 70.69 | I26: =E26-H26 -> 0 | J26: 3.54 | K26: =TRUNC(J26*1.2211,2) -> 4.32 | L26: =E26*K26 -> 305.3808 | M26: =F26*K26 -> 305.3808 | N26: =G26*K26 -> 0 | O26: =H26*K26 -> 305.3808 | Q26: =O26/$L$181 -> 5.3677695e-05
A27: 02.03 | C27: TAPUME /PLACA | L27: =SUM(L28:L29) -> 13440.75 | M27: =SUM(M28:M29) -> 13440.75 | N27: =SUM(N28:N29) -> 0 | O27: =SUM(O28:O29) -> 13440.75 | Q27: =O27/$L$181 -> 0.0023625207
A28: 02.03.01 | B28: 00051/ORSE | C28: PLACA DE OBRA EM CHAPA AÇO GALVANIZADO, INSTALADA | D28: M2 | E28: 12 | F28: 12 | H28: =F28+G28 -> 12 | I28: =E28-H28 -> 0 | J28: 128.42 | K28: =TRUNC(J28*1.2211,2) -> 156.81 | L28: =E28*K28 -> 1881.72 | M28: =F28*K28 -> 1881.72 | N28: =G28*K28 -> 0 | O28: =H28*K28 -> 1881.72 | Q28: =O28/$L$181 -> 0.00033075554
A29: 02.03.02 | B29: 09142/ORSE | C29: TAPUME EM CHAPA OSB LP (2,20X1,22M), ESP = 10MM (1 USO) | D29: M2 | E29: 162.62 | F29: 162.62 | H29: =F29+G29 -> 162.62 | I29: =E29-H29 -> 0 | J29: 58.21 | K29: =TRUNC(J29*1.2211,2) -> 71.08 | L29: =E29*K29 -> 11559.03 | M29: =F29*K29 -> 11559.03 | N29: =G29*K29 -> 0 | O29: =H29*K29 -> 11559.03 | Q29: =O29/$L$181 -> 0.0020317651
A30: 02.04 | C30: BARRACÕES | L30: =SUM(L31:L34) -> 42821.93 | M30: =SUM(M31:M34) -> 42821.93 | N30: =SUM(N31:N34) -> 0 | O30: =SUM(O31:O34) -> 42821.93 | Q30: =O30/$L$181 -> 0.0075269385
A31: 02.04.01 | B31: 00054/ORSE | C31: BARRACÃO PARA ESCRITÓRIO DE OBRA PORTE MÉDIO S=43,56M2 COM MATERIAIS NOVOS | D31: UN | E31: 1 | F31: 1 | H31: =F31+G31 -> 1 | I31: =E31-H31 -> 0 | J31: 10188.7 | K31: =TRUNC(J31*1.2211,2) -> 12441.42 | L31: =E31*K31 -> 12441.42 | M31: =F31*K31 -> 12441.42 | N31: =G31*K31 -> 0 | O31: =H31*K31 -> 12441.42 | Q31: =O31/$L$181 -> 0.0021868655
A32: 02.04.02 | B32: 00062/ORSE | C32: BARRACÃO FECHADO PORTE PEQUENO PARA DEPÓSITO DE CIMENTO E ALMOXARIFADO (S=38,72 M2) COM MATERIAIS NOVOS | D32: UN | E32: 1 | F32: 1 | H32: =F32+G32 -> 1 | I32: =E32-H32 -> 0 | J32: 6094.39 | K32: =TRUNC(J32*1.2211,2) -> 7441.85 | L32: =E32*K32 -> 7441.85 | M32: =F32*K32 -> 7441.85 | N32: =G32*K32 -> 0 | O32: =H32*K32 -> 7441.85 | Q32: =O32/$L$181 -> 0.0013080762
A33: 02.04.03 | B33: 00061/ORSE | C33: BARRACÃO ABERTO PARA REFEITÓRIO DE OBRA (CAPACIDADE 24 REFEIÇÕES SIMULTÂNEAS)-S=61,60M2 COM MATERIAIS NOVOS | D33: UN | E33: 1 | F33: 1 | H33: =F33+G33 -> 1 | I33: =E33-H33 -> 0 | J33: 9511.99 | K33: =TRUNC(J33*1.2211,2) -> 11615.09 | L33: =E33*K33 -> 11615.09 | M33: =F33*K33 -> 11615.09 | N33: =G33*K33 -> 0 | O33: =H33*K33 -> 11615.09 | Q33: =O33/$L$181 -> 0.002041619
A34: 02.04.04 | B34: 10184/ORSE | C34: BARRACÃO PARA BANHEIRO E VESTIÁRIO DE OBRA, S=35,10M², CAPACIDADE 20 OPERÁRIOS COM MATERIAIS NOVOS | D34: UN | E34: 1 | F34: 1 | H34: =F34+G34 -> 1 | I34: =E34-H34 -> 0 | J34: 9273.26 | K34: =TRUNC(J34*1.2211,2) -> 11323.57 | L34: =E34*K34 -> 11323.57 | M34: =F34*K34 -> 11323.57 | N34: =G34*K34 -> 0 | O34: =H34*K34 -> 11323.57 | Q34: =O34/$L$181 -> 0.0019903777
A35: 02.05 | C35: LIGAÇÕES PROVISÓRIAS | L35: =SUM(L36:L40) -> 15487.09 | M35: =SUM(M36:M40) -> 15487.09 | N35: =SUM(N36:N40) -> 0 | O35: =SUM(O36:O40) -> 15487.09 | Q35: =O35/$L$181 -> 0.002722212
A36: 02.05.01 | B36: 06096/ORSE | C36: LIGAÇÃO EM MURETA, COM FORNECIMENTO DE MATERIAL, INCLUSIVE MURETA E HIDRÔMETRO, REDE DN 50MM | D36: UN | E36: 1 | F36: 1 | H36: =F36+G36 -> 1 | I36: =E36-H36 -> 0 | J36: 470.3 | K36: =TRUNC(J36*1.2211,2) -> 574.28 | L36: =E36*K36 -> 574.28 | M36: =F36*K36 -> 574.28 | N36: =G36*K36 -> 0 | O36: =H36*K36 -> 574.28 | Q36: =O36/$L$181 -> 0.00010094291
A37: 02.05.02 | B37: 41598 | C37: ENTRADA PROVISORIA DE ENERGIA ELETRICA AEREA TRIFASICA 40A EM POSTO DE MADEIRA | D37: UN | E37: 1 | F37: 1 | H37: =F37+G37 -> 1 | I37: =E37-H37 -> 0 | J37: 1359.17 | K37: =TRUNC(J37*1.2211,2) -> 1659.68 | L37: =E37*K37 -> 1659.68 | M37: =F37*K37 -> 1659.68 | N37: =G37*K37 -> 0 | O37: =H37*K37 -> 1659.68 | Q37: =O37/$L$181 -> 0.00029172691
A38: 02.05.03 | B38: 01711/ORSE | C38: FOSSA SÉPTICA PRÉ-MOLDADA, TIPO OMS, CAPACIDADE 30 PESSOAS (V=2710 LITROS) | D38: UN | E38: 1 | F38: 1 | H38: =F38+G38 -> 1 | I38: =E38-H38 -> 0 | J38: 2379.78 | K38: =TRUNC(J38*1.2211,2) -> 2905.94 | L38: =E38*K38 -> 2905.94 | M38: =F38*K38 -> 2905.94 | N38: =G38*K38 -> 0 | O38: =H38*K38 -> 2905.94 | Q38: =O38/$L$181 -> 0.00051078575
A39: 02.05.04 | B39: 01747/ORSE | C39: SUMIDOURO PAREDES COM BLOCOS CERÂMICOS 6 FUROS E DIMENSÕES INTERNAS DE 3,00 X 1,50 X 1,50 M | D39: UN | E39: 1 | F39: 1 | H39: =F39+G39 -> 1 | I39: =E39-H39 -> 0 | J39: 4459.55 | K39: =TRUNC(J39*1.2211,2) -> 5445.55 | L39: =E39*K39 -> 5445.55 | M39: =F39*K39 -> 5445.55 | N39: =G39*K39 -> 0 | O39: =H39*K39 -> 5445.55 | Q39: =O39/$L$181 -> 0.00095718058
A40: 02.05.05 | B40: 10390/ORSE | C40: ALUGUEL DE BANHEIRO QUÍMICO, COM LIMPEZAS DIÁRIAS | D40: MÊS | E40: 6 | F40: 6 | H40: =F40+G40 -> 6 | I40: =E40-H40 -> 0 | J40: 669.02 | K40: =TRUNC(J40*1.2211,2) -> 816.94 | L40: =E40*K40 -> 4901.64 | M40: =F40*K40 -> 4901.64 | N40: =G40*K40 -> 0 | O40: =H40*K40 -> 4901.64 | Q40: =O40/$L$181 -> 0.0008615759
A41: 03 | C41: TERRAPLENAGEM E DRENAGEM | L41: =L42+L126 -> 3446844.8 | M41: =M42+M126 -> 2998289 | N41: =N42+N126 -> 0 | O41: =O42+O126 -> 2998289 | P41: =P42+P126 -> 448555.77 | Q41: =O41/$L$181 -> 0.52701821
A42: 03.01 | C42: TERRAPLENAGEM | L42: =L43+L57+L66+L75+L84+L94+L102+L110+L118 -> 3298670 | M42: =M43+M57+M66+M75+M84+M94+M102+M110+M118 -> 2915573.6 | N42: =N43+N57+N66+N75+N84+N94+N102+N110+N118 -> 0 | O42: =O43+O57+O66+O75+O84+O94+O102+O110+O118 -> 2915573.6 | P42: =P43+P57+P66+P75+P84+P94+P102+P110+P118 -> 383096.36 | Q42: =O42/$L$181 -> 0.51247908
A43: 03.01.01 | C43: PAVIMENTAÇÃO DO ACESSO | L43: =L44+L48 -> 1076494.2 | M43: =M44+M48 -> 1076419.8 | N43: =N44+N48 -> 0 | O43: =O44+O48 -> 1076419.8 | P43: =P44+P48 -> 74.4484 | Q43: =O43/$L$181 -> 0.18920551
...

Sheet ADM LOCAL
A1: NOVATEC Construções e Empeendimentos Ltda. Rua José de Alencar, nº 916 sala 703 Ilha do Leite Recife-PE CNPJ : 00.338.885/0001-33
A4: Execução das obras e serviços de terraplenagem, drenagem e pavimentação de vias do Distrito Industrial do Município de São Cristóvão/SE.
A5: MEMÓRIA DE CÁLCULO - ADMINISTRAÇÃO LOCAL
A6: Entidade: | B6: Prefeitura Municipal de São Cristóvão | C6: BM Nº: | D6: ='BOLETIM DE MEDIÇÃO'!G7 -> 14
A7: CONTRATO: | B7: 076/2023 | C7: Período | D7: ='BOLETIM DE MEDIÇÃO'!G8 -> 10/08/2026 a31/08/2026
B10: Total da Obra | C10: =RESUMO!C21 -> 5689156.4
B11: ADM LOCAL | C11: =RESUMO!C15 -> 197044.94
B12: TOTAL DA OBRA SEM ADM LOCAL | C12: =C10-C11 -> 5492111.4
B13: ADM LOCAL / (TOTAL DA OBRA SEM ADM LOCAL) | C13: =C11/C12 -> 0.035877812
B15: ADM LOCAL - MEDIÇÃO
B16: MEDIÇÃO DO PERÍODO (SEM ADM) | C16: ='BOLETIM DE MEDIÇÃO'!N181-'BOLETIM DE MEDIÇÃO'!N13 -> 484375.61
B17: ADM LOCAL (PERÍODO) | C17: =C16/C12 -> 0.088194788

Sheet MEMORIA LIMPEZA 
A1: NOVATEC Construções e Empeendimentos Ltda. Rua José de Alencar, nº 916 sala 703 Ilha do Leite Recife-PE CNPJ : 00.338.885/0001-33
A4: Execução das obras e serviços de terraplenagem, drenagem e pavimentação de vias do Distrito Industrial do Município de São Cristóvão/SE.
A5: MEMÓRIA DE CÁLCULO LIMPEZA
A6: Entidade: | B6: Prefeitura Municipal de São Cristóvão | C6: BM Nº: | D6: ='BOLETIM DE MEDIÇÃO'!G7 -> 14
A7: CONTRATO: | B7: 076/2023 | C7: Período | D7: ='BOLETIM DE MEDIÇÃO'!G8 -> 10/08/2026 a31/08/2026
G8: 15/10 A 14/11/2024
A35: QUADRO DE ÁREAS
A36: LOTE 06 | B36: 13451.38 | C36: Efetuada a limpeza da área no período
A37: LOTE 07 | B37: 12171.83 | C37: Efetuada a limpeza da área no período
A38: LOTE 08 | B38: 13142.09 | C38: Efetuada a limpeza da área no período
A39: LOTE 09 | B39: =9774.71*0.7 -> 6842.297 | C39: Efetuada a limpeza da área no período
A40: LOTE 10 | B40: 9774.707 | C40: Efetuada a limpeza da área no período

Sheet LOTE 06
D1: CÁLCULO DE VOLUME E.00+0,00m Á E.08+10,00m TERRAPLENAGEM - LOTE 06 DISTRITO INDUSTRIAL - SÃO CRISTOVÃO
A2: PROJETO: | C2: RODOVIA CARLOS PINA - SÃO CRISTOVÃO
A3: SERVIÇO: | C3: SEÇOES TRANSVERSAIS | F3: LOCAL: | G3: SÃO CRISTOVÃO - ARACAJU-SE
A4: DATA: | C4: 06 DE MARÇO 2025 | F4: MATERIAL: | G4: LOCAL
A5: ESTACA | C5: ÁREAS m2 | E5: DISTÂNCIA | F5: VOL.m3 | H5: VOLUME ACUMULADO m3
C6: CORTE | D6: ATERRO | F6: CORTE | G6: ATERRO | H6: CORTE | I6: ATERRO
A7: 00+00,00 | C7: 0 | D7: 11.95 | E7: 0 | F7: =E7*C7 -> 0 | G7: =F7*D7 -> 0 | H7: =F7 -> 0 | I7: =G7 -> 0
A8: 00+10,00 | C8: 21.1 | D8: 18.36 | E8: 10 | F8: =E8*C8 -> 211 | G8: =D8*E8 -> 183.6 | H8: =H7+F8 -> 211 | I8: =I7+G8 -> 183.6
A9: 01+00,00 | C9: 18.17 | D9: 21.64 | E9: 10 | F9: =E9*C9 -> 181.7 | G9: =D9*E9 -> 216.4 | H9: =H8+F9 -> 392.7 | I9: =I8+G9 -> 400
A10: 01+10,00 | C10: 15.29 | D10: 15.25 | E10: 10 | F10: =E10*C10 -> 152.9 | G10: =D10*E10 -> 152.5 | H10: =H9+F10 -> 545.6 | I10: =I9+G10 -> 552.5
A11: 02+00,00 | C11: 14.18 | D11: 2.18 | E11: 10 | F11: =E11*C11 -> 141.8 | G11: =D11*E11 -> 21.8 | H11: =H10+F11 -> 687.4 | I11: =I10+G11 -> 574.3
A12: 02+10,00 | C12: 18.22 | D12: 2.78 | E12: 10 | F12: =E12*C12 -> 182.2 | G12: =D12*E12 -> 27.8 | H12: =H11+F12 -> 869.6 | I12: =I11+G12 -> 602.1
A13: 03+00,00 | C13: 15.12 | D13: 0.56 | E13: 10 | F13: =E13*C13 -> 151.2 | G13: =D13*E13 -> 5.6 | H13: =H12+F13 -> 1020.8 | I13: =I12+G13 -> 607.7
A14: 03+10,00 | C14: 18.14 | D14: 1.123 | E14: 10 | F14: =E14*C14 -> 181.4 | G14: =D14*E14 -> 11.23 | H14: =H13+F14 -> 1202.2 | I14: =I13+G14 -> 618.93
A15: 04+00,00 | C15: 11.65 | D15: 0.28 | E15: 10 | F15: =E15*C15 -> 116.5 | G15: =D15*E15 -> 2.8 | H15: =H14+F15 -> 1318.7 | I15: =I14+G15 -> 621.73
A16: 04+10,00 | C16: 16.98 | D16: 2.35 | E16: 10 | F16: =E16*C16 -> 169.8 | G16: =D16*E16 -> 23.5 | H16: =H15+F16 -> 1488.5 | I16: =I15+G16 -> 645.23
A17: 05+00,00 | C17: 11.9 | D17: 8.07 | E17: 10 | F17: =E17*C17 -> 119 | G17: =D17*E17 -> 80.7 | H17: =H16+F17 -> 1607.5 | I17: =I16+G17 -> 725.93
A18: 05+10,00 | C18: 15.06 | D18: 12.37 | E18: 10 | F18: =E18*C18 -> 150.6 | G18: =D18*E18 -> 123.7 | H18: =H17+F18 -> 1758.1 | I18: =I17+G18 -> 849.63
A19: 06+00,00 | C19: 22.01 | D19: 18.01 | E19: 10 | F19: =E19*C19 -> 220.1 | G19: =D19*E19 -> 180.1 | H19: =H18+F19 -> 1978.2 | I19: =I18+G19 -> 1029.73
... A24: 08+10,00 | C24: 21.68 | D24: 15.98 | E24: 10 | F24: =E24*C24 -> 216.8 | G24: =D24*E24 -> 159.8 | H24: =H23+F24 -> 3006.4 | I24: =I23+G24 -> 2039.63
F25: VOLUME TOTAL CORTE | H25: =H24 -> 3006.4 | I25: ----
F26: VOLUME TOTAL ATERRO | I26: =I24 -> 2039.63

Sheet LOTE 07
D1: CÁLCULO DE VOLUME E.00+0,00m Á E.07+10,00m TERRAPLENAGEM - LOTE 07 DISTRITO INDUSTRIAL - SÃO CRISTOVÃO
A2: PROJETO: | C2: RODOVIA CARLOS PINA - SÃO CRISTOVÃO
A3: SERVIÇO: | C3: SEÇOES TRANSVERSAIS | F3: LOCAL: | G3: SÃO CRISTOVÃO - ARACAJU-SE
A4: DATA: | C4: 06 DE MARÇO 2025 | F4: MATERIAL: | G4: LOCAL
A5: ESTACA | C5: ÁREAS m2 | E5: DISTÂNCIA | F5: VOL.m3 | H5: VOLUME ACUMULADO m3
C6: CORTE | D6: ATERRO | F6: CORTE | G6: ATERRO | H6: CORTE | I6: ATERRO
A7: 00+00,00 | C7: 12.38 | D7: 1.57 | E7: 0 | F7: =E7*C7 -> 0 | G7: =D7*E7 -> 0 | H7: =F7 -> 0 | I7: =G7 -> 0
A8: 00+10,00 | C8: 15.16 | D8: 0 | E8: 10 | F8: =E8*C8 -> 151.6 | G8: =D8*E8 -> 0 | H8: =H7+F8 -> 151.6 | I8: =I7+G8 -> 0
A9: 01+00,00 | C9: 18.34 | D9: 0 | E9: 10 | F9: =E9*C9 -> 183.4 | G9: =D9*E9 -> 0 | H9: =H8+F9 -> 335 | I9: =I8+G9 -> 0
A10: 01+10,00 | C10: 24.87 | D10: 0 | E10: 10 | F10: =E10*C10 -> 248.7 | G10: =D10*E10 -> 0 | H10: =H9+F10 -> 583.7 | I10: =I9+G10 -> 0
A11: 02+00,00 | C11: 22.49 | D11: 0 | E11: 10 | F11: =E11*C11 -> 224.9 | G11: =D11*E11 -> 0 | H11: =H10+F11 -> 808.6 | I11: =I10+G11 -> 0
A12: 02+10,00 | C12: 26.51 | D12: 0 | E12: 10 | F12: =E12*C12 -> 265.1 | G12: =D12*E12 -> 0 | H12: =H11+F12 -> 1073.7 | I12: =I11+G12 -> 0
A13: 03+00,00 | C13: 26.63 | D13: 0 | E13: 10 | F13: =E13*C13 -> 266.3 | G13: =D13*E13 -> 0 | H13: =H12+F13 -> 1340 | I13: =I12+G13 -> 0
A14: 03+10,00 | C14: 18.79 | D14: 0 | E14: 10 | F14: =E14*C14 -> 187.9 | G14: =D14*E14 -> 0 | H14: =H13+F14 -> 1527.9 | I14: =I13+G14 -> 0
A15: 04+00,00 | C15: 13.63 | D15: 0 | E15: 10 | F15: =E15*C15 -> 136.3 | G15: =D15*E15 -> 0 | H15: =H14+F15 -> 1664.2 | I15: =I14+G15 -> 0
A16: 04+10,00 | C16: 29.52 | D16: 0 | E16: 10 | F16: =E16*C16 -> 295.2 | G16: =D16*E16 -> 0 | H16: =H15+F16 -> 1959.4 | I16: =I15+G16 -> 0
A17: 05+00,00 | C17: 35.15 | D17: 2.58 | E17: 10 | F17: =E17*C17 -> 351.5 | G17: =D17*E17 -> 25.8 | H17: =H16+F17 -> 2310.9 | I17: =I16+G17 -> 25.8
A18: 05+10,00 | C18: 10.88 | D18: 0 | E18: 10 | F18: =E18*C18 -> 108.8 | G18: =D18*E18 -> 0 | H18: =H17+F18 -> 2419.7 | I18: =I17+G18 -> 25.8
A19: 06+00,00 | C19: 8.01 | D19: 11.48 | E19: 10 | F19: =E19*C19 -> 80.1 | G19: =D19*E19 -> 114.8 | H19: =H18+F19 -> 2499.8 | I19: =I18+G19 -> 140.6
... A22: 07+10,00 | C22: 9.1 | D22: 11.56 | E22: 10 | F22: =E22*C22 -> 91 | G22: =D22*E22 -> 115.6 | H22: =H21+F22 -> 2753.7 | I22: =I21+G22 -> 407.6
F23: VOLUME TOTAL CORTE | H23: =H22 -> 2753.7 | I23: ----
F24: VOLUME TOTAL ATERRO | I24: =I22 -> 407.6

Sheet LOTE 08
D1: CÁLCULO DE VOLUME E.00+0,00m Á E.04+10,00m TERRAPLENAGEM - LOTE 08 DISTRITO INDUSTRIAL - SÃO CRISTOVÃO
A2: PROJETO: | C2: RODOVIA CARLOS PINA - SÃO CRISTOVÃO | F2: LOTE 08
A3: SERVIÇO: | C3: SEÇOES TRANSVERSAIS | F3: LOCAL: | G3: SÃO CRISTOVÃO - ARACAJU-SE
A4: DATA: | C4: 05 DE DEZEMBRO 2024 | F4: MATERIAL: | G4: LOCAL
A5: ESTACA | C5: ÁREAS m2 | E5: DISTÂNCIA | F5: VOL.m3 | H5: VOLUME ACUMULADO m3
C6: CORTE | D6: ATERRO | F6: CORTE | G6: ATERRO | H6: CORTE | I6: ATERRO
A7: 00+00,00 | C7: 0 | D7: 0 | E7: 0 | F7: =E7*C7 -> 0 | G7: =E7*D7 -> 0 | H7: =F7 -> 0 | I7: =G7 -> 0
A8: 00+10,00 | C8: 13.92 | D8: 0 | E8: 10 | F8: =E8*C8 -> 139.2 | G8: =E8*D8 -> 0 | H8: =H7+F8 -> 139.2 | I8: =I7+G8 -> 0
A9: 01+00,00 | C9: 14.71 | D9: 0 | E9: 10 | F9: =E9*C9 -> 147.1 | G9: =E9*D9 -> 0 | H9: =H8+F9 -> 286.3 | I9: =I8+G9 -> 0
A10: 01+10,00 | C10: 12.34 | D10: 0 | E10: 10 | F10: =E10*C10 -> 123.4 | G10: =E10*D10 -> 0 | H10: =H9+F10 -> 409.7 | I10: =I9+G10 -> 0
A11: 02+00,00 | C11: 17.53 | D11: 3.18 | E11: 10 | F11: =E11*C11 -> 175.3 | G11: =E11*D11 -> 31.8 | H11: =H10+F11 -> 585 | I11: =I10+G11 -> 31.8
A12: 02+10,00 | C12: 20.3 | D12: 2.89 | E12: 10 | F12: =E12*C12 -> 203 | G12: =E12*D12 -> 28.9 | H12: =H11+F12 -> 788 | I12: =I11+G12 -> 60.7
A13: 03+00,00 | C13: 19.63 | D13: 4.38 | E13: 10 | F13: =E13*C13 -> 196.3 | G13: =E13*D13 -> 43.8 | H13: =H12+F13 -> 984.3 | I13: =I12+G13 -> 104.5
A14: 03+10,00 | C14: 17.69 | D14: 3.42 | E14: 10 | F14: =E14*C14 -> 176.9 | G14: =E14*D14 -> 34.2 | H14: =H13+F14 -> 1161.2 | I14: =I13+G14 -> 138.7
A15: 04+00,00 | C15: 13.44 | D15: 2.62 | E15: 10 | F15: =E15*C15 -> 134.4 | G15: =E15*D15 -> 26.2 | H15: =H14+F15 -> 1295.6 | I15: =I14+G15 -> 164.9
A16: 04+10,00 | C16: 0.77 | D16: 9.29 | E16: 10 | F16: =E16*C16 -> 7.7 | G16: =E16*D16 -> 92.9 | H16: =H15+F16 -> 1303.3 | I16: =I15+G16 -> 257.8
F17: VOLUME TOTAL CORTE | H17: =H16 -> 1303.3 | I17: ----
F18: VOLUME TOTAL ATERRO | I18: =I16 -> 257.8

Sheet LOTE 09 E 10
D1: CÁLCULO DE VOLUME E.00+0,00m Á E.04+10,00m TERRAPLENAGEM - LOTE 09 DISTRITO INDUSTRIAL - SÃO CRISTOVÃO
A2: PROJETO: | C2: RODOVIA CARLOS PINA - SÃO CRISTOVÃO | F2: LOTE 09 E LOTE 10
A3: SERVIÇO: | C3: SEÇOES TRANSVERSAIS | F3: LOCAL: | G3: SÃO CRISTOVÃO - ARACAJU-SE
A4: DATA: | C4: 05 DE DEZEMBRO 2024 | F4: MATERIAL: | G4: LOCAL
A5: ESTACA | C5: ÁREAS m2 | E5: DISTÂNCIA | F5: VOL.m3 | H5: VOLUME ACUMULADO m3
C6: CORTE | D6: ATERRO | F6: CORTE | G6: ATERRO | H6: CORTE | I6: ATERRO
A7: 00+00,00 | C7: 2.68 | D7: 33.97 | E7: 0 | F7: =E7*C7 -> 0 | G7: =E7*D7 -> 0 | H7: =F7 -> 0 | I7: =G7 -> 0
A8: 00+10,00 | C8: 0.96 | D8: 53.1 | E8: 10 | F8: =E8*C8 -> 9.6 | G8: =E8*D8 -> 531 | H8: =H7+F8 -> 9.6 | I8: =I7+G8 -> 531
A9: 01+00,00 | C9: 1.21 | D9: 45.81 | E9: 10 | F9: =E9*C9 -> 12.1 | G9: =E9*D9 -> 458.1 | H9: =H8+F9 -> 21.7 | I9: =I8+G9 -> 989.1
A10: 01+10,00 | C10: 1.41 | D10: 26.53 | E10: 10 | F10: =E10*C10 -> 14.1 | G10: =E10*D10 -> 265.3 | H10: =H9+F10 -> 35.8 | I10: =I9+G10 -> 1254.4
A11: 02+00,00 | C11: 7.06 | D11: 14 | E11: 10 | F11: =E11*C11 -> 70.6 | G11: =E11*D11 -> 140 | H11: =H10+F11 -> 106.4 | I11: =I10+G11 -> 1394.4
A12: 02+10,00 | C12: 16.24 | D12: 6.68 | E12: 10 | F12: =E12*C12 -> 162.4 | G12: =E12*D12 -> 66.8 | H12: =H11+F12 -> 268.8 | I12: =I11+G12 -> 1461.2
A13: 03+00,00 | C13: 24.09 | D13: 2.84 | E13: 10 | F13: =E13*C13 -> 240.9 | G13: =E13*D13 -> 28.4 | H13: =H12+F13 -> 509.7 | I13: =I12+G13 -> 1489.6
A14: 03+10,00 | C14: 27.29 | D14: 5.38 | E14: 10 | F14: =E14*C14 -> 272.9 | G14: =E14*D14 -> 53.8 | H14: =H13+F14 -> 782.6 | I14: =I13+G14 -> 1543.4
A15: 04+00,00 | C15: 22.42 | D15: 37.14 | E15: 10 | F15: =E15*C15 -> 224.2 | G15: =E15*D15 -> 371.4 | H15: =H14+F15 -> 1006.8 | I15: =I14+G15 -> 1914.8
A16: 04+10,00 | C16: 0 | D16: 33.34 | E16: 10 | F16: =E16*C16 -> 0 | G16: =E16*D16 -> 333.4 | H16: =H15+F16 -> 1006.8 | I16: =I15+G16 -> 2248.2
F17: VOLUME TOTAL CORTE | H17: =H16 -> 1006.8 | I17: ----
F18: VOLUME TOTAL ATERRO | I18: =I16 -> 2248.2
