Workbook
Name _e_: " e "
Name _Sng1: {"um","mil","um milhão","um bilhão","um trilhão"}
Name _sp_: " "
Name Cem: {"cento","duzentos","trezentos","quatrocentos","quinhentos","seiscentos","setecentos","oitocentos","novecentos"}
Name Dez: {"dez","vinte","trinta","quarenta","cinquenta","sessenta","setenta","oitenta","noventa"}
Name OCem: "cem"
Name Plu: {""," mil"," milhões"," bilhões"," trilhões"}
Name Sml: {"um","dois","três","quatro","cinco","seis","sete","oito","nove","dez","onze","doze","treze","quatorze","quinze","dezesseis","dezessete","dezoito","dezenove"}
Name Sng: {"um","mil","um milhão","um bilhão","um trilhão"}
Name Print_Titles: 'BM 01 '!$M:$N,'BM 01 '!$1:$12
Name _Sng1: {"um","mil","um milhão","um bilhão","um trilhão"}
Name _e_: " e "
Name _sp_: " "
Name Cem: {"cento","duzentos","trezentos","quatrocentos","quinhentos","seiscentos","setecentos","oitocentos","novecentos"}
Name Dez: {"dez","vinte","trinta","quarenta","cinquenta","sessenta","setenta","oitenta","noventa"}
Name OCem: "cem"
Name Plu: {""," mil"," milhões"," bilhões"," trilhões"}
Name Sml: {"um","dois","três","quatro","cinco","seis","sete","oito","nove","dez","onze","doze","treze","quatorze","quinze","dezesseis","dezessete","dezoito","dezenove"}
Name Sng: {"um","mil","um milhão","um bilhão","um trilhão"}
Name Print_Titles: 'BM 02 '!$M:$N,'BM 02 '!$1:$12
Name _e_: " e "
Name _Sng1: {"um","mil","um milhão","um bilhão","um trilhão"}
Name _sp_: " "
Name Cem: {"cento","duzentos","trezentos","quatrocentos","quinhentos","seiscentos","setecentos","oitocentos","novecentos"}
Name Dez: {"dez","vinte","trinta","quarenta","cinquenta","sessenta","setenta","oitenta","noventa"}
Name OCem: "cem"
Name Plu: {""," mil"," milhões"," bilhões"," trilhões"}
Name Sml: {"um","dois","três","quatro","cinco","seis","sete","oito","nove","dez","onze","doze","treze","quatorze","quinze","dezesseis","dezessete","dezoito","dezenove"}
Name Sng: {"um","mil","um milhão","um bilhão","um trilhão"}
Name Print_Titles: 'BM 03 '!$M:$N,'BM 03 '!$1:$12
Name _Sng1: {"um","mil","um milhão","um bilhão","um trilhão"}
Name _e_: " e "
Name _Sng1: {"um","mil","um milhão","um bilhão","um trilhão"}
Name _sp_: " "
Name Cem: {"cento","duzentos","trezentos","quatrocentos","quinhentos","seiscentos","setecentos","oitocentos","novecentos"}
Name Dez: {"dez","vinte","trinta","quarenta","cinquenta","sessenta","setenta","oitenta","noventa"}
Name OCem: "cem"
Name Plu: {""," mil"," milhões"," bilhões"," trilhões"}
Name Sml: {"um","dois","três","quatro","cinco","seis","sete","oito","nove","dez","onze","doze","treze","quatorze","quinze","dezesseis","dezessete","dezoito","dezenove"}
Name Sng: {"um","mil","um milhão","um bilhão","um trilhão"}
Name Print_Titles: 'BM 04 '!$M:$N,'BM 04 '!$1:$12
Name _Sng1: {"um","mil","um milhão","um bilhão","um trilhão"}
Name _Sng1: {"um","mil","um milhão","um bilhão","um trilhão"}

Sheet BM 01 
A1: PREFEITURA MUNICIPAL DE SÃO CRISTÓVÃO | D1: BOLETIM DE MEDIÇÃO | F1: N° 01 | G1: Data da Medição: | I1: VALOR CONTRATADO
G2: 45835 | I2: =J437 -> 12360218
A4: SECRETARIA MUNICIPAL DA INFRAESTRUTURA E URBANISMO | D4: Período da Medição: | I4: Contrato n.º | K4: 004/2025
D5: 45870 | E5: a | F5: 45899 | G5: =(F5-D5)+1 -> 30
A6: OBJETO DO CONTRATO: | I6: Data da Assinatura: | K6: 45694 | N6: VISTO:
A7: CONSTRUÇÃO DA 1° ETAPA DO CONJUNTO HABITACIONAL LOURDES AZEVEDO, LOCALIZADO NO BAIRRO EDUARDO GOMES - SÃO CRISTÓVÃO | I7: Ordem de Serviço: | K7: 45833
A9: CONTRATADA: | F9: CNPJ; | I9: Prazo da Execução: | K9: =K7 -> 45833 | L9: 46198 | M9: =((L9-K9)+1)/30 -> 12.2
A10: CONSTRUTORA MVA LTDA | F10: 07.169.379/0001-07 | I10: Prazo da Vigênca: | K10: =K9 -> 45833 | L10: 46198 | M10: =((L10-K10)+1)/30 -> 12.2
A11: Item | B11: Descrição dos Serviços | C11: Unidades | D11: Quantidades | I11: Valores (R$) | O11: Percentuais (%)
D12: Contratada | E12: Acumulado Anterior | F12: Do Período | G12: Acumulado até o Período | H12: Saldo a Medir | I12: Preço Unitário | J12: Valor Contratado | K12: Acumulado Anterior | L12: Do Período | M12: Acumulado até o Período | N12: Saldo a Medir | O12: Até o Período | P12: A Executar
A13: 1 | B13: Administração Local | J13: =J14+J18+J20+J55 -> 1438019 | K13: =K14+K18+K20+K55 -> 0 | L13: =L14+L18+L20+L55 -> 105184.38 | M13: =M14+M18+M20+M55 -> 105184.38 | N13: =N14+N18+N20+N55 -> 1332834.6 | O13: =IF((M13/J13)=0," ",(M13/J13)*100) -> 7.3145336 | P13: =IF((N13/J13)=0," ",(N13/J13)*100) -> 92.685466
A14: 01.01 | B14: ADMINISTRAÇÃO DA OBRA | J14: =J15+J16+J17 -> 731541.41 | K14: =K15+K16+K17 -> 0 | L14: =L15+L16+L17 -> 6949.64 | M14: =M15+M16+M17 -> 6949.64 | N14: =N15+N16+N17 -> 724591.77
A15: 01.01.001 | B15: Equipe Dirigente | C15: un | D15: 1 | F15: 0.0095 | G15: =E15+F15 -> 0.0095 | H15: =D15-G15 -> 0.9905 | I15: 707205.69 | J15: =ROUND(D15*I15,2) -> 707205.69 | K15: =ROUND(E15*I15,2) -> 0 | L15: =ROUND(F15*I15,2) -> 6718.45 | M15: =K15+L15 -> 6718.45 | N15: =J15-M15 -> 700487.24 | O15: =IF((M15/J15)=0," ",(M15/J15)*100) -> 0.94999943 | P15: =IF((N15/J15)=0," ",(N15/J15)*100) -> 99.050001
A16: 01.01.002 | B16: Equipamentos de Apoio à Produção | C16: un | D16: 1 | F16: 0.0095 | G16: =E16+F16 -> 0.0095 | H16: =D16-G16 -> 0.9905 | I16: 13478.08 | J16: =ROUND(D16*I16,2) -> 13478.08 | K16: =ROUND(E16*I16,2) -> 0 | L16: =ROUND(F16*I16,2) -> 128.04 | M16: =K16+L16 -> 128.04 | N16: =J16-M16 -> 13350.04 | O16: =IF((M16/J16)=0," ",(M16/J16)*100) -> 0.94998694 | P16: =IF((N16/J16)=0," ",(N16/J16)*100) -> 99.050013
A17: 01.01.003 | B17: Manutenção do Canteiro | C17: un | D17: 1 | F17: 0.0095 | G17: =E17+F17 -> 0.0095 | H17: =D17-G17 -> 0.9905 | I17: 10857.64 | J17: =ROUND(D17*I17,2) -> 10857.64 | K17: =ROUND(E17*I17,2) -> 0 | L17: =ROUND(F17*I17,2) -> 103.15 | M17: =K17+L17 -> 103.15 | N17: =J17-M17 -> 10754.49 | O17: =IF((M17/J17)=0," ",(M17/J17)*100) -> 0.95002229 | P17: =IF((N17/J17)=0," ",(N17/J17)*100) -> 99.049978
A18: 01.02 | B18: MOBILIZAÇÃO E DESMOBILIZAÇÃO | J18: =J19 -> 12859.47 | K18: =K19 -> 0 | L18: =L19 -> 6429.74 | M18: =M19 -> 6429.74 | N18: =N19 -> 6429.73 | O18: =IF((M18/J18)=0," ",(M18/J18)*100) -> 50.000039 | P18: =IF((N18/J18)=0," ",(N18/J18)*100) -> 49.999961
A19: 01.02.001 | B19: Caminhão Carroceria de madeira 9 t - fonte:DNIT | C19: h | D19: 111.27 | F19: =D19/2 -> 55.635 | G19: =E19+F19 -> 55.635 | H19: =D19-G19 -> 55.635 | I19: 115.57 | J19: =ROUND(D19*I19,2) -> 12859.47 | K19: =ROUND(E19*I19,2) -> 0 | L19: =ROUND(F19*I19,2) -> 6429.74 | M19: =K19+L19 -> 6429.74 | N19: =J19-M19 -> 6429.73 | O19: =IF((M19/J19)=0," ",(M19/J19)*100) -> 50.000039 | P19: =IF((N19/J19)=0," ",(N19/J19)*100) -> 49.999961
A20: 01.03 | B20: SERVIÇOS PRELIMINARES/INSTALAÇÃO CANTEIRO/MOBILIZAÇÃO | G20: =E20+F20 -> 0 | J20: =J21+J24+J26+J28 -> 574523.54 | K20: =K21+K24+K26+K28 -> 0 | L20: =L21+L24+L26+L28 -> 91805 | M20: =M21+M24+M26+M28 -> 91805 | N20: =N21+N24+N26+N28 -> 482718.54 | O20: =IF((M20/J20)=0," ",(M20/J20)*100) -> 15.979328 | P20: =IF((N20/J20)=0," ",(N20/J20)*100) -> 84.020672
A21: 01.03.001 | B21: SERVIÇOS PRELIMINARES | J21: =J22+J23 -> 6858.06 | K21: =SUM(K22:K23) -> 0 | L21: =ROUND(F21*J21,2) -> 0 | M21: =K21+L21 -> 0 | N21: =J21-M21 -> 6858.06 | O21: =IF((M21/J21)=0," ",(M21/J21)*100) | P21: =IF((N21/J21)=0," ",(N21/J21)*100) -> 100
A22: 01.03.001.001 | B22: Placa de obra em lona com impressão digital 1,50 x 2,00m, inclusive estrutura em metalon 20 x 20cm e escoramento, instalada - Rev 02 - 09/2021 | C22: un | D22: 2 | G22: =E22+F22 -> 0 | H22: =D22-G22 -> 2 | I22: 902.55 | J22: =ROUND(D22*I22,2) -> 1805.1 | K22: =ROUND(E22*I22,2) -> 0 | L22: =ROUND(F22*I22,2) -> 0 | M22: =K22+L22 -> 0 | N22: =J22-M22 -> 1805.1 | O22: =IF((M22/J22)=0," ",(M22/J22)*100) | P22: =IF((N22/J22)=0," ",(N22/J22)*100) -> 100
A23: 01.03.001.002 | B23: Fornecimento e instalação de placa de obra com chapa galvanizada e estrutura de madeira. af_03/2022_ps | C23: m2 | D23: 12 | F23: 12 | G23: =E23+F23 -> 12 | H23: =D23-G23 -> 0 | I23: 421.08 | J23: =ROUND(D23*I23,2) -> 5052.96 | K23: =ROUND(E23*I23,2) -> 0 | L23: =ROUND(F23*I23,2) -> 5052.96 | M23: =K23+L23 -> 5052.96 | N23: =J23-M23 -> 0 | O23: =IF((M23/J23)=0," ",(M23/J23)*100) -> 100 | P23: =IF((N23/J23)=0," ",(N23/J23)*100)
A24: 01.03.002 | B24: Locação de Obra - Casas Tipo 01 | G24: =E24+F24 -> 0 | H24: =D24-G24 -> 0 | J24: =J25 -> 40654.87 | K24: =K25 -> 0 | L24: =L25 -> 0 | M24: =M25 -> 0 | N24: =N25 -> 40654.87 | O24: =IF((M24/J24)=0," ",(M24/J24)*100) | P24: =IF((N24/J24)=0," ",(N24/J24)*100) -> 100
A25: 01.03.002.001 | B25: Locação de construção de edificação até 200m2, inclusive execução de gabarito de madeira | C25: m2 | D25: 3699.26 | G25: =E25+F25 -> 0 | H25: =D25-G25 -> 3699.26 | I25: 10.99 | J25: =ROUND(D25*I25,2) -> 40654.87 | K25: =ROUND(E25*I25,2) -> 0 | L25: =ROUND(F25*I25,2) -> 0 | M25: =K25+L25 -> 0 | N25: =J25-M25 -> 40654.87 | O25: =IF((M25/J25)=0," ",(M25/J25)*100) | P25: =IF((N25/J25)=0," ",(N25/J25)*100) -> 100
A26: 01.03.003 | B26: Locação de Obra - Casas Tipo 02 | G26: =E26+F26 -> 0 | H26: =D26-G26 -> 0 | J26: =J27 -> 3474.38 | K26: =K27 -> 0 | L26: =L27 -> 0 | M26: =M27 -> 0 | N26: =N27 -> 3474.38 | O26: =IF((M26/J26)=0," ",(M26/J26)*100) | P26: =IF((N26/J26)=0," ",(N26/J26)*100) -> 100
A27: 01.03.003.001 | B27: Locação de construção de edificação até 200m2, inclusive execução de gabarito de madeira | C27: m2 | D27: 316.14 | G27: =E27+F27 -> 0 | H27: =D27-G27 -> 316.14 | I27: 10.99 | J27: =ROUND(D27*I27,2) -> 3474.38 | K27: =ROUND(E27*I27,2) -> 0 | L27: =ROUND(F27*I27,2) -> 0 | M27: =K27+L27 -> 0 | N27: =J27-M27 -> 3474.38 | O27: =IF((M27/J27)=0," ",(M27/J27)*100) | P27: =IF((N27/J27)=0," ",(N27/J27)*100) -> 100
A28: 01.03.004 | B28: INSTALAÇÃO DO CANTEIRO | G28: =E28+F28 -> 0 | H28: =D28-G28 -> 0 | J28: =SUM(J29:J54) -> 523536.23 | K28: =SUM(K29:K54) -> 0 | L28: =SUM(L29:L54) -> 91805 | M28: =SUM(M29:M54) -> 91805 | N28: =SUM(N29:N54) -> 431731.23 | O28: =IF((M28/J28)=0," ",(M28/J28)*100) -> 17.535558 | P28: =IF((N28/J28)=0," ",(N28/J28)*100) -> 82.464442
A29: 01.03.004.001 | B29: Barracão para Obras de Médio Porte Reaproveitamento 2 vezes | C29: m2 | D29: 80 | G29: =E29+F29 -> 0 | H29: =D29-G29 -> 80 | I29: 289.31 | J29: =ROUND(D29*I29,2) -> 23144.8 | K29: =ROUND(E29*I29,2) -> 0 | L29: =ROUND(F29*I29,2) -> 0 | M29: =K29+L29 -> 0 | N29: =J29-M29 -> 23144.8 | O29: =IF((M29/J29)=0," ",(M29/J29)*100) | P29: =IF((N29/J29)=0," ",(N29/J29)*100) -> 100
A30: 01.03.004.002 | B30: Barracão para escritório de obra porte pequeno s=25,41m2 com materiais novos | C30: un | D30: 1 | G30: =E30+F30 -> 0 | H30: =D30-G30 -> 1 | I30: 18137.15 | J30: =ROUND(D30*I30,2) -> 18137.15 | K30: =ROUND(E30*I30,2) -> 0 | L30: =ROUND(F30*I30,2) -> 0 | M30: =K30+L30 -> 0 | N30: =J30-M30 -> 18137.15 | O30: =IF((M30/J30)=0," ",(M30/J30)*100) | P30: =IF((N30/J30)=0," ",(N30/J30)*100) -> 100
A31: 01.03.004.003 | B31: Instalação provisória de energia elétrica, aerea, trifasica, em poste galvanizado, exclusive fornecimento do medidor | C31: un | D31: 1 | G31: =E31+F31 -> 0 | H31: =D31-G31 -> 1 | I31: 1886.97 | J31: =ROUND(D31*I31,2) -> 1886.97 | K31: =ROUND(E31*I31,2) -> 0 | L31: =ROUND(F31*I31,2) -> 0 | M31: =K31+L31 -> 0 | N31: =J31-M31 -> 1886.97 | O31: =IF((M31/J31)=0," ",(M31/J31)*100) | P31: =IF((N31/J31)=0," ",(N31/J31)*100) -> 100
A32: 01.03.004.004 | B32: Ligação Predial de Água em Mureta de Concreto, Provisória ou Definitiva, com Fornecimento de Material, inclusive Mureta e Hidrômetro, Rede DN 50mm - Rev 03_10/2022 | C32: UN | D32: 1 | G32: =E32+F32 -> 0 | H32: =D32-G32 -> 1 | I32: 652.4 | J32: =ROUND(D32*I32,2) -> 652.4 | K32: =ROUND(E32*I32,2) -> 0 | L32: =ROUND(F32*I32,2) -> 0 | M32: =K32+L32 -> 0 | N32: =J32-M32 -> 652.4 | O32: =IF((M32/J32)=0," ",(M32/J32)*100) | P32: =IF((N32/J32)=0," ",(N32/J32)*100) -> 100
A33: 01.03.004.005 | B33: Aluguel de banheiro químico, com 03 limpezas semanais | C33: mês | D33: 44 | G33: =E33+F33 -> 0 | H33: =D33-G33 -> 44 | I33: 644.07 | J33: =ROUND(D33*I33,2) -> 28339.08 | K33: =ROUND(E33*I33,2) -> 0 | L33: =ROUND(F33*I33,2) -> 0 | M33: =K33+L33 -> 0 | N33: =J33-M33 -> 28339.08 | O33: =IF((M33/J33)=0," ",(M33/J33)*100) | P33: =IF((N33/J33)=0," ",(N33/J33)*100) -> 100
A34: 01.03.004.006 | B34: Tapume em chapa galvanizada nº30, esp=0,35mm, h=2,00m, exclusive pintura | C34: m | D34: 912.28 | F34: 430 | G34: =E34+F34 -> 430 | H34: =D34-G34 -> 482.28 | I34: 213.5 | J34: =ROUND(D34*I34,2) -> 194771.78 | K34: =ROUND(E34*I34,2) -> 0 | L34: =ROUND(F34*I34,2) -> 91805 | M34: =K34+L34 -> 91805 | N34: =J34-M34 -> 102966.78 | O34: =IF((M34/J34)=0," ",(M34/J34)*100) -> 47.134652 | P34: =IF((N34/J34)=0," ",(N34/J34)*100) -> 52.865348
A35: 01.03.004.007 | B35: Sondagem a trado para Estudo de Jazida | C35: m | D35: 100 | G35: =E35+F35 -> 0 | H35: =D35-G35 -> 100 | I35: 120.34 | J35: =ROUND(D35*I35,2) -> 12034 | K35: =ROUND(E35*I35,2) -> 0 | L35: =ROUND(F35*I35,2) -> 0 | M35: =K35+L35 -> 0 | N35: =J35-M35 -> 12034 | O35: =IF((M35/J35)=0," ",(M35/J35)*100) | P35: =IF((N35/J35)=0," ",(N35/J35)*100) -> 100
A36: 01.03.004.008 | B36: Sondagem a percussão | C36: m | D36: 124 | G36: =E36+F36 -> 0 | H36: =D36-G36 -> 124 | I36: 186.53 | J36: =ROUND(D36*I36,2) -> 23129.72 | K36: =ROUND(E36*I36,2) -> 0 | L36: =ROUND(F36*I36,2) -> 0 | M36: =K36+L36 -> 0 | N36: =J36-M36 -> 23129.72 | O36: =IF((M36/J36)=0," ",(M36/J36)*100) | P36: =IF((N36/J36)=0," ",(N36/J36)*100) -> 100
A37: 01.03.004.009 | B37: Ensaio - Granulometria combinada (peneiramento + sedimentação) | C37: un | D37: 5 | G37: =E37+F37 -> 0 | H37: =D37-G37 -> 5 | I37: 746.11 | J37: =ROUND(D37*I37,2) -> 3730.55 | K37: =ROUND(E37*I37,2) -> 0 | L37: =ROUND(F37*I37,2) -> 0 | M37: =K37+L37 -> 0 | N37: =J37-M37 -> 3730.55 | O37: =IF((M37/J37)=0," ",(M37/J37)*100) | P37: =IF((N37/J37)=0," ",(N37/J37)*100) -> 100
A38: 01.03.004.010 | B38: Ensaio - Granulometria por peneiramento | C38: un | D38: 24 | G38: =E38+F38 -> 0 | H38: =D38-G38 -> 24 | I38: 198.56 | J38: =ROUND(D38*I38,2) -> 4765.44 | K38: =ROUND(E38*I38,2) -> 0 | L38: =ROUND(F38*I38,2) -> 0 | M38: =K38+L38 -> 0 | N38: =J38-M38 -> 4765.44 | O38: =IF((M38/J38)=0," ",(M38/J38)*100) | P38: =IF((N38/J38)=0," ",(N38/J38)*100) -> 100
A39: 01.03.004.011 | B39: Ensaio - Compactação Proctor Normal com reuso de material (6 pontos) | C39: un | D39: 32 | G39: =E39+F39 -> 0 | H39: =D39-G39 -> 32 | I39: 264.75 | J39: =ROUND(D39*I39,2) -> 8472 | K39: =ROUND(E39*I39,2) -> 0 | L39: =ROUND(F39*I39,2) -> 0 | M39: =K39+L39 -> 0 | N39: =J39-M39 -> 8472 | O39: =IF((M39/J39)=0," ",(M39/J39)*100) | P39: =IF((N39/J39)=0," ",(N39/J39)*100) -> 100
A40: 01.03.004.012 | B40: Ensaio - Índice de Suporte Califórnia - CBR | C40: un | D40: 19 | G40: =E40+F40 -> 0 | H40: =D40-G40 -> 19 | I40: 342.97 | J40: =ROUND(D40*I40,2) -> 6516.43 | K40: =ROUND(E40*I40,2) -> 0 | L40: =ROUND(F40*I40,2) -> 0 | M40: =K40+L40 -> 0 | N40: =J40-M40 -> 6516.43 | O40: =IF((M40/J40)=0," ",(M40/J40)*100) | P40: =IF((N40/J40)=0," ",(N40/J40)*100) -> 100
A41: 01.03.004.013 | B41: Ensaio - Limite de liquidez | C41: un | D41: 29 | G41: =E41+F41 -> 0 | H41: =D41-G41 -> 29 | I41: 198.56 | J41: =ROUND(D41*I41,2) -> 5758.24 | K41: =ROUND(E41*I41,2) -> 0 | L41: =ROUND(F41*I41,2) -> 0 | M41: =K41+L41 -> 0 | N41: =J41-M41 -> 5758.24 | O41: =IF((M41/J41)=0," ",(M41/J41)*100) | P41: =IF((N41/J41)=0," ",(N41/J41)*100) -> 100
A42: 01.03.004.014 | B42: Ensaio - Limite de plasticidade | C42: un | D42: 29 | G42: =E42+F42 -> 0 | H42: =D42-G42 -> 29 | I42: 198.56 | J42: =ROUND(D42*I42,2) -> 5758.24 | K42: =ROUND(E42*I42,2) -> 0 | L42: =ROUND(F42*I42,2) -> 0 | M42: =K42+L42 -> 0 | N42: =J42-M42 -> 5758.24 | O42: =IF((M42/J42)=0," ",(M42/J42)*100) | P42: =IF((N42/J42)=0," ",(N42/J42)*100) -> 100
...

Sheet MEMORIAL DE CÁLCULO 01
A1: MEMÓRIA DE CALCULO - 1° MEDIÇÃO CONJUNTO LOURDES AZEVEDO
A2: ITEM | B2: DESCRIÇÃO DO SERVIÇO | C2: Largura | D2: Comprimento | E2: Altura | F2: Quantidade | G2: Total | I2: Unidade | J2: Observação/Justificativa
A3: 01.01 | B3: ADMINISTRAÇÃO DA OBRA
A4: 01.01.001 | B4: Equipe Dirigente | H4: ='BM 01 '!F15 -> 0.0095 | I4: un | J4: medido proporcionalmente
A5: 01.01.002 | B5: Equipamentos de Apoio à Produção | H5: ='BM 01 '!F16 -> 0.0095 | I5: un | J5: medido proporcionalmente
A6: 01.01.003 | B6: Manutenção do Canteiro | H6: ='BM 01 '!F17 -> 0.0095 | I6: un | J6: medido proporcionalmente
A7: 01.02 | B7: MOBILIZAÇÃO E DESMOBILIZAÇÃO
A8: 04.005 | B8: Caminhão Carroceria de madeira 9 t - fonte:DNIT | H8: ='BM 01 '!F19 -> 55.635 | I8: h | J8: medido 50%
A9: 01.03 | B9: SERVIÇOS PRELIMINARES/INSTALAÇÃO CANTEIRO/MOBILIZAÇÃO
A10: 01.03.001.002 | B10: Fornecimento e instalação de placa de obra com chapa galvanizada e estrutura de madeira. af_03/2022_ps | C10: 3 | E10: 2 | F10: 2 | H10: ='BM 01 '!F23 -> 12 | I10: m2 | J10: Instalação da Placa da Obra do Governo e do Municipio
A11: 01.03.004.006 | B11: Tapume em chapa galvanizada nº30, esp=0,35mm, h=2,00m, exclusive pintura | D11: 430 | H11: ='BM 01 '!F34 -> 430 | I11: m | J11: Fechamento Parcial do empreendimento com telha tapume.

Sheet BM 02 
A1: PREFEITURA MUNICIPAL DE SÃO CRISTÓVÃO | D1: BOLETIM DE MEDIÇÃO | F1: N° 02 | G1: Data da Medição: | I1: VALOR CONTRATADO
G2: 45945 | I2: =J437 -> 12360218
A4: SECRETARIA MUNICIPAL DA INFRAESTRUTURA E URBANISMO | D4: Período da Medição: | I4: Contrato n.º | K4: 004/2025
D5: 45901 | E5: a | F5: 45930 | G5: =(F5-D5)+1 -> 30
A6: OBJETO DO CONTRATO: | I6: Data da Assinatura: | K6: 45694 | N6: VISTO:
A7: CONSTRUÇÃO DA 1° ETAPA DO CONJUNTO HABITACIONAL LOURDES AZEVEDO, LOCALIZADO NO BAIRRO EDUARDO GOMES - SÃO CRISTÓVÃO | I7: Ordem de Serviço: | K7: 45833
A9: CONTRATADA: | F9: CNPJ; | I9: Prazo da Execução: | K9: =K7 -> 45833 | L9: 46198 | M9: =((L9-K9)+1)/30 -> 12.2
A10: CONSTRUTORA MVA LTDA | F10: 07.169.379/0001-07 | I10: Prazo da Vigênca: | K10: =K9 -> 45833 | L10: 46198 | M10: =((L10-K10)+1)/30 -> 12.2
A11: Item | B11: Descrição dos Serviços | C11: Unidades | D11: Quantidades | I11: Valores (R$) | O11: Percentuais (%)
D12: Contratada | E12: Acumulado Anterior | F12: Do Período | G12: Acumulado até o Período | H12: Saldo a Medir | I12: Preço Unitário | J12: Valor Contratado | K12: Acumulado Anterior | L12: Do Período | M12: Acumulado até o Período | N12: Saldo a Medir | O12: Até o Período | P12: A Executar
A13: 1 | B13: Administração Local | J13: =J14+J18+J20+J55 -> 1438019 | K13: =K14+K18+K20+K55 -> 105184.38 | L13: =L14+L18+L20+L55 -> 26543.94 | M13: =M14+M18+M20+M55 -> 131728.32 | N13: =N14+N18+N20+N55 -> 1306290.6 | O13: =IF((M13/J13)=0," ",(M13/J13)*100) -> 9.1604022 | P13: =IF((N13/J13)=0," ",(N13/J13)*100) -> 90.839598
A14: 01.01 | B14: ADMINISTRAÇÃO DA OBRA | J14: =J15+J16+J17 -> 731541.41 | K14: =K15+K16+K17 -> 6949.64 | L14: =L15+L16+L17 -> 5193.94 | M14: =M15+M16+M17 -> 12143.58 | N14: =N15+N16+N17 -> 719397.83
A15: 01.01.001 | B15: Equipe Dirigente | C15: un | D15: 1 | E15: ='BM 01 '!G15 -> 0.0095 | F15: 0.0071 | G15: =E15+F15 -> 0.0166 | H15: =D15-G15 -> 0.9834 | I15: 707205.69 | J15: =ROUND(D15*I15,2) -> 707205.69 | K15: =ROUND(E15*I15,2) -> 6718.45 | L15: =ROUND(F15*I15,2) -> 5021.16 | M15: =K15+L15 -> 11739.61 | N15: =J15-M15 -> 695466.08 | O15: =IF((M15/J15)=0," ",(M15/J15)*100) -> 1.6599994 | P15: =IF((N15/J15)=0," ",(N15/J15)*100) -> 98.340001
A16: 01.01.002 | B16: Equipamentos de Apoio à Produção | C16: un | D16: 1 | E16: ='BM 01 '!G16 -> 0.0095 | F16: 0.0071 | G16: =E16+F16 -> 0.0166 | H16: =D16-G16 -> 0.9834 | I16: 13478.08 | J16: =ROUND(D16*I16,2) -> 13478.08 | K16: =ROUND(E16*I16,2) -> 128.04 | L16: =ROUND(F16*I16,2) -> 95.69 | M16: =K16+L16 -> 223.73 | N16: =J16-M16 -> 13254.35 | O16: =IF((M16/J16)=0," ",(M16/J16)*100) -> 1.6599545 | P16: =IF((N16/J16)=0," ",(N16/J16)*100) -> 98.340045
A17: 01.01.003 | B17: Manutenção do Canteiro | C17: un | D17: 1 | E17: ='BM 01 '!G17 -> 0.0095 | F17: 0.0071 | G17: =E17+F17 -> 0.0166 | H17: =D17-G17 -> 0.9834 | I17: 10857.64 | J17: =ROUND(D17*I17,2) -> 10857.64 | K17: =ROUND(E17*I17,2) -> 103.15 | L17: =ROUND(F17*I17,2) -> 77.09 | M17: =K17+L17 -> 180.24 | N17: =J17-M17 -> 10677.4 | O17: =IF((M17/J17)=0," ",(M17/J17)*100) -> 1.6600293 | P17: =IF((N17/J17)=0," ",(N17/J17)*100) -> 98.339971
A18: 01.02 | B18: MOBILIZAÇÃO E DESMOBILIZAÇÃO | J18: =J19 -> 12859.47 | K18: =K19 -> 6429.74 | L18: =L19 -> 0 | M18: =M19 -> 6429.74 | N18: =N19 -> 6429.73 | O18: =IF((M18/J18)=0," ",(M18/J18)*100) -> 50.000039 | P18: =IF((N18/J18)=0," ",(N18/J18)*100) -> 49.999961
A19: 01.02.001 | B19: Caminhão Carroceria de madeira 9 t - fonte:DNIT | C19: h | D19: 111.27 | E19: ='BM 01 '!G19 -> 55.635 | G19: =E19+F19 -> 55.635 | H19: =D19-G19 -> 55.635 | I19: 115.57 | J19: =ROUND(D19*I19,2) -> 12859.47 | K19: =ROUND(E19*I19,2) -> 6429.74 | L19: =ROUND(F19*I19,2) -> 0 | M19: =K19+L19 -> 6429.74 | N19: =J19-M19 -> 6429.73 | O19: =IF((M19/J19)=0," ",(M19/J19)*100) -> 50.000039 | P19: =IF((N19/J19)=0," ",(N19/J19)*100) -> 49.999961
A20: 01.03 | B20: SERVIÇOS PRELIMINARES/INSTALAÇÃO CANTEIRO/MOBILIZAÇÃO | G20: =E20+F20 -> 0 | J20: =J21+J24+J26+J28 -> 574523.54 | K20: =K21+K24+K26+K28 -> 91805 | L20: =L21+L24+L26+L28 -> 21350 | M20: =M21+M24+M26+M28 -> 113155 | N20: =N21+N24+N26+N28 -> 461368.54 | O20: =IF((M20/J20)=0," ",(M20/J20)*100) -> 19.695451 | P20: =IF((N20/J20)=0," ",(N20/J20)*100) -> 80.304549
A21: 01.03.001 | B21: SERVIÇOS PRELIMINARES | J21: =J22+J23 -> 6858.06 | K21: =K22+K23 -> 0 | L21: =SUM(L22:L23) -> 0 | M21: =K21+L21 -> 0 | N21: =J21-M21 -> 6858.06 | O21: =IF((M21/J21)=0," ",(M21/J21)*100) | P21: =IF((N21/J21)=0," ",(N21/J21)*100) -> 100
A22: 01.03.001.001 | B22: Placa de obra em lona com impressão digital 1,50 x 2,00m, inclusive estrutura em metalon 20 x 20cm e escoramento, instalada - Rev 02 - 09/2021 | C22: un | D22: 2 | E22: ='BM 01 '!G22 -> 0 | G22: =E22+F22 -> 0 | H22: =D22-G22 -> 2 | I22: 902.55 | J22: =ROUND(D22*I22,2) -> 1805.1 | K22: =ROUND(E22*I22,2) -> 0 | L22: =ROUND(F22*I22,2) -> 0 | M22: =K22+L22 -> 0 | N22: =J22-M22 -> 1805.1 | O22: =IF((M22/J22)=0," ",(M22/J22)*100) | P22: =IF((N22/J22)=0," ",(N22/J22)*100) -> 100
A23: 01.03.001.002 | B23: Fornecimento e instalação de placa de obra com chapa galvanizada e estrutura de madeira. af_03/2022_ps | C23: m2 | D23: 12 | G23: =E23+F23 -> 0 | H23: =D23-G23 -> 12 | I23: 421.08 | J23: =ROUND(D23*I23,2) -> 5052.96 | K23: =ROUND(E23*I23,2) -> 0 | L23: =ROUND(F23*I23,2) -> 0 | M23: =K23+L23 -> 0 | N23: =J23-M23 -> 5052.96 | O23: =IF((M23/J23)=0," ",(M23/J23)*100) | P23: =IF((N23/J23)=0," ",(N23/J23)*100) -> 100
A24: 01.03.002 | B24: Locação de Obra - Casas Tipo 01 | E24: ='BM 01 '!G24 -> 0 | G24: =E24+F24 -> 0 | H24: =D24-G24 -> 0 | J24: =J25 -> 40654.87 | K24: =K25 -> 0 | L24: =L25 -> 0 | M24: =M25 -> 0 | N24: =N25 -> 40654.87 | O24: =IF((M24/J24)=0," ",(M24/J24)*100) | P24: =IF((N24/J24)=0," ",(N24/J24)*100) -> 100
A25: 01.03.002.001 | B25: Locação de construção de edificação até 200m2, inclusive execução de gabarito de madeira | C25: m2 | D25: 3699.26 | E25: ='BM 01 '!G25 -> 0 | G25: =E25+F25 -> 0 | H25: =D25-G25 -> 3699.26 | I25: 10.99 | J25: =ROUND(D25*I25,2) -> 40654.87 | K25: =ROUND(E25*I25,2) -> 0 | L25: =ROUND(F25*I25,2) -> 0 | M25: =K25+L25 -> 0 | N25: =J25-M25 -> 40654.87 | O25: =IF((M25/J25)=0," ",(M25/J25)*100) | P25: =IF((N25/J25)=0," ",(N25/J25)*100) -> 100
A26: 01.03.003 | B26: Locação de Obra - Casas Tipo 02 | E26: ='BM 01 '!G26 -> 0 | G26: =E26+F26 -> 0 | H26: =D26-G26 -> 0 | J26: =J27 -> 3474.38 | K26: =K27 -> 0 | L26: =L27 -> 0 | M26: =M27 -> 0 | N26: =N27 -> 3474.38 | O26: =IF((M26/J26)=0," ",(M26/J26)*100) | P26: =IF((N26/J26)=0," ",(N26/J26)*100) -> 100
A27: 01.03.003.001 | B27: Locação de construção de edificação até 200m2, inclusive execução de gabarito de madeira | C27: m2 | D27: 316.14 | E27: ='BM 01 '!G27 -> 0 | G27: =E27+F27 -> 0 | H27: =D27-G27 -> 316.14 | I27: 10.99 | J27: =ROUND(D27*I27,2) -> 3474.38 | K27: =ROUND(E27*I27,2) -> 0 | L27: =ROUND(F27*I27,2) -> 0 | M27: =K27+L27 -> 0 | N27: =J27-M27 -> 3474.38 | O27: =IF((M27/J27)=0," ",(M27/J27)*100) | P27: =IF((N27/J27)=0," ",(N27/J27)*100) -> 100
A28: 01.03.004 | B28: INSTALAÇÃO DO CANTEIRO | E28: ='BM 01 '!G28 -> 0 | G28: =E28+F28 -> 0 | H28: =D28-G28 -> 0 | J28: =SUM(J29:J54) -> 523536.23 | K28: =SUM(K29:K54) -> 91805 | L28: =SUM(L29:L54) -> 21350 | M28: =SUM(M29:M54) -> 113155 | N28: =SUM(N29:N54) -> 410381.23 | O28: =IF((M28/J28)=0," ",(M28/J28)*100) -> 21.613595 | P28: =IF((N28/J28)=0," ",(N28/J28)*100) -> 78.386405
A29: 01.03.004.001 | B29: Barracão para Obras de Médio Porte Reaproveitamento 2 vezes | C29: m2 | D29: 80 | E29: ='BM 01 '!G29 -> 0 | G29: =E29+F29 -> 0 | H29: =D29-G29 -> 80 | I29: 289.31 | J29: =ROUND(D29*I29,2) -> 23144.8 | K29: =ROUND(E29*I29,2) -> 0 | L29: =ROUND(F29*I29,2) -> 0 | M29: =K29+L29 -> 0 | N29: =J29-M29 -> 23144.8 | O29: =IF((M29/J29)=0," ",(M29/J29)*100) | P29: =IF((N29/J29)=0," ",(N29/J29)*100) -> 100
A30: 01.03.004.002 | B30: Barracão para escritório de obra porte pequeno s=25,41m2 com materiais novos | C30: un | D30: 1 | E30: ='BM 01 '!G30 -> 0 | G30: =E30+F30 -> 0 | H30: =D30-G30 -> 1 | I30: 18137.15 | J30: =ROUND(D30*I30,2) -> 18137.15 | K30: =ROUND(E30*I30,2) -> 0 | L30: =ROUND(F30*I30,2) -> 0 | M30: =K30+L30 -> 0 | N30: =J30-M30 -> 18137.15 | O30: =IF((M30/J30)=0," ",(M30/J30)*100) | P30: =IF((N30/J30)=0," ",(N30/J30)*100) -> 100
A31: 01.03.004.003 | B31: Instalação provisória de energia elétrica, aerea, trifasica, em poste galvanizado, exclusive fornecimento do medidor | C31: un | D31: 1 | E31: ='BM 01 '!G31 -> 0 | G31: =E31+F31 -> 0 | H31: =D31-G31 -> 1 | I31: 1886.97 | J31: =ROUND(D31*I31,2) -> 1886.97 | K31: =ROUND(E31*I31,2) -> 0 | L31: =ROUND(F31*I31,2) -> 0 | M31: =K31+L31 -> 0 | N31: =J31-M31 -> 1886.97 | O31: =IF((M31/J31)=0," ",(M31/J31)*100) | P31: =IF((N31/J31)=0," ",(N31/J31)*100) -> 100
A32: 01.03.004.004 | B32: Ligação Predial de Água em Mureta de Concreto, Provisória ou Definitiva, com Fornecimento de Material, inclusive Mureta e Hidrômetro, Rede DN 50mm - Rev 03_10/2022 | C32: UN | D32: 1 | E32: ='BM 01 '!G32 -> 0 | G32: =E32+F32 -> 0 | H32: =D32-G32 -> 1 | I32: 652.4 | J32: =ROUND(D32*I32,2) -> 652.4 | K32: =ROUND(E32*I32,2) -> 0 | L32: =ROUND(F32*I32,2) -> 0 | M32: =K32+L32 -> 0 | N32: =J32-M32 -> 652.4 | O32: =IF((M32/J32)=0," ",(M32/J32)*100) | P32: =IF((N32/J32)=0," ",(N32/J32)*100) -> 100
A33: 01.03.004.005 | B33: Aluguel de banheiro químico, com 03 limpezas semanais | C33: mês | D33: 44 | E33: ='BM 01 '!G33 -> 0 | G33: =E33+F33 -> 0 | H33: =D33-G33 -> 44 | I33: 644.07 | J33: =ROUND(D33*I33,2) -> 28339.08 | K33: =ROUND(E33*I33,2) -> 0 | L33: =ROUND(F33*I33,2) -> 0 | M33: =K33+L33 -> 0 | N33: =J33-M33 -> 28339.08 | O33: =IF((M33/J33)=0," ",(M33/J33)*100) | P33: =IF((N33/J33)=0," ",(N33/J33)*100) -> 100
A34: 01.03.004.006 | B34: Tapume em chapa galvanizada nº30, esp=0,35mm, h=2,00m, exclusive pintura | C34: m | D34: 912.28 | E34: ='BM 01 '!G34 -> 430 | F34: 100 | G34: =E34+F34 -> 530 | H34: =D34-G34 -> 382.28 | I34: 213.5 | J34: =ROUND(D34*I34,2) -> 194771.78 | K34: =ROUND(E34*I34,2) -> 91805 | L34: =ROUND(F34*I34,2) -> 21350 | M34: =K34+L34 -> 113155 | N34: =J34-M34 -> 81616.78 | O34: =IF((M34/J34)=0," ",(M34/J34)*100) -> 58.096199 | P34: =IF((N34/J34)=0," ",(N34/J34)*100) -> 41.903801
A35: 01.03.004.007 | B35: Sondagem a trado para Estudo de Jazida | C35: m | D35: 100 | E35: ='BM 01 '!G35 -> 0 | G35: =E35+F35 -> 0 | H35: =D35-G35 -> 100 | I35: 120.34 | J35: =ROUND(D35*I35,2) -> 12034 | K35: =ROUND(E35*I35,2) -> 0 | L35: =ROUND(F35*I35,2) -> 0 | M35: =K35+L35 -> 0 | N35: =J35-M35 -> 12034 | O35: =IF((M35/J35)=0," ",(M35/J35)*100) | P35: =IF((N35/J35)=0," ",(N35/J35)*100) -> 100
A36: 01.03.004.008 | B36: Sondagem a percussão | C36: m | D36: 124 | E36: ='BM 01 '!G36 -> 0 | G36: =E36+F36 -> 0 | H36: =D36-G36 -> 124 | I36: 186.53 | J36: =ROUND(D36*I36,2) -> 23129.72 | K36: =ROUND(E36*I36,2) -> 0 | L36: =ROUND(F36*I36,2) -> 0 | M36: =K36+L36 -> 0 | N36: =J36-M36 -> 23129.72 | O36: =IF((M36/J36)=0," ",(M36/J36)*100) | P36: =IF((N36/J36)=0," ",(N36/J36)*100) -> 100
A37: 01.03.004.009 | B37: Ensaio - Granulometria combinada (peneiramento + sedimentação) | C37: un | D37: 5 | E37: ='BM 01 '!G37 -> 0 | G37: =E37+F37 -> 0 | H37: =D37-G37 -> 5 | I37: 746.11 | J37: =ROUND(D37*I37,2) -> 3730.55 | K37: =ROUND(E37*I37,2) -> 0 | L37: =ROUND(F37*I37,2) -> 0 | M37: =K37+L37 -> 0 | N37: =J37-M37 -> 3730.55 | O37: =IF((M37/J37)=0," ",(M37/J37)*100) | P37: =IF((N37/J37)=0," ",(N37/J37)*100) -> 100
A38: 01.03.004.010 | B38: Ensaio - Granulometria por peneiramento | C38: un | D38: 24 | E38: ='BM 01 '!G38 -> 0 | G38: =E38+F38 -> 0 | H38: =D38-G38 -> 24 | I38: 198.56 | J38: =ROUND(D38*I38,2) -> 4765.44 | K38: =ROUND(E38*I38,2) -> 0 | L38: =ROUND(F38*I38,2) -> 0 | M38: =K38+L38 -> 0 | N38: =J38-M38 -> 4765.44 | O38: =IF((M38/J38)=0," ",(M38/J38)*100) | P38: =IF((N38/J38)=0," ",(N38/J38)*100) -> 100
A39: 01.03.004.011 | B39: Ensaio - Compactação Proctor Normal com reuso de material (6 pontos) | C39: un | D39: 32 | E39: ='BM 01 '!G39 -> 0 | G39: =E39+F39 -> 0 | H39: =D39-G39 -> 32 | I39: 264.75 | J39: =ROUND(D39*I39,2) -> 8472 | K39: =ROUND(E39*I39,2) -> 0 | L39: =ROUND(F39*I39,2) -> 0 | M39: =K39+L39 -> 0 | N39: =J39-M39 -> 8472 | O39: =IF((M39/J39)=0," ",(M39/J39)*100) | P39: =IF((N39/J39)=0," ",(N39/J39)*100) -> 100
A40: 01.03.004.012 | B40: Ensaio - Índice de Suporte Califórnia - CBR | C40: un | D40: 19 | E40: ='BM 01 '!G40 -> 0 | G40: =E40+F40 -> 0 | H40: =D40-G40 -> 19 | I40: 342.97 | J40: =ROUND(D40*I40,2) -> 6516.43 | K40: =ROUND(E40*I40,2) -> 0 | L40: =ROUND(F40*I40,2) -> 0 | M40: =K40+L40 -> 0 | N40: =J40-M40 -> 6516.43 | O40: =IF((M40/J40)=0," ",(M40/J40)*100) | P40: =IF((N40/J40)=0," ",(N40/J40)*100) -> 100
A41: 01.03.004.013 | B41: Ensaio - Limite de liquidez | C41: un | D41: 29 | E41: ='BM 01 '!G41 -> 0 | G41: =E41+F41 -> 0 | H41: =D41-G41 -> 29 | I41: 198.56 | J41: =ROUND(D41*I41,2) -> 5758.24 | K41: =ROUND(E41*I41,2) -> 0 | L41: =ROUND(F41*I41,2) -> 0 | M41: =K41+L41 -> 0 | N41: =J41-M41 -> 5758.24 | O41: =IF((M41/J41)=0," ",(M41/J41)*100) | P41: =IF((N41/J41)=0," ",(N41/J41)*100) -> 100
A42: 01.03.004.014 | B42: Ensaio - Limite de plasticidade | C42: un | D42: 29 | E42: ='BM 01 '!G42 -> 0 | G42: =E42+F42 -> 0 | H42: =D42-G42 -> 29 | I42: 198.56 | J42: =ROUND(D42*I42,2) -> 5758.24 | K42: =ROUND(E42*I42,2) -> 0 | L42: =ROUND(F42*I42,2) -> 0 | M42: =K42+L42 -> 0 | N42: =J42-M42 -> 5758.24 | O42: =IF((M42/J42)=0," ",(M42/J42)*100) | P42: =IF((N42/J42)=0," ",(N42/J42)*100) -> 100
...

Sheet MEMORIAL DE CÁLCULO 02
A1: MEMÓRIA DE CALCULO - 2° MEDIÇÃO CONJUNTO LOURDES AZEVEDO
A2: ITEM | B2: DESCRIÇÃO DO SERVIÇO | C2: Largura | D2: Comprimento | E2: Altura | F2: Quantidade | G2: Total | I2: Unidade | J2: Observação/Justificativa
A3: 01.01 | B3: ADMINISTRAÇÃO DA OBRA
A4: 01.01.001 | B4: Equipe Dirigente | H4: ='BM 02 '!F15 -> 0.0071 | I4: un | J4: medido proporcionalmente
A5: 01.01.002 | B5: Equipamentos de Apoio à Produção | H5: ='BM 02 '!F16 -> 0.0071 | I5: un | J5: medido proporcionalmente
A6: 01.01.003 | B6: Manutenção do Canteiro | H6: ='BM 02 '!F17 -> 0.0071 | I6: un | J6: medido proporcionalmente
A7: 01.03.004 | B7: INSTALAÇÃO DO CANTEIRO
A8: 04.005 | B8: Tapume em chapa galvanizada nº30, esp=0,35mm, h=2,00m, exclusive pinturaNIT | D8: 100 | H8: ='BM 02 '!F34 -> 100 | I8: m | J8: Fechamento Parcial do empreendimento com telha tapume.
A9: 2 | B9: Infraestrutura do Conjunto Habitacional
A10: 02.01 | B10: SERVIÇOS PRELIMINARES
A11: 02.01.001 | B11: Limpeza mecanizada do terreno c/ trator esteira (vegetação rasteira) sem carga e transporte | C11: 52 | D11: 335 | G11: =C11*D11 -> 17420 | H11: ='BM 02 '!F64 -> 19838.68 | I11: m2 | J11: Limpeza do Terreno Mecanizada da area do empreendimento
C12: 30 | D12: 80.62 | G12: =C12*D12 -> 2418.6
A13: 02.01.002 | B13: Carga mecânica de material de 1ª categoria | H13: ='BM 02 '!F65 -> 826.61333 | I13: m3 | J13: Carga Mecanizada de Material oriunda da Limpeza do Terreno (30 % do material)
A14: 02.01.003 | B14: Descarte de resíduos da construção civil em área licenciada | D14: Fator de Empolamento | F14: 1.5 | G14: =F14*H13 -> 1239.92 | H14: ='BM 02 '!F66 -> 1239.9167 | I14: t | J14: Descarte de Material oriunda da Limpeza do Terreno atráves de caçambas
A15: 02.01.004 | B15: Transporte comercial com caminhão basculante de 10m³, em rodovia pavimentada (densidade=1,5t/m³)( SICRO 5914389) | D15: DMT | F15: 17.6 | G15: =F15*H14 -> 21822.533 | H15: ='BM 02 '!F67 -> 21822.547 | I15: tkm | J15: Descarte de Material oriunda da Limpeza do Terreno atráves de caçambas

Sheet BM 03 
A1: PREFEITURA MUNICIPAL DE SÃO CRISTÓVÃO | D1: BOLETIM DE MEDIÇÃO | F1: N° 03 | G1: Data da Medição: | I1: VALOR CONTRATADO
G2: 46136 | I2: =J437 -> 12360218
A4: SECRETARIA MUNICIPAL DA INFRAESTRUTURA E URBANISMO | D4: Período da Medição: | I4: Contrato n.º | K4: 004/2025
D5: 45931 | E5: a | F5: 46136 | G5: =(F5-D5)+1 -> 206
A6: OBJETO DO CONTRATO: | I6: Data da Assinatura: | K6: 45694 | N6: VISTO:
A7: CONSTRUÇÃO DA 1° ETAPA DO CONJUNTO HABITACIONAL LOURDES AZEVEDO, LOCALIZADO NO BAIRRO EDUARDO GOMES - SÃO CRISTÓVÃO | I7: Ordem de Serviço: | K7: 45833
A9: CONTRATADA: | F9: CNPJ; | I9: Prazo da Execução: | K9: =K7 -> 45833 | L9: 46198 | M9: =((L9-K9)+1)/30 -> 12.2
A10: CONSTRUTORA MVA LTDA | F10: 07.169.379/0001-07 | I10: Prazo da Vigênca: | K10: =K9 -> 45833 | L10: 46198 | M10: =((L10-K10)+1)/30 -> 12.2
A11: Item | B11: Descrição dos Serviços | C11: Unidades | D11: Quantidades | I11: Valores (R$) | O11: Percentuais (%)
D12: Contratada | E12: Acumulado Anterior | F12: Do Período | G12: Acumulado até o Período | H12: Saldo a Medir | I12: Preço Unitário | J12: Valor Contratado | K12: Acumulado Anterior | L12: Do Período | M12: Acumulado até o Período | N12: Saldo a Medir | O12: Até o Período | P12: A Executar
A13: 1 | B13: Administração Local | J13: =J14+J18+J20+J55 -> 1438019 | K13: =K14+K18+K20+K55 -> 131728.33 | L13: =L14+L18+L20+L55 -> 129536.45 | M13: =M14+M18+M20+M55 -> 261264.78 | N13: =N14+N18+N20+N55 -> 1176754.2 | O13: =IF((M13/J13)=0," ",(M13/J13)*100) -> 18.168382 | P13: =IF((N13/J13)=0," ",(N13/J13)*100) -> 81.831618
A14: 01.01 | B14: ADMINISTRAÇÃO DA OBRA | J14: =J15+J16+J17 -> 731541.41 | K14: =K15+K16+K17 -> 12143.59 | L14: =L15+L16+L17 -> 20281.46 | M14: =M15+M16+M17 -> 32425.05 | N14: =N15+N16+N17 -> 699116.36
A15: 01.01.001 | B15: Equipe Dirigente | C15: un | D15: 1 | E15: ='BM 02 '!G15 -> 0.0166 | F15: =0.044324279*D15-E15 -> 0.027724279 | G15: =E15+F15 -> 0.044324279 | H15: =D15-G15 -> 0.95567572 | I15: 707205.69 | J15: =ROUND(D15*I15,2) -> 707205.69 | K15: =ROUND(E15*I15,2) -> 11739.61 | L15: =ROUND(F15*I15,2) -> 19606.77 | M15: =K15+L15 -> 31346.38 | N15: =J15-M15 -> 675859.31 | O15: =IF((M15/J15)=0," ",(M15/J15)*100) -> 4.4324276 | P15: =IF((N15/J15)=0," ",(N15/J15)*100) -> 95.567572
A16: 01.01.002 | B16: Equipamentos de Apoio à Produção | C16: un | D16: 1 | E16: ='BM 02 '!G16 -> 0.0166 | F16: =0.044324279*D16-E16 -> 0.027724279 | G16: =E16+F16 -> 0.044324279 | H16: =D16-G16 -> 0.95567572 | I16: 13478.08 | J16: =ROUND(D16*I16,2) -> 13478.08 | K16: =ROUND(E16*I16,2) -> 223.74 | L16: =ROUND(F16*I16,2) -> 373.67 | M16: =K16+L16 -> 597.41 | N16: =J16-M16 -> 12880.67 | O16: =IF((M16/J16)=0," ",(M16/J16)*100) -> 4.4324563 | P16: =IF((N16/J16)=0," ",(N16/J16)*100) -> 95.567544
A17: 01.01.003 | B17: Manutenção do Canteiro | C17: un | D17: 1 | E17: ='BM 02 '!G17 -> 0.0166 | F17: =0.044324279*D17-E17 -> 0.027724279 | G17: =E17+F17 -> 0.044324279 | H17: =D17-G17 -> 0.95567572 | I17: 10857.64 | J17: =ROUND(D17*I17,2) -> 10857.64 | K17: =ROUND(E17*I17,2) -> 180.24 | L17: =ROUND(F17*I17,2) -> 301.02 | M17: =K17+L17 -> 481.26 | N17: =J17-M17 -> 10376.38 | O17: =IF((M17/J17)=0," ",(M17/J17)*100) -> 4.4324549 | P17: =IF((N17/J17)=0," ",(N17/J17)*100) -> 95.567545
A18: 01.02 | B18: MOBILIZAÇÃO E DESMOBILIZAÇÃO | J18: =J19 -> 12859.47 | K18: =K19 -> 6429.74 | L18: =L19 -> 0 | M18: =M19 -> 6429.74 | N18: =N19 -> 6429.73 | O18: =IF((M18/J18)=0," ",(M18/J18)*100) -> 50.000039 | P18: =IF((N18/J18)=0," ",(N18/J18)*100) -> 49.999961
A19: 01.02.001 | B19: Caminhão Carroceria de madeira 9 t - fonte:DNIT | C19: h | D19: 111.27 | E19: ='BM 02 '!G19 -> 55.635 | G19: =E19+F19 -> 55.635 | H19: =D19-G19 -> 55.635 | I19: 115.57 | J19: =ROUND(D19*I19,2) -> 12859.47 | K19: =ROUND(E19*I19,2) -> 6429.74 | L19: =ROUND(F19*I19,2) -> 0 | M19: =K19+L19 -> 6429.74 | N19: =J19-M19 -> 6429.73 | O19: =IF((M19/J19)=0," ",(M19/J19)*100) -> 50.000039 | P19: =IF((N19/J19)=0," ",(N19/J19)*100) -> 49.999961
A20: 01.03 | B20: SERVIÇOS PRELIMINARES/INSTALAÇÃO CANTEIRO/MOBILIZAÇÃO | G20: =E20+F20 -> 0 | J20: =J21+J24+J26+J28 -> 574523.54 | K20: =K21+K24+K26+K28 -> 113155 | L20: =L21+L24+L26+L28 -> 109254.99 | M20: =M21+M24+M26+M28 -> 222409.99 | N20: =N21+N24+N26+N28 -> 352113.55 | O20: =IF((M20/J20)=0," ",(M20/J20)*100) -> 38.712076 | P20: =IF((N20/J20)=0," ",(N20/J20)*100) -> 61.287924
A21: 01.03.001 | B21: SERVIÇOS PRELIMINARES | J21: =J22+J23 -> 6858.06 | K21: =SUM(K22:K23) -> 0 | L21: =SUM(L22:L23) -> 0 | M21: =K21+L21 -> 0 | N21: =J21-M21 -> 6858.06 | O21: =IF((M21/J21)=0," ",(M21/J21)*100) | P21: =IF((N21/J21)=0," ",(N21/J21)*100) -> 100
A22: 01.03.001.001 | B22: Placa de obra em lona com impressão digital 1,50 x 2,00m, inclusive estrutura em metalon 20 x 20cm e escoramento, instalada - Rev 02 - 09/2021 | C22: un | D22: 2 | E22: ='BM 02 '!G22 -> 0 | G22: =E22+F22 -> 0 | H22: =D22-G22 -> 2 | I22: 902.55 | J22: =ROUND(D22*I22,2) -> 1805.1 | K22: =ROUND(E22*I22,2) -> 0 | L22: =ROUND(F22*I22,2) -> 0 | M22: =K22+L22 -> 0 | N22: =J22-M22 -> 1805.1 | O22: =IF((M22/J22)=0," ",(M22/J22)*100) | P22: =IF((N22/J22)=0," ",(N22/J22)*100) -> 100
A23: 01.03.001.002 | B23: Fornecimento e instalação de placa de obra com chapa galvanizada e estrutura de madeira. af_03/2022_ps | C23: m2 | D23: 12 | E23: ='BM 02 '!G23 -> 0 | G23: =E23+F23 -> 0 | H23: =D23-G23 -> 12 | I23: 421.08 | J23: =ROUND(D23*I23,2) -> 5052.96 | K23: =ROUND(E23*I23,2) -> 0 | L23: =ROUND(F23*I23,2) -> 0 | M23: =K23+L23 -> 0 | N23: =J23-M23 -> 5052.96 | O23: =IF((M23/J23)=0," ",(M23/J23)*100) | P23: =IF((N23/J23)=0," ",(N23/J23)*100) -> 100
A24: 01.03.002 | B24: Locação de Obra - Casas Tipo 01 | E24: ='BM 02 '!G24 -> 0 | G24: =E24+F24 -> 0 | H24: =D24-G24 -> 0 | J24: =J25 -> 40654.87 | K24: =K25 -> 0 | L24: =L25 -> 0 | M24: =M25 -> 0 | N24: =N25 -> 40654.87 | O24: =IF((M24/J24)=0," ",(M24/J24)*100) | P24: =IF((N24/J24)=0," ",(N24/J24)*100) -> 100
A25: 01.03.002.001 | B25: Locação de construção de edificação até 200m2, inclusive execução de gabarito de madeira | C25: m2 | D25: 3699.26 | E25: ='BM 02 '!G25 -> 0 | G25: =E25+F25 -> 0 | H25: =D25-G25 -> 3699.26 | I25: 10.99 | J25: =ROUND(D25*I25,2) -> 40654.87 | K25: =ROUND(E25*I25,2) -> 0 | L25: =ROUND(F25*I25,2) -> 0 | M25: =K25+L25 -> 0 | N25: =J25-M25 -> 40654.87 | O25: =IF((M25/J25)=0," ",(M25/J25)*100) | P25: =IF((N25/J25)=0," ",(N25/J25)*100) -> 100
A26: 01.03.003 | B26: Locação de Obra - Casas Tipo 02 | E26: ='BM 02 '!G26 -> 0 | G26: =E26+F26 -> 0 | H26: =D26-G26 -> 0 | J26: =J27 -> 3474.38 | K26: =K27 -> 0 | L26: =L27 -> 0 | M26: =M27 -> 0 | N26: =N27 -> 3474.38 | O26: =IF((M26/J26)=0," ",(M26/J26)*100) | P26: =IF((N26/J26)=0," ",(N26/J26)*100) -> 100
A27: 01.03.003.001 | B27: Locação de construção de edificação até 200m2, inclusive execução de gabarito de madeira | C27: m2 | D27: 316.14 | E27: ='BM 02 '!G27 -> 0 | G27: =E27+F27 -> 0 | H27: =D27-G27 -> 316.14 | I27: 10.99 | J27: =ROUND(D27*I27,2) -> 3474.38 | K27: =ROUND(E27*I27,2) -> 0 | L27: =ROUND(F27*I27,2) -> 0 | M27: =K27+L27 -> 0 | N27: =J27-M27 -> 3474.38 | O27: =IF((M27/J27)=0," ",(M27/J27)*100) | P27: =IF((N27/J27)=0," ",(N27/J27)*100) -> 100
A28: 01.03.004 | B28: INSTALAÇÃO DO CANTEIRO | E28: ='BM 02 '!G28 -> 0 | G28: =E28+F28 -> 0 | H28: =D28-G28 -> 0 | J28: =SUM(J29:J54) -> 523536.23 | K28: =SUM(K29:K54) -> 113155 | L28: =SUM(L29:L54) -> 109254.99 | M28: =SUM(M29:M54) -> 222409.99 | N28: =SUM(N29:N54) -> 301126.24 | O28: =IF((M28/J28)=0," ",(M28/J28)*100) -> 42.482254 | P28: =IF((N28/J28)=0," ",(N28/J28)*100) -> 57.517746
A29: 01.03.004.001 | B29: Barracão para Obras de Médio Porte Reaproveitamento 2 vezes | C29: m2 | D29: 80 | E29: ='BM 02 '!G29 -> 0 | G29: =E29+F29 -> 0 | H29: =D29-G29 -> 80 | I29: 289.31 | J29: =ROUND(D29*I29,2) -> 23144.8 | K29: =ROUND(E29*I29,2) -> 0 | L29: =ROUND(F29*I29,2) -> 0 | M29: =K29+L29 -> 0 | N29: =J29-M29 -> 23144.8 | O29: =IF((M29/J29)=0," ",(M29/J29)*100) | P29: =IF((N29/J29)=0," ",(N29/J29)*100) -> 100
A30: 01.03.004.002 | B30: Barracão para escritório de obra porte pequeno s=25,41m2 com materiais novos | C30: un | D30: 1 | E30: ='BM 02 '!G30 -> 0 | G30: =E30+F30 -> 0 | H30: =D30-G30 -> 1 | I30: 18137.15 | J30: =ROUND(D30*I30,2) -> 18137.15 | K30: =ROUND(E30*I30,2) -> 0 | L30: =ROUND(F30*I30,2) -> 0 | M30: =K30+L30 -> 0 | N30: =J30-M30 -> 18137.15 | O30: =IF((M30/J30)=0," ",(M30/J30)*100) | P30: =IF((N30/J30)=0," ",(N30/J30)*100) -> 100
A31: 01.03.004.003 | B31: Instalação provisória de energia elétrica, aerea, trifasica, em poste galvanizado, exclusive fornecimento do medidor | C31: un | D31: 1 | E31: ='BM 02 '!G31 -> 0 | G31: =E31+F31 -> 0 | H31: =D31-G31 -> 1 | I31: 1886.97 | J31: =ROUND(D31*I31,2) -> 1886.97 | K31: =ROUND(E31*I31,2) -> 0 | L31: =ROUND(F31*I31,2) -> 0 | M31: =K31+L31 -> 0 | N31: =J31-M31 -> 1886.97 | O31: =IF((M31/J31)=0," ",(M31/J31)*100) | P31: =IF((N31/J31)=0," ",(N31/J31)*100) -> 100
A32: 01.03.004.004 | B32: Ligação Predial de Água em Mureta de Concreto, Provisória ou Definitiva, com Fornecimento de Material, inclusive Mureta e Hidrômetro, Rede DN 50mm - Rev 03_10/2022 | C32: UN | D32: 1 | E32: ='BM 02 '!G32 -> 0 | G32: =E32+F32 -> 0 | H32: =D32-G32 -> 1 | I32: 652.4 | J32: =ROUND(D32*I32,2) -> 652.4 | K32: =ROUND(E32*I32,2) -> 0 | L32: =ROUND(F32*I32,2) -> 0 | M32: =K32+L32 -> 0 | N32: =J32-M32 -> 652.4 | O32: =IF((M32/J32)=0," ",(M32/J32)*100) | P32: =IF((N32/J32)=0," ",(N32/J32)*100) -> 100
A33: 01.03.004.005 | B33: Aluguel de banheiro químico, com 03 limpezas semanais | C33: mês | D33: 44 | E33: ='BM 02 '!G33 -> 0 | F33: 7 | G33: =E33+F33 -> 7 | H33: =D33-G33 -> 37 | I33: 644.07 | J33: =ROUND(D33*I33,2) -> 28339.08 | K33: =ROUND(E33*I33,2) -> 0 | L33: =ROUND(F33*I33,2) -> 4508.49 | M33: =K33+L33 -> 4508.49 | N33: =J33-M33 -> 23830.59 | O33: =IF((M33/J33)=0," ",(M33/J33)*100) -> 15.909091 | P33: =IF((N33/J33)=0," ",(N33/J33)*100) -> 84.090909
A34: 01.03.004.006 | B34: Tapume em chapa galvanizada nº30, esp=0,35mm, h=2,00m, exclusive pintura | C34: m | D34: 912.28 | E34: ='BM 02 '!G34 -> 530 | F34: =D34-E34 -> 382.28 | G34: =E34+F34 -> 912.28 | H34: =D34-G34 -> 0 | I34: 213.5 | J34: =ROUND(D34*I34,2) -> 194771.78 | K34: =ROUND(E34*I34,2) -> 113155 | L34: =ROUND(F34*I34,2) -> 81616.78 | M34: =K34+L34 -> 194771.78 | N34: =J34-M34 -> 0 | O34: =IF((M34/J34)=0," ",(M34/J34)*100) -> 100 | P34: =IF((N34/J34)=0," ",(N34/J34)*100)
A35: 01.03.004.007 | B35: Sondagem a trado para Estudo de Jazida | C35: m | D35: 100 | E35: ='BM 02 '!G35 -> 0 | G35: =E35+F35 -> 0 | H35: =D35-G35 -> 100 | I35: 120.34 | J35: =ROUND(D35*I35,2) -> 12034 | K35: =ROUND(E35*I35,2) -> 0 | L35: =ROUND(F35*I35,2) -> 0 | M35: =K35+L35 -> 0 | N35: =J35-M35 -> 12034 | O35: =IF((M35/J35)=0," ",(M35/J35)*100) | P35: =IF((N35/J35)=0," ",(N35/J35)*100) -> 100
A36: 01.03.004.008 | B36: Sondagem a percussão | C36: m | D36: 124 | E36: ='BM 02 '!G36 -> 0 | F36: =D36 -> 124 | G36: =E36+F36 -> 124 | H36: =D36-G36 -> 0 | I36: 186.53 | J36: =ROUND(D36*I36,2) -> 23129.72 | K36: =ROUND(E36*I36,2) -> 0 | L36: =ROUND(F36*I36,2) -> 23129.72 | M36: =K36+L36 -> 23129.72 | N36: =J36-M36 -> 0 | O36: =IF((M36/J36)=0," ",(M36/J36)*100) -> 100 | P36: =IF((N36/J36)=0," ",(N36/J36)*100)
A37: 01.03.004.009 | B37: Ensaio - Granulometria combinada (peneiramento + sedimentação) | C37: un | D37: 5 | E37: ='BM 02 '!G37 -> 0 | G37: =E37+F37 -> 0 | H37: =D37-G37 -> 5 | I37: 746.11 | J37: =ROUND(D37*I37,2) -> 3730.55 | K37: =ROUND(E37*I37,2) -> 0 | L37: =ROUND(F37*I37,2) -> 0 | M37: =K37+L37 -> 0 | N37: =J37-M37 -> 3730.55 | O37: =IF((M37/J37)=0," ",(M37/J37)*100) | P37: =IF((N37/J37)=0," ",(N37/J37)*100) -> 100
A38: 01.03.004.010 | B38: Ensaio - Granulometria por peneiramento | C38: un | D38: 24 | E38: ='BM 02 '!G38 -> 0 | G38: =E38+F38 -> 0 | H38: =D38-G38 -> 24 | I38: 198.56 | J38: =ROUND(D38*I38,2) -> 4765.44 | K38: =ROUND(E38*I38,2) -> 0 | L38: =ROUND(F38*I38,2) -> 0 | M38: =K38+L38 -> 0 | N38: =J38-M38 -> 4765.44 | O38: =IF((M38/J38)=0," ",(M38/J38)*100) | P38: =IF((N38/J38)=0," ",(N38/J38)*100) -> 100
A39: 01.03.004.011 | B39: Ensaio - Compactação Proctor Normal com reuso de material (6 pontos) | C39: un | D39: 32 | E39: ='BM 02 '!G39 -> 0 | G39: =E39+F39 -> 0 | H39: =D39-G39 -> 32 | I39: 264.75 | J39: =ROUND(D39*I39,2) -> 8472 | K39: =ROUND(E39*I39,2) -> 0 | L39: =ROUND(F39*I39,2) -> 0 | M39: =K39+L39 -> 0 | N39: =J39-M39 -> 8472 | O39: =IF((M39/J39)=0," ",(M39/J39)*100) | P39: =IF((N39/J39)=0," ",(N39/J39)*100) -> 100
A40: 01.03.004.012 | B40: Ensaio - Índice de Suporte Califórnia - CBR | C40: un | D40: 19 | E40: ='BM 02 '!G40 -> 0 | G40: =E40+F40 -> 0 | H40: =D40-G40 -> 19 | I40: 342.97 | J40: =ROUND(D40*I40,2) -> 6516.43 | K40: =ROUND(E40*I40,2) -> 0 | L40: =ROUND(F40*I40,2) -> 0 | M40: =K40+L40 -> 0 | N40: =J40-M40 -> 6516.43 | O40: =IF((M40/J40)=0," ",(M40/J40)*100) | P40: =IF((N40/J40)=0," ",(N40/J40)*100) -> 100
A41: 01.03.004.013 | B41: Ensaio - Limite de liquidez | C41: un | D41: 29 | E41: ='BM 02 '!G41 -> 0 | G41: =E41+F41 -> 0 | H41: =D41-G41 -> 29 | I41: 198.56 | J41: =ROUND(D41*I41,2) -> 5758.24 | K41: =ROUND(E41*I41,2) -> 0 | L41: =ROUND(F41*I41,2) -> 0 | M41: =K41+L41 -> 0 | N41: =J41-M41 -> 5758.24 | O41: =IF((M41/J41)=0," ",(M41/J41)*100) | P41: =IF((N41/J41)=0," ",(N41/J41)*100) -> 100
A42: 01.03.004.014 | B42: Ensaio - Limite de plasticidade | C42: un | D42: 29 | E42: ='BM 02 '!G42 -> 0 | G42: =E42+F42 -> 0 | H42: =D42-G42 -> 29 | I42: 198.56 | J42: =ROUND(D42*I42,2) -> 5758.24 | K42: =ROUND(E42*I42,2) -> 0 | L42: =ROUND(F42*I42,2) -> 0 | M42: =K42+L42 -> 0 | N42: =J42-M42 -> 5758.24 | O42: =IF((M42/J42)=0," ",(M42/J42)*100) | P42: =IF((N42/J42)=0," ",(N42/J42)*100) -> 100
...

Sheet MEMORIAL DE CÁLCULO 03
A1: MEMÓRIA DE CÁLCULO - 3ª MEDIÇÃO - CONJUNTO LOURDES AZEVEDO
A2: ITEM | B2: DESCRIÇÃO DO SERVIÇO | C2: Largura | D2: Comprimento | E2: Altura | F2: Quantidade | G2: Total | I2: Unidade | J2: Observação/Justificativa
A3: 01.01 | B3: ADMINISTRAÇÃO DA OBRA
A4: 01.01.001 | B4: Equipe Dirigente | H4: ='BM 03 '!F15 -> 0.027724279 | I4: un | J4: medido proporcionalmente
A5: 01.01.002 | B5: Equipamentos de Apoio à Produção | H5: ='BM 03 '!F16 -> 0.027724279 | I5: un | J5: medido proporcionalmente
A6: 01.01.003 | B6: Manutenção do Canteiro | H6: ='BM 03 '!F17 -> 0.027724279 | I6: un | J6: medido proporcionalmente
A7: 01.03 | B7: SERVIÇOS PRELIMINARES/INSTALAÇÃO CANTEIRO/MOBILIZAÇÃO
A8: 01.03.004 | B8: INSTALAÇÃO DO CANTEIRO
A9: 01.03.004.005 | B9: Aluguel de banheiro químico, com 03 limpezas semanais | H9: ='BM 03 '!F33 -> 7 | I9: mês | J9: Referente ao consumo de uma unidade mensal.
A10: 01.03.004.006 | B10: Tapume em chapa galvanizada nº30, esp=0,35mm, h=2,00m, exclusive pinturaNIT | D10: 382.28 | H10: ='BM 03 '!F34 -> 382.28 | I10: m | J10: Fechamento total do empreendimento com telha para tapume.
A11: 01.03.004.008 | B11: Sondagem a percussão | D11: 124 | H11: ='BM 03 '!F36 -> 124 | I11: m | J11: Ensaio já realizado.
A12: 2 | B12: Infraestrutura do Conjunto Habitacional
A13: 02.01 | B13: SERVIÇOS PRELIMINARES
A14: 02.01.002 | B14: Carga mecânica de material de 1ª categoria | H14: ='BM 03 '!F65 -> 1653.23 | I14: m3 | J14: Carga Mecanizada de Material oriunda da Limpeza do Terreno (2/3 do material)
A15: 02.01.003 | B15: Descarte de resíduos da construção civil em área licenciada | D15: Fator de Empolamento | F15: 1.5 | G15: =F15*H14 -> 2479.845 | H15: ='BM 03 '!F66 -> 2479.83 | I15: t | J15: Descarte de Material oriunda da Limpeza do Terreno atráves de caçambas (2/3)
A16: 02.01.004 | B16: Transporte comercial com caminhão basculante de 10m³, em rodovia pavimentada (densidade=1,5t/m³)( SICRO 5914389) | D16: DMT | F16: 17.6 | G16: =F16*H15 -> 43645.008 | H16: ='BM 03 '!F67 -> 43645.09 | I16: tkm | J16: Descarte de Material oriunda da Limpeza do Terreno atráves de caçambas (2/3)
A17: 02.02 | B17: MOVIMENTAÇÃO DE TERRA
A18: 02.02.001 | B18: Locação de serviços de terraplenagem de obras civis | H18: ='BM 03 '!F69 -> 19838.68 | I18: m2 | J18: Toda a locação para a terraplanagem foi realizada.
A19: 02.02.002 | B19: Escavação, carga e transporte de material de 1ª categoria, dmt 51 a 200m (SICRO 5501875) | H19: ='BM 03 '!F70 -> 3446.53 | I19: m3 | J19: Referente ao Volume de Corte.
A20: 02.02.007 | B20: Espalhamento de material de 1ª categoria c/ trator esteira Cat - D-6 ou similar | H20: ='BM 03 '!F75 -> 3446.53 | I20: m3 | J20: Referente ao Volume de Corte, que representa cerca de 11,66% do material.
A21: 02.02.008 | B21: Compactação de aterros, com rolo vibratório pé de carneiro, a 100% do proctor normal( SICRO 5502978) | H21: ='BM 03 '!F76 -> 3446.53 | I21: m3 | J21: Referente ao Volume de Corte, que representa cerca de 11,66% do material.

Sheet BM 04 
A1: PREFEITURA MUNICIPAL DE SÃO CRISTÓVÃO | D1: BOLETIM DE MEDIÇÃO | F1: N° 04 | G1: Data da Medição: | I1: VALOR CONTRATADO
G2: 46218 | I2: =J437 -> 12360218
A4: SECRETARIA MUNICIPAL DA INFRAESTRUTURA E URBANISMO | D4: Período da Medição: | I4: Contrato n.º | K4: 004/2025
D5: 46137 | E5: a | F5: 46218 | G5: =(F5-D5)+1 -> 82
A6: OBJETO DO CONTRATO: | I6: Data da Assinatura: | K6: 45694 | N6: VISTO:
A7: CONSTRUÇÃO DA 1° ETAPA DO CONJUNTO HABITACIONAL LOURDES AZEVEDO, LOCALIZADO NO BAIRRO EDUARDO GOMES - SÃO CRISTÓVÃO | I7: Ordem de Serviço: | K7: 45833
I8: Prazo da Execução: | K8: 45833 | L8: 46198 | M8: =((L8-K8)+1)/30 -> 12.2
A9: CONTRATADA: | F9: CNPJ; | I9: Prazo da Vigênca: | K9: =K8 -> 45833 | L9: 46198 | M9: =((L9-K9)+1)/30 -> 12.2
A10: CONSTRUTORA MVA LTDA | F10: 07.169.379/0001-07 | I10: Prazo Aditivado: | K10: 46199 | L10: 46503 | M10: =((L10-K10)+1)/30 -> 10.166667
A11: Item | B11: Descrição dos Serviços | C11: Unidades | D11: Quantidades | I11: Valores (R$) | O11: Percentuais (%)
D12: Contratada | E12: Acumulado Anterior | F12: Do Período | G12: Acumulado até o Período | H12: Saldo a Medir | I12: Preço Unitário | J12: Valor Contratado | K12: Acumulado Anterior | L12: Do Período | M12: Acumulado até o Período | N12: Saldo a Medir | O12: Até o Período | P12: A Executar
A13: 1 | B13: Administração Local | J13: =J14+J18+J20+J55 -> 1438019 | K13: =K14+K18+K20+K55 -> 261264.78 | L13: =L14+L18+L20+L55 -> 24162.24 | M13: =M14+M18+M20+M55 -> 285427.02 | N13: =N14+N18+N20+N55 -> 1152591.9 | O13: =IF((M13/J13)=0," ",(M13/J13)*100) -> 19.848627 | P13: =IF((N13/J13)=0," ",(N13/J13)*100) -> 80.151373
A14: 01.01 | B14: ADMINISTRAÇÃO DA OBRA | J14: =J15+J16+J17 -> 731541.41 | K14: =K15+K16+K17 -> 32425.05 | L14: =L15+L16+L17 -> 16016.04 | M14: =M15+M16+M17 -> 48441.09 | N14: =N15+N16+N17 -> 683100.32
A15: 01.01.001 | B15: Equipe Dirigente | C15: un | D15: 1 | E15: ='BM 03 '!G15 -> 0.044324279 | F15: =0.06621783597*D15-E15 -> 0.021893557 | G15: =E15+F15 -> 0.066217836 | H15: =D15-G15 -> 0.93378216 | I15: 707205.69 | J15: =ROUND(D15*I15,2) -> 707205.69 | K15: =ROUND(E15*I15,2) -> 31346.38 | L15: =ROUND(F15*I15,2) -> 15483.25 | M15: =K15+L15 -> 46829.63 | N15: =J15-M15 -> 660376.06 | O15: =IF((M15/J15)=0," ",(M15/J15)*100) -> 6.6217835 | P15: =IF((N15/J15)=0," ",(N15/J15)*100) -> 93.378216
A16: 01.01.002 | B16: Equipamentos de Apoio à Produção | C16: un | D16: 1 | E16: ='BM 03 '!G16 -> 0.044324279 | F16: =0.06621783597*D16-E16 -> 0.021893557 | G16: =E16+F16 -> 0.066217836 | H16: =D16-G16 -> 0.93378216 | I16: 13478.08 | J16: =ROUND(D16*I16,2) -> 13478.08 | K16: =ROUND(E16*I16,2) -> 597.41 | L16: =ROUND(F16*I16,2) -> 295.08 | M16: =K16+L16 -> 892.49 | N16: =J16-M16 -> 12585.59 | O16: =IF((M16/J16)=0," ",(M16/J16)*100) -> 6.6217889 | P16: =IF((N16/J16)=0," ",(N16/J16)*100) -> 93.378211
A17: 01.01.003 | B17: Manutenção do Canteiro | C17: un | D17: 1 | E17: ='BM 03 '!G17 -> 0.044324279 | F17: =0.06621783597*D17-E17 -> 0.021893557 | G17: =E17+F17 -> 0.066217836 | H17: =D17-G17 -> 0.93378216 | I17: 10857.64 | J17: =ROUND(D17*I17,2) -> 10857.64 | K17: =ROUND(E17*I17,2) -> 481.26 | L17: =ROUND(F17*I17,2) -> 237.71 | M17: =K17+L17 -> 718.97 | N17: =J17-M17 -> 10138.67 | O17: =IF((M17/J17)=0," ",(M17/J17)*100) -> 6.6217889 | P17: =IF((N17/J17)=0," ",(N17/J17)*100) -> 93.378211
A18: 01.02 | B18: MOBILIZAÇÃO E DESMOBILIZAÇÃO | J18: =J19 -> 12859.47 | K18: =K19 -> 6429.74 | L18: =L19 -> 0 | M18: =M19 -> 6429.74 | N18: =N19 -> 6429.73 | O18: =IF((M18/J18)=0," ",(M18/J18)*100) -> 50.000039 | P18: =IF((N18/J18)=0," ",(N18/J18)*100) -> 49.999961
A19: 01.02.001 | B19: Caminhão Carroceria de madeira 9 t - fonte:DNIT | C19: h | D19: 111.27 | E19: ='BM 03 '!G19 -> 55.635 | G19: =E19+F19 -> 55.635 | H19: =D19-G19 -> 55.635 | I19: 115.57 | J19: =ROUND(D19*I19,2) -> 12859.47 | K19: =ROUND(E19*I19,2) -> 6429.74 | L19: =ROUND(F19*I19,2) -> 0 | M19: =K19+L19 -> 6429.74 | N19: =J19-M19 -> 6429.73 | O19: =IF((M19/J19)=0," ",(M19/J19)*100) -> 50.000039 | P19: =IF((N19/J19)=0," ",(N19/J19)*100) -> 49.999961
A20: 01.03 | B20: SERVIÇOS PRELIMINARES/INSTALAÇÃO CANTEIRO/MOBILIZAÇÃO | G20: =E20+F20 -> 0 | J20: =J21+J24+J26+J28 -> 574523.54 | K20: =K21+K24+K26+K28 -> 222409.99 | L20: =L21+L24+L26+L28 -> 8146.2 | M20: =M21+M24+M26+M28 -> 230556.19 | N20: =N21+N24+N26+N28 -> 343967.35 | O20: =IF((M20/J20)=0," ",(M20/J20)*100) -> 40.129981 | P20: =IF((N20/J20)=0," ",(N20/J20)*100) -> 59.870019
A21: 01.03.001 | B21: SERVIÇOS PRELIMINARES | J21: =J22+J23 -> 6858.06 | K21: =SUM(K22:K23) -> 0 | L21: =SUM(L22:L23) -> 6858.06 | M21: =K21+L21 -> 6858.06 | N21: =J21-M21 -> 0 | O21: =IF((M21/J21)=0," ",(M21/J21)*100) -> 100 | P21: =IF((N21/J21)=0," ",(N21/J21)*100)
A22: 01.03.001.001 | B22: Placa de obra em lona com impressão digital 1,50 x 2,00m, inclusive estrutura em metalon 20 x 20cm e escoramento, instalada - Rev 02 - 09/2021 | C22: un | D22: 2 | E22: ='BM 03 '!G22 -> 0 | F22: 2 | G22: =E22+F22 -> 2 | H22: =D22-G22 -> 0 | I22: 902.55 | J22: =ROUND(D22*I22,2) -> 1805.1 | K22: =ROUND(E22*I22,2) -> 0 | L22: =ROUND(F22*I22,2) -> 1805.1 | M22: =K22+L22 -> 1805.1 | N22: =J22-M22 -> 0 | O22: =IF((M22/J22)=0," ",(M22/J22)*100) -> 100 | P22: =IF((N22/J22)=0," ",(N22/J22)*100)
A23: 01.03.001.002 | B23: Fornecimento e instalação de placa de obra com chapa galvanizada e estrutura de madeira. af_03/2022_ps | C23: m2 | D23: 12 | E23: ='BM 03 '!G23 -> 0 | F23: 12 | G23: =E23+F23 -> 12 | H23: =D23-G23 -> 0 | I23: 421.08 | J23: =ROUND(D23*I23,2) -> 5052.96 | K23: =ROUND(E23*I23,2) -> 0 | L23: =ROUND(F23*I23,2) -> 5052.96 | M23: =K23+L23 -> 5052.96 | N23: =J23-M23 -> 0 | O23: =IF((M23/J23)=0," ",(M23/J23)*100) -> 100 | P23: =IF((N23/J23)=0," ",(N23/J23)*100)
A24: 01.03.002 | B24: Locação de Obra - Casas Tipo 01 | E24: ='BM 03 '!G24 -> 0 | G24: =E24+F24 -> 0 | H24: =D24-G24 -> 0 | J24: =J25 -> 40654.87 | K24: =K25 -> 0 | L24: =L25 -> 0 | M24: =M25 -> 0 | N24: =N25 -> 40654.87 | O24: =IF((M24/J24)=0," ",(M24/J24)*100) | P24: =IF((N24/J24)=0," ",(N24/J24)*100) -> 100
A25: 01.03.002.001 | B25: Locação de construção de edificação até 200m2, inclusive execução de gabarito de madeira | C25: m2 | D25: 3699.26 | E25: ='BM 03 '!G25 -> 0 | G25: =E25+F25 -> 0 | H25: =D25-G25 -> 3699.26 | I25: 10.99 | J25: =ROUND(D25*I25,2) -> 40654.87 | K25: =ROUND(E25*I25,2) -> 0 | L25: =ROUND(F25*I25,2) -> 0 | M25: =K25+L25 -> 0 | N25: =J25-M25 -> 40654.87 | O25: =IF((M25/J25)=0," ",(M25/J25)*100) | P25: =IF((N25/J25)=0," ",(N25/J25)*100) -> 100
A26: 01.03.003 | B26: Locação de Obra - Casas Tipo 02 | E26: ='BM 03 '!G26 -> 0 | G26: =E26+F26 -> 0 | H26: =D26-G26 -> 0 | J26: =J27 -> 3474.38 | K26: =K27 -> 0 | L26: =L27 -> 0 | M26: =M27 -> 0 | N26: =N27 -> 3474.38 | O26: =IF((M26/J26)=0," ",(M26/J26)*100) | P26: =IF((N26/J26)=0," ",(N26/J26)*100) -> 100
A27: 01.03.003.001 | B27: Locação de construção de edificação até 200m2, inclusive execução de gabarito de madeira | C27: m2 | D27: 316.14 | E27: ='BM 03 '!G27 -> 0 | G27: =E27+F27 -> 0 | H27: =D27-G27 -> 316.14 | I27: 10.99 | J27: =ROUND(D27*I27,2) -> 3474.38 | K27: =ROUND(E27*I27,2) -> 0 | L27: =ROUND(F27*I27,2) -> 0 | M27: =K27+L27 -> 0 | N27: =J27-M27 -> 3474.38 | O27: =IF((M27/J27)=0," ",(M27/J27)*100) | P27: =IF((N27/J27)=0," ",(N27/J27)*100) -> 100
A28: 01.03.004 | B28: INSTALAÇÃO DO CANTEIRO | E28: ='BM 03 '!G28 -> 0 | G28: =E28+F28 -> 0 | H28: =D28-G28 -> 0 | J28: =SUM(J29:J54) -> 523536.23 | K28: =SUM(K29:K54) -> 222409.99 | L28: =SUM(L29:L54) -> 1288.14 | M28: =SUM(M29:M54) -> 223698.13 | N28: =SUM(N29:N54) -> 299838.1 | O28: =IF((M28/J28)=0," ",(M28/J28)*100) -> 42.7283 | P28: =IF((N28/J28)=0," ",(N28/J28)*100) -> 57.2717
A29: 01.03.004.001 | B29: Barracão para Obras de Médio Porte Reaproveitamento 2 vezes | C29: m2 | D29: 80 | E29: ='BM 03 '!G29 -> 0 | G29: =E29+F29 -> 0 | H29: =D29-G29 -> 80 | I29: 289.31 | J29: =ROUND(D29*I29,2) -> 23144.8 | K29: =ROUND(E29*I29,2) -> 0 | L29: =ROUND(F29*I29,2) -> 0 | M29: =K29+L29 -> 0 | N29: =J29-M29 -> 23144.8 | O29: =IF((M29/J29)=0," ",(M29/J29)*100) | P29: =IF((N29/J29)=0," ",(N29/J29)*100) -> 100
A30: 01.03.004.002 | B30: Barracão para escritório de obra porte pequeno s=25,41m2 com materiais novos | C30: un | D30: 1 | E30: ='BM 03 '!G30 -> 0 | G30: =E30+F30 -> 0 | H30: =D30-G30 -> 1 | I30: 18137.15 | J30: =ROUND(D30*I30,2) -> 18137.15 | K30: =ROUND(E30*I30,2) -> 0 | L30: =ROUND(F30*I30,2) -> 0 | M30: =K30+L30 -> 0 | N30: =J30-M30 -> 18137.15 | O30: =IF((M30/J30)=0," ",(M30/J30)*100) | P30: =IF((N30/J30)=0," ",(N30/J30)*100) -> 100
A31: 01.03.004.003 | B31: Instalação provisória de energia elétrica, aerea, trifasica, em poste galvanizado, exclusive fornecimento do medidor | C31: un | D31: 1 | E31: ='BM 03 '!G31 -> 0 | G31: =E31+F31 -> 0 | H31: =D31-G31 -> 1 | I31: 1886.97 | J31: =ROUND(D31*I31,2) -> 1886.97 | K31: =ROUND(E31*I31,2) -> 0 | L31: =ROUND(F31*I31,2) -> 0 | M31: =K31+L31 -> 0 | N31: =J31-M31 -> 1886.97 | O31: =IF((M31/J31)=0," ",(M31/J31)*100) | P31: =IF((N31/J31)=0," ",(N31/J31)*100) -> 100
A32: 01.03.004.004 | B32: Ligação Predial de Água em Mureta de Concreto, Provisória ou Definitiva, com Fornecimento de Material, inclusive Mureta e Hidrômetro, Rede DN 50mm - Rev 03_10/2022 | C32: UN | D32: 1 | E32: ='BM 03 '!G32 -> 0 | G32: =E32+F32 -> 0 | H32: =D32-G32 -> 1 | I32: 652.4 | J32: =ROUND(D32*I32,2) -> 652.4 | K32: =ROUND(E32*I32,2) -> 0 | L32: =ROUND(F32*I32,2) -> 0 | M32: =K32+L32 -> 0 | N32: =J32-M32 -> 652.4 | O32: =IF((M32/J32)=0," ",(M32/J32)*100) | P32: =IF((N32/J32)=0," ",(N32/J32)*100) -> 100
A33: 01.03.004.005 | B33: Aluguel de banheiro químico, com 03 limpezas semanais | C33: mês | D33: 44 | E33: ='BM 03 '!G33 -> 7 | F33: 2 | G33: =E33+F33 -> 9 | H33: =D33-G33 -> 35 | I33: 644.07 | J33: =ROUND(D33*I33,2) -> 28339.08 | K33: =ROUND(E33*I33,2) -> 4508.49 | L33: =ROUND(F33*I33,2) -> 1288.14 | M33: =K33+L33 -> 5796.63 | N33: =J33-M33 -> 22542.45 | O33: =IF((M33/J33)=0," ",(M33/J33)*100) -> 20.454545 | P33: =IF((N33/J33)=0," ",(N33/J33)*100) -> 79.545455
A34: 01.03.004.006 | B34: Tapume em chapa galvanizada nº30, esp=0,35mm, h=2,00m, exclusive pintura | C34: m | D34: 912.28 | E34: ='BM 03 '!G34 -> 912.28 | G34: =E34+F34 -> 912.28 | H34: =D34-G34 -> 0 | I34: 213.5 | J34: =ROUND(D34*I34,2) -> 194771.78 | K34: =ROUND(E34*I34,2) -> 194771.78 | L34: =ROUND(F34*I34,2) -> 0 | M34: =K34+L34 -> 194771.78 | N34: =J34-M34 -> 0 | O34: =IF((M34/J34)=0," ",(M34/J34)*100) -> 100 | P34: =IF((N34/J34)=0," ",(N34/J34)*100)
A35: 01.03.004.007 | B35: Sondagem a trado para Estudo de Jazida | C35: m | D35: 100 | E35: ='BM 03 '!G35 -> 0 | G35: =E35+F35 -> 0 | H35: =D35-G35 -> 100 | I35: 120.34 | J35: =ROUND(D35*I35,2) -> 12034 | K35: =ROUND(E35*I35,2) -> 0 | L35: =ROUND(F35*I35,2) -> 0 | M35: =K35+L35 -> 0 | N35: =J35-M35 -> 12034 | O35: =IF((M35/J35)=0," ",(M35/J35)*100) | P35: =IF((N35/J35)=0," ",(N35/J35)*100) -> 100
