Workbook
Name __xlnm__FilterDatabase: 'BM - 01'!$A$5:$O$209
Name __xlnm_Print_Area: 'BM - 01'!$A$1:$O$209
Name __xlnm_Print_Titles: 'BM - 01'!$4:$5
Name _FilterDatabase_0: 'BM - 01'!$D$5:$N$209
Name Excel_BuiltIn__FilterDatabase: 'BM - 01'!$A$5:$O$209
Name Excel_BuiltIn_Print_Area: 'BM - 01'!$A$1:$O$209
Name Excel_BuiltIn_Print_Titles: 'BM - 01'!$4:$5
Name Print_Titles: 'BM - 01'!$4:$5
Name __xlnm__FilterDatabase: 'BM - 02'!$A$5:$O$209
Name __xlnm_Print_Area: 'BM - 02'!$A$1:$O$209
Name __xlnm_Print_Titles: 'BM - 02'!$4:$5
Name _FilterDatabase_0: 'BM - 02'!$D$5:$N$209
Name Excel_BuiltIn__FilterDatabase: 'BM - 02'!$A$5:$O$209
Name Excel_BuiltIn_Print_Area: 'BM - 02'!$A$1:$O$209
Name Excel_BuiltIn_Print_Titles: 'BM - 02'!$4:$5
Name Print_Titles: 'BM - 02'!$4:$5
Name __xlnm__FilterDatabase: 'BM - 001'!$A$5:$O$271
Name __xlnm_Print_Area: 'BM - 001'!$A$1:$O$271
Name __xlnm_Print_Titles: 'BM - 001'!$4:$5
Name _FilterDatabase_0: 'BM - 001'!$D$5:$N$271
Name Excel_BuiltIn__FilterDatabase: 'BM - 001'!$A$5:$O$271
Name Excel_BuiltIn_Print_Area: 'BM - 001'!$A$1:$O$271
Name Excel_BuiltIn_Print_Titles: 'BM - 001'!$4:$5
Name __xlnm__FilterDatabase: BMs_Acum!$A$5:$X$450
Name __xlnm_Print_Area: BMs_Acum!$A$1:$X$450
Name __xlnm_Print_Titles: BMs_Acum!$4:$5
Name _FilterDatabase_0: BMs_Acum!$D$5:$W$450
Name Excel_BuiltIn__FilterDatabase: BMs_Acum!$A$5:$X$450
Name Excel_BuiltIn_Print_Area: BMs_Acum!$A$1:$X$450
Name Excel_BuiltIn_Print_Titles: BMs_Acum!$4:$5
Name Print_Titles: BMs_Acum!$4:$5
Name __xlnm__FilterDatabase: BMs_Cronograma!$A$5:$X$450
Name __xlnm_Print_Area: BMs_Cronograma!$A$1:$X$450
Name __xlnm_Print_Titles: BMs_Cronograma!$4:$5
Name _FilterDatabase_0: BMs_Cronograma!$D$5:$W$450
Name Excel_BuiltIn__FilterDatabase: BMs_Cronograma!$A$5:$X$450
Name Excel_BuiltIn_Print_Area: BMs_Cronograma!$A$1:$X$450
Name Excel_BuiltIn_Print_Titles: BMs_Cronograma!$4:$5
Name Print_Titles: BMs_Cronograma!$4:$5
Name __xlnm__FilterDatabase: Avanço_FISICOxFINANCEIRO!$A$4:$I$186
Name __xlnm_Print_Area: Avanço_FISICOxFINANCEIRO!$A$1:$I$186
Name __xlnm_Print_Titles: NA()
Name _FilterDatabase_0: Avanço_FISICOxFINANCEIRO!$B$4:$I$186
Name Excel_BuiltIn__FilterDatabase: Avanço_FISICOxFINANCEIRO!$A$4:$I$186
Name Excel_BuiltIn_Print_Area: Avanço_FISICOxFINANCEIRO!$A$1:$I$186
Name Excel_BuiltIn_Print_Titles: NA()
Name Print_Titles: Avanço_FISICOxFINANCEIRO!$4:$4
Name Excel_BuiltIn_Print_Area: FOTOS!$B$1:$J$174
Name Excel_BuiltIn_Print_Area: CROQUI!$B$1:$J$174

Sheet BM - 01
A1: COMPLEMENTAÇÃO PARA A CONCLUSÃO DA CONSTRUÇÃO DA BARRAGEM DE CAPTAÇÃO NO RIACHO GUARAREMA. | D1: BOLETIM DE MEDIÇÃO | I1: CONTRATO Nº: | J1: 07/2026 | K1: ORDEM DE SERVIÇO: 00191/2026 | N1: 1
I2: DATA CONTR. | J2: 44975
D3: Período: | E3: 03/02/2026 a 31/03/2026 | I3: INICIO: | J3: 46056 | K3: TERM. PREV.: | L3: =J3+150 -> 46206
A4: ITEM | B4: DESCRIÇÃO | C4: UN | D4: Quantidades | J4: Valores ( R$ ) | O4: % med acum
D5: Contratada atualizada | E5: Acumulada Anterior | F5: No Período | G5: Acumulada Atual | H5: Saldo à Medir | I5: Preço Unitário (R$) | J5: Contratada atualizada | K5: Acumulada Anterior | L5: No Período | M5: Acumulada Atual | N5: Saldo à Medir
A6: 001 | B6: SERVIÇOS PRELIMINARES | P6: BM 01
A7: 001.001 | B7: RECURSOS HUMANOS
A8: 001.001.001 | B8: ENGENHEIRO CIVIL DE OBRA JUNIOR COM ENCARGOS COMPLEMENTARES | C8: H | D8: 176 | E8: 0 | F8: 126.28 | G8: =ROUND(E8+F8,2) -> 126.28 | H8: =ROUND(D8-G8,2) -> 49.72 | I8: 159.88 | J8: =ROUND(I8*D8,2) -> 28138.88 | K8: =ROUND(E8*I8,2) -> 0 | L8: =ROUND(F8*I8,2) -> 20189.65 | M8: =ROUND(G8*I8,2) -> 20189.65 | N8: =ROUND(J8-M8,2) -> 7949.23 | O8: =M8/J8 -> 0.71750013
A9: 001.001.002 | B9: MESTRE DE OBRAS COM ENCARGOS COMPLEMENTARES | C9: H | D9: 176 | E9: 0 | F9: 126.28 | G9: =ROUND(E9+F9,2) -> 126.28 | H9: =ROUND(D9-G9,2) -> 49.72 | I9: 81.82 | J9: =ROUND(I9*D9,2) -> 14400.32 | K9: =ROUND(E9*I9,2) -> 0 | L9: =ROUND(F9*I9,2) -> 10332.23 | M9: =ROUND(G9*I9,2) -> 10332.23 | N9: =ROUND(J9-M9,2) -> 4068.09 | O9: =M9/J9 -> 0.71750003
A10: 001.002 | B10: RECURSOS MATERIAIS
A11: 001.002.001 | B11: Veículo Novo, tipo pick-up 4x4, cabine dupla, motor dies el, inclusive combustível, sem motorista (rodagem média mensal 5.000Km), manutenção, seguro e despesas com licen ciamento | C11: h | D11: 176 | E11: 0 | F11: 126.28 | G11: =ROUND(E11+F11,2) -> 126.28 | H11: =ROUND(D11-G11,2) -> 49.72 | I11: 34.03 | J11: =ROUND(I11*D11,2) -> 5989.28 | K11: =ROUND(E11*I11,2) -> 0 | L11: =ROUND(F11*I11,2) -> 4297.31 | M11: =ROUND(G11*I11,2) -> 4297.31 | N11: =ROUND(J11-M11,2) -> 1691.97 | O11: =M11/J11 -> 0.71750027
A12: 002 | B12: DRENAGEM
A13: 002.001 | B13: DRENAGEM PLUVIAL ETA
A14: 002.001.001 | B14: LOCAÇÃO DE REDE DE ÁGUA OU ESGOTO. AF_03/2024 | C14: M | D14: 250 | E14: 0 | F14: 250 | G14: =ROUND(E14+F14,2) -> 250 | H14: =ROUND(D14-G14,2) -> 0 | I14: 10.64 | J14: =ROUND(I14*D14,2) -> 2660 | K14: =ROUND(E14*I14,2) -> 0 | L14: =ROUND(F14*I14,2) -> 2660 | M14: =ROUND(G14*I14,2) -> 2660 | N14: =ROUND(J14-M14,2) -> 0 | O14: =M14/J14 -> 1
A15: 002.001.002 | B15: SINALIZAÇÃO DIURNA COM TELA TAPUME EM PVC - 10 USOS | C15: M | D15: 120 | E15: 0 | F15: 120 | G15: =ROUND(E15+F15,2) -> 120 | H15: =ROUND(D15-G15,2) -> 0 | I15: 4.38 | J15: =ROUND(I15*D15,2) -> 525.6 | K15: =ROUND(E15*I15,2) -> 0 | L15: =ROUND(F15*I15,2) -> 525.6 | M15: =ROUND(G15*I15,2) -> 525.6 | N15: =ROUND(J15-M15,2) -> 0 | O15: =M15/J15 -> 1
A16: 002.001.003 | B16: ESCAVAÇÃO COM RETRO-ESCAVADEIRA DE PNEUS, DE VALAS, EM MATERIAL DE 2ª CATEGORIA ATÉ 1,50M DE PROFUNDIDADEESCAVAÇÃO COM RETRO-ESCAVADEIRA DE PNEUS, DE VALAS, EM MATERIAL DE 2ª CATEGORIA ATÉ 1,50M DE PROFUNDIDADE | C16: M3 | D16: 474.95 | E16: 0 | F16: 299.52 | G16: =ROUND(E16+F16,2) -> 299.52 | H16: =ROUND(D16-G16,2) -> 175.43 | I16: 13.11 | J16: =ROUND(I16*D16,2) -> 6226.59 | K16: =ROUND(E16*I16,2) -> 0 | L16: =ROUND(F16*I16,2) -> 3926.71 | M16: =ROUND(G16*I16,2) -> 3926.71 | N16: =ROUND(J16-M16,2) -> 2299.88 | O16: =M16/J16 -> 0.63063571
A17: 002.001.004 | B17: ESCAVAÇÃO DE VALA A FRIO, EM MATERIAL DE 3ª CATEGORIA, COM PERFURATRIZ MANUAL E COMPRESSOR | C17: M3 | D17: 150.25 | E17: 0 | F17: 0 | G17: =ROUND(E17+F17,2) -> 0 | H17: =ROUND(D17-G17,2) -> 150.25 | I17: 279.54 | J17: =ROUND(I17*D17,2) -> 42000.89 | K17: =ROUND(E17*I17,2) -> 0 | L17: =ROUND(F17*I17,2) -> 0 | M17: =ROUND(G17*I17,2) -> 0 | N17: =ROUND(J17-M17,2) -> 42000.89 | O17: =M17/J17 -> 0
A18: 002.001.005 | B18: REGULARIZAÇÃO MANUAL | C18: M2 | D18: 300 | E18: 0 | F18: 144 | G18: =ROUND(E18+F18,2) -> 144 | H18: =ROUND(D18-G18,2) -> 156 | I18: 6.95 | J18: =ROUND(I18*D18,2) -> 2085 | K18: =ROUND(E18*I18,2) -> 0 | L18: =ROUND(F18*I18,2) -> 1000.8 | M18: =ROUND(G18*I18,2) -> 1000.8 | N18: =ROUND(J18-M18,2) -> 1084.2 | O18: =M18/J18 -> 0.48
A19: 002.001.006 | B19: ESCORAMENTO DE VALAS TIPO CONTÍNUO ESPECIAL | C19: M2 | D19: 1100 | E19: 0 | F19: 499.2 | G19: =ROUND(E19+F19,2) -> 499.2 | H19: =ROUND(D19-G19,2) -> 600.8 | I19: 83.79 | J19: =ROUND(I19*D19,2) -> 92169 | K19: =ROUND(E19*I19,2) -> 0 | L19: =ROUND(F19*I19,2) -> 41827.97 | M19: =ROUND(G19*I19,2) -> 41827.97 | N19: =ROUND(J19-M19,2) -> 50341.03 | O19: =M19/J19 -> 0.4538182
A20: 002.001.007 | B20: COLCHÃO DE AREIA | C20: M3 | D20: 45 | E20: 0 | F20: 21.6 | G20: =ROUND(E20+F20,2) -> 21.6 | H20: =ROUND(D20-G20,2) -> 23.4 | I20: 149.01 | J20: =ROUND(I20*D20,2) -> 6705.45 | K20: =ROUND(E20*I20,2) -> 0 | L20: =ROUND(F20*I20,2) -> 3218.62 | M20: =ROUND(G20*I20,2) -> 3218.62 | N20: =ROUND(J20-M20,2) -> 3486.83 | O20: =M20/J20 -> 0.4800006
A21: 002.001.008 | B21: FORNECIMENTO E ASSENTAMENTO DE TUBO DE CONCRETO ARMADO CA2 D=0,60 M | C21: M | D21: 250 | E21: 0 | F21: 120 | G21: =ROUND(E21+F21,2) -> 120 | H21: =ROUND(D21-G21,2) -> 130 | I21: 296.89 | J21: =ROUND(I21*D21,2) -> 74222.5 | K21: =ROUND(E21*I21,2) -> 0 | L21: =ROUND(F21*I21,2) -> 35626.8 | M21: =ROUND(G21*I21,2) -> 35626.8 | N21: =ROUND(J21-M21,2) -> 38595.7 | O21: =M21/J21 -> 0.48
A22: 002.001.009 | B22: REATERRO MANUAL DE VALAS OU ÁREAS, COMPACTADO MANUALMENTE A 95% DO PN, COM PLACA VIBRATÓRIAREATERRO MANUAL DE VALAS OU ÁREAS, COMPACTADO MANUALMENTE A 95% DO PN, COM PLACA VIBRATÓRIA | C22: M3 | D22: 425.25 | E22: 0 | F22: 253.34 | G22: =ROUND(E22+F22,2) -> 253.34 | H22: =ROUND(D22-G22,2) -> 171.91 | I22: 25.59 | J22: =ROUND(I22*D22,2) -> 10882.15 | K22: =ROUND(E22*I22,2) -> 0 | L22: =ROUND(F22*I22,2) -> 6482.97 | M22: =ROUND(G22*I22,2) -> 6482.97 | N22: =ROUND(J22-M22,2) -> 4399.18 | O22: =M22/J22 -> 0.59574349
A23: 002.001.010 | B23: CAIXA DE PASSAGEM / POÇO DE VISITA EM CONCRETO ARMADO FCK=18 MPA, INCLUSIVE TAMPA, DIMENSÕES INTERNAS 1.00 X 1.00 X 1.50 M | C23: UN | D23: 10 | E23: 0 | F23: 4 | G23: =ROUND(E23+F23,2) -> 4 | H23: =ROUND(D23-G23,2) -> 6 | I23: 4405.39 | J23: =ROUND(I23*D23,2) -> 44053.9 | K23: =ROUND(E23*I23,2) -> 0 | L23: =ROUND(F23*I23,2) -> 17621.56 | M23: =ROUND(G23*I23,2) -> 17621.56 | N23: =ROUND(J23-M23,2) -> 26432.34 | O23: =M23/J23 -> 0.4
A24: 002.001.011 | B24: PONTA DE ALA EM CONCRETO CICLÓPICO, PARA TUBOS DE CONCRETO (SIMPLES) D=0.40 À 0.60 M | C24: UN | D24: 1 | E24: 0 | F24: 0 | G24: =ROUND(E24+F24,2) -> 0 | H24: =ROUND(D24-G24,2) -> 1 | I24: 2138.66 | J24: =ROUND(I24*D24,2) -> 2138.66 | K24: =ROUND(E24*I24,2) -> 0 | L24: =ROUND(F24*I24,2) -> 0 | M24: =ROUND(G24*I24,2) -> 0 | N24: =ROUND(J24-M24,2) -> 2138.66 | O24: =M24/J24 -> 0
A25: 002.002 | B25: ENTROCAMENTO REDE DE ABASTECIMENTO DN 400
A26: 002.002.001 | B26: SERVIÇOS PRELIMINARES
A27: 002.002.001.001 | B27: LOCAÇÃO DE REDE DE ÁGUA OU ESGOTO. AF_03/2024 | C27: M | D27: 100 | E27: 0 | F27: 0 | G27: =ROUND(E27+F27,2) -> 0 | H27: =ROUND(D27-G27,2) -> 100 | I27: 10.64 | J27: =ROUND(I27*D27,2) -> 1064 | K27: =ROUND(E27*I27,2) -> 0 | L27: =ROUND(F27*I27,2) -> 0 | M27: =ROUND(G27*I27,2) -> 0 | N27: =ROUND(J27-M27,2) -> 1064 | O27: =M27/J27 -> 0
A28: 002.002.001.002 | B28: SINALIZAÇÃO DIURNA COM TELA TAPUME EM PVC - 10 USOS | C28: M | D28: 100 | E28: 0 | F28: 0 | G28: =ROUND(E28+F28,2) -> 0 | H28: =ROUND(D28-G28,2) -> 100 | I28: 4.38 | J28: =ROUND(I28*D28,2) -> 438 | K28: =ROUND(E28*I28,2) -> 0 | L28: =ROUND(F28*I28,2) -> 0 | M28: =ROUND(G28*I28,2) -> 0 | N28: =ROUND(J28-M28,2) -> 438 | O28: =M28/J28 -> 0
A29: 002.002.001.003 | B29: SINALIZAÇÃO DE VALAS COM PLACAS INDICATIVAS | C29: M | D29: 100 | E29: 0 | F29: 0 | G29: =ROUND(E29+F29,2) -> 0 | H29: =ROUND(D29-G29,2) -> 100 | I29: 4.07 | J29: =ROUND(I29*D29,2) -> 407 | K29: =ROUND(E29*I29,2) -> 0 | L29: =ROUND(F29*I29,2) -> 0 | M29: =ROUND(G29*I29,2) -> 0 | N29: =ROUND(J29-M29,2) -> 407 | O29: =M29/J29 -> 0
A30: 002.002.002 | B30: REMOÇÃO DE PAVIMENTAÇÃO
A31: 002.002.002.001 | B31: DEMOLIÇÃO DE PAVIMENTAÇÃO (CAPA) ASFÁLTICA | C31: M2 | D31: 15.25 | E31: 0 | F31: 0 | G31: =ROUND(E31+F31,2) -> 0 | H31: =ROUND(D31-G31,2) -> 15.25 | I31: 6.27 | J31: =ROUND(I31*D31,2) -> 95.62 | K31: =ROUND(E31*I31,2) -> 0 | L31: =ROUND(F31*I31,2) -> 0 | M31: =ROUND(G31*I31,2) -> 0 | N31: =ROUND(J31-M31,2) -> 95.62 | O31: =M31/J31 -> 0
A32: 002.002.002.002 | B32: CARGA MANUAL DE MATERIAL DE 1ª CATEGORIA | C32: M3 | D32: 218.75 | E32: 0 | F32: 0 | G32: =ROUND(E32+F32,2) -> 0 | H32: =ROUND(D32-G32,2) -> 218.75 | I32: 13.87 | J32: =ROUND(I32*D32,2) -> 3034.06 | K32: =ROUND(E32*I32,2) -> 0 | L32: =ROUND(F32*I32,2) -> 0 | M32: =ROUND(G32*I32,2) -> 0 | N32: =ROUND(J32-M32,2) -> 3034.06 | O32: =M32/J32 -> 0
A33: 002.002.002.003 | B33: TRANSPORTE LOCAL COM CAMINHÃO BASCULANTE DE 10M³, EM RODOVIA NÃO PAVIMENTADA (CONSTRUÇÃO) DENSIDADE=1,5T/M³TRANSPORTE LOCAL COM CAMINHÃO BASCULANTE DE 10M³, EM RODOVIA NÃO PAVIMENTADA (CONSTRUÇÃO) DENSIDADE=1,5T/M³ | C33: TKM | D33: 178.75 | E33: 0 | F33: 0 | G33: =ROUND(E33+F33,2) -> 0 | H33: =ROUND(D33-G33,2) -> 178.75 | I33: 1.37 | J33: =ROUND(I33*D33,2) -> 244.89 | K33: =ROUND(E33*I33,2) -> 0 | L33: =ROUND(F33*I33,2) -> 0 | M33: =ROUND(G33*I33,2) -> 0 | N33: =ROUND(J33-M33,2) -> 244.89 | O33: =M33/J33 -> 0
A34: 002.002.002.004 | B34: Descarte de resíduos da construção civil em área licenci ada | C34: t | D34: 22.87 | E34: 0 | F34: 0 | G34: =ROUND(E34+F34,2) -> 0 | H34: =ROUND(D34-G34,2) -> 22.87 | I34: 37.45 | J34: =ROUND(I34*D34,2) -> 856.48 | K34: =ROUND(E34*I34,2) -> 0 | L34: =ROUND(F34*I34,2) -> 0 | M34: =ROUND(G34*I34,2) -> 0 | N34: =ROUND(J34-M34,2) -> 856.48 | O34: =M34/J34 -> 0
A35: 002.002.003 | B35: ABERTURA DE VALAS
A36: 002.002.003.001 | B36: ESCAVAÇÃO MECANIZADA DE VALA COM PROF. ATÉ 1,5 M (MÉDIA MONTANTE E JUSANTE/UMA COMPOSIÇÃO POR TRECHO), RETROESCAV. (0,26 M3), LARG. MENOR QUE 0,8 M, EM SOLO DE 1A CATEGORIA, EM LOCAIS COM ALTO NÍVEL DE INTERFERÊNCIA. AF_09/2024 | C36: M3 | D36: 300 | E36: 0 | F36: 0 | G36: =ROUND(E36+F36,2) -> 0 | H36: =ROUND(D36-G36,2) -> 300 | I36: 18.5 | J36: =ROUND(I36*D36,2) -> 5550 | K36: =ROUND(E36*I36,2) -> 0 | L36: =ROUND(F36*I36,2) -> 0 | M36: =ROUND(G36*I36,2) -> 0 | N36: =ROUND(J36-M36,2) -> 5550 | O36: =M36/J36 -> 0
A37: 002.002.003.002 | B37: CARGA MANUAL DE MATERIAL DE 1ª CATEGORIA | C37: M3 | D37: 218.75 | E37: 0 | F37: 0 | G37: =ROUND(E37+F37,2) -> 0 | H37: =ROUND(D37-G37,2) -> 218.75 | I37: 13.87 | J37: =ROUND(I37*D37,2) -> 3034.06 | K37: =ROUND(E37*I37,2) -> 0 | L37: =ROUND(F37*I37,2) -> 0 | M37: =ROUND(G37*I37,2) -> 0 | N37: =ROUND(J37-M37,2) -> 3034.06 | O37: =M37/J37 -> 0
A38: 002.002.003.003 | B38: TRANSPORTE LOCAL COM CAMINHÃO BASCULANTE DE 10M³, EM RODOVIA NÃO PAVIMENTADA (CONSTRUÇÃO) DENSIDADE=1,5T/M³TRANSPORTE LOCAL COM CAMINHÃO BASCULANTE DE 10M³, EM RODOVIA NÃO PAVIMENTADA (CONSTRUÇÃO) DENSIDADE=1,5T/M³ | C38: TKM | D38: 10500 | E38: 0 | F38: 0 | G38: =ROUND(E38+F38,2) -> 0 | H38: =ROUND(D38-G38,2) -> 10500 | I38: 1.37 | J38: =ROUND(I38*D38,2) -> 14385 | K38: =ROUND(E38*I38,2) -> 0 | L38: =ROUND(F38*I38,2) -> 0 | M38: =ROUND(G38*I38,2) -> 0 | N38: =ROUND(J38-M38,2) -> 14385 | O38: =M38/J38 -> 0
A39: 002.002.004 | B39: ASSENTAMENTO DE TUBOS
A40: 002.002.004.001 | B40: ASSENTAMENTO DE TUBOS EM FERRO FUNDIDO, JUNTA MECÂNICA, DIAM.= 400 MM | C40: M | D40: 100 | E40: 0 | F40: 0 | G40: =ROUND(E40+F40,2) -> 0 | H40: =ROUND(D40-G40,2) -> 100 | I40: 27.17 | J40: =ROUND(I40*D40,2) -> 2717 | K40: =ROUND(E40*I40,2) -> 0 | L40: =ROUND(F40*I40,2) -> 0 | M40: =ROUND(G40*I40,2) -> 0 | N40: =ROUND(J40-M40,2) -> 2717 | O40: =M40/J40 -> 0
...

Sheet BM - 02
A1: COMPLEMENTAÇÃO PARA A CONCLUSÃO DA CONSTRUÇÃO DA BARRAGEM DE CAPTAÇÃO NO RIACHO GUARAREMA. | D1: BOLETIM DE MEDIÇÃO | I1: CONTRATO Nº: | J1: 07/2026 | K1: ORDEM DE SERVIÇO: 00191/2026 | N1: 2
I2: DATA CONTR. | J2: 46050
D3: Período: | E3: 01/04/2026 a 31/05/2026 | I3: INICIO: | J3: 46056 | K3: TERM. PREV.: | L3: =J3+150 -> 46206
A4: ITEM | B4: DESCRIÇÃO | C4: UN | D4: Quantidades | J4: Valores ( R$ ) | O4: % med acum
D5: Contratada atualizada | E5: Acumulada Anterior | F5: No Período | G5: Acumulada Atual | H5: Saldo à Medir | I5: Preço Unitário (R$) | J5: Contratada atualizada | K5: Acumulada Anterior | L5: No Período | M5: Acumulada Atual | N5: Saldo à Medir
A6: 001 | B6: SERVIÇOS PRELIMINARES | P6: BM 01
A7: 001.001 | B7: RECURSOS HUMANOS
A8: 001.001.001 | B8: ENGENHEIRO CIVIL DE OBRA JUNIOR COM ENCARGOS COMPLEMENTARES | C8: H | D8: 176 | E8: 126.28 | F8: 36.96 | G8: =ROUND(E8+F8,2) -> 163.24 | H8: =ROUND(D8-G8,2) -> 12.76 | I8: 159.88 | J8: =ROUND(I8*D8,2) -> 28138.88 | K8: =ROUND(E8*I8,2) -> 20189.65 | L8: =ROUND(F8*I8,2) -> 5909.16 | M8: =ROUND(G8*I8,2) -> 26098.81 | N8: =ROUND(J8-M8,2) -> 2040.07 | O8: =M8/J8 -> 0.92749996
A9: 001.001.002 | B9: MESTRE DE OBRAS COM ENCARGOS COMPLEMENTARES | C9: H | D9: 176 | E9: 126.28 | F9: 36.96 | G9: =ROUND(E9+F9,2) -> 163.24 | H9: =ROUND(D9-G9,2) -> 12.76 | I9: 81.82 | J9: =ROUND(I9*D9,2) -> 14400.32 | K9: =ROUND(E9*I9,2) -> 10332.23 | L9: =ROUND(F9*I9,2) -> 3024.07 | M9: =ROUND(G9*I9,2) -> 13356.3 | N9: =ROUND(J9-M9,2) -> 1044.02 | O9: =M9/J9 -> 0.92750022
A10: 001.002 | B10: RECURSOS MATERIAIS
A11: 001.002.001 | B11: Veículo Novo, tipo pick-up 4x4, cabine dupla, motor dies el, inclusive combustível, sem motorista (rodagem média mensal 5.000Km), manutenção, seguro e despesas com licen ciamento | C11: h | D11: 176 | E11: 126.28 | F11: 36.96 | G11: =ROUND(E11+F11,2) -> 163.24 | H11: =ROUND(D11-G11,2) -> 12.76 | I11: 34.03 | J11: =ROUND(I11*D11,2) -> 5989.28 | K11: =ROUND(E11*I11,2) -> 4297.31 | L11: =ROUND(F11*I11,2) -> 1257.75 | M11: =ROUND(G11*I11,2) -> 5555.06 | N11: =ROUND(J11-M11,2) -> 434.22 | O11: =M11/J11 -> 0.92750047
A12: 002 | B12: DRENAGEM
A13: 002.001 | B13: DRENAGEM PLUVIAL ETA
A14: 002.001.001 | B14: LOCAÇÃO DE REDE DE ÁGUA OU ESGOTO. AF_03/2024 | C14: M | D14: 250 | E14: 250 | F14: 0 | G14: =ROUND(E14+F14,2) -> 250 | H14: =ROUND(D14-G14,2) -> 0 | I14: 10.64 | J14: =ROUND(I14*D14,2) -> 2660 | K14: =ROUND(E14*I14,2) -> 2660 | L14: =ROUND(F14*I14,2) -> 0 | M14: =ROUND(G14*I14,2) -> 2660 | N14: =ROUND(J14-M14,2) -> 0 | O14: =M14/J14 -> 1
A15: 002.001.002 | B15: SINALIZAÇÃO DIURNA COM TELA TAPUME EM PVC - 10 USOS | C15: M | D15: 120 | E15: 120 | F15: 0 | G15: =ROUND(E15+F15,2) -> 120 | H15: =ROUND(D15-G15,2) -> 0 | I15: 4.38 | J15: =ROUND(I15*D15,2) -> 525.6 | K15: =ROUND(E15*I15,2) -> 525.6 | L15: =ROUND(F15*I15,2) -> 0 | M15: =ROUND(G15*I15,2) -> 525.6 | N15: =ROUND(J15-M15,2) -> 0 | O15: =M15/J15 -> 1
A16: 002.001.003 | B16: ESCAVAÇÃO COM RETRO-ESCAVADEIRA DE PNEUS, DE VALAS, EM MATERIAL DE 2ª CATEGORIA ATÉ 1,50M DE PROFUNDIDADEESCAVAÇÃO COM RETRO-ESCAVADEIRA DE PNEUS, DE VALAS, EM MATERIAL DE 2ª CATEGORIA ATÉ 1,50M DE PROFUNDIDADE | C16: M3 | D16: 474.95 | E16: 299.52 | F16: 175.43 | G16: =ROUND(E16+F16,2) -> 474.95 | H16: =ROUND(D16-G16,2) -> 0 | I16: 13.11 | J16: =ROUND(I16*D16,2) -> 6226.59 | K16: =ROUND(E16*I16,2) -> 3926.71 | L16: =ROUND(F16*I16,2) -> 2299.89 | M16: =ROUND(G16*I16,2) -> 6226.59 | N16: =ROUND(J16-M16,2) -> 0 | O16: =M16/J16 -> 1
A17: 002.001.004 | B17: ESCAVAÇÃO DE VALA A FRIO, EM MATERIAL DE 3ª CATEGORIA, COM PERFURATRIZ MANUAL E COMPRESSOR | C17: M3 | D17: 150.25 | E17: 0 | F17: 150.25 | G17: =ROUND(E17+F17,2) -> 150.25 | H17: =ROUND(D17-G17,2) -> 0 | I17: 279.54 | J17: =ROUND(I17*D17,2) -> 42000.89 | K17: =ROUND(E17*I17,2) -> 0 | L17: =ROUND(F17*I17,2) -> 42000.89 | M17: =ROUND(G17*I17,2) -> 42000.89 | N17: =ROUND(J17-M17,2) -> 0 | O17: =M17/J17 -> 1
A18: 002.001.005 | B18: REGULARIZAÇÃO MANUAL | C18: M2 | D18: 300 | E18: 144 | F18: 156 | G18: =ROUND(E18+F18,2) -> 300 | H18: =ROUND(D18-G18,2) -> 0 | I18: 6.95 | J18: =ROUND(I18*D18,2) -> 2085 | K18: =ROUND(E18*I18,2) -> 1000.8 | L18: =ROUND(F18*I18,2) -> 1084.2 | M18: =ROUND(G18*I18,2) -> 2085 | N18: =ROUND(J18-M18,2) -> 0 | O18: =M18/J18 -> 1
A19: 002.001.006 | B19: ESCORAMENTO DE VALAS TIPO CONTÍNUO ESPECIAL | C19: M2 | D19: 1100 | E19: 499.2 | F19: 600.8 | G19: =ROUND(E19+F19,2) -> 1100 | H19: =ROUND(D19-G19,2) -> 0 | I19: 83.79 | J19: =ROUND(I19*D19,2) -> 92169 | K19: =ROUND(E19*I19,2) -> 41827.97 | L19: =ROUND(F19*I19,2) -> 50341.03 | M19: =ROUND(G19*I19,2) -> 92169 | N19: =ROUND(J19-M19,2) -> 0 | O19: =M19/J19 -> 1
A20: 002.001.007 | B20: COLCHÃO DE AREIA | C20: M3 | D20: 45 | E20: 21.6 | F20: 23.4 | G20: =ROUND(E20+F20,2) -> 45 | H20: =ROUND(D20-G20,2) -> 0 | I20: 149.01 | J20: =ROUND(I20*D20,2) -> 6705.45 | K20: =ROUND(E20*I20,2) -> 3218.62 | L20: =ROUND(F20*I20,2) -> 3486.83 | M20: =ROUND(G20*I20,2) -> 6705.45 | N20: =ROUND(J20-M20,2) -> 0 | O20: =M20/J20 -> 1
A21: 002.001.008 | B21: FORNECIMENTO E ASSENTAMENTO DE TUBO DE CONCRETO ARMADO CA2 D=0,60 M | C21: M | D21: 250 | E21: 120 | F21: 130 | G21: =ROUND(E21+F21,2) -> 250 | H21: =ROUND(D21-G21,2) -> 0 | I21: 296.89 | J21: =ROUND(I21*D21,2) -> 74222.5 | K21: =ROUND(E21*I21,2) -> 35626.8 | L21: =ROUND(F21*I21,2) -> 38595.7 | M21: =ROUND(G21*I21,2) -> 74222.5 | N21: =ROUND(J21-M21,2) -> 0 | O21: =M21/J21 -> 1
A22: 002.001.009 | B22: REATERRO MANUAL DE VALAS OU ÁREAS, COMPACTADO MANUALMENTE A 95% DO PN, COM PLACA VIBRATÓRIAREATERRO MANUAL DE VALAS OU ÁREAS, COMPACTADO MANUALMENTE A 95% DO PN, COM PLACA VIBRATÓRIA | C22: M3 | D22: 425.25 | E22: 253.34 | F22: 171.91 | G22: =ROUND(E22+F22,2) -> 425.25 | H22: =ROUND(D22-G22,2) -> 0 | I22: 25.59 | J22: =ROUND(I22*D22,2) -> 10882.15 | K22: =ROUND(E22*I22,2) -> 6482.97 | L22: =ROUND(F22*I22,2) -> 4399.18 | M22: =ROUND(G22*I22,2) -> 10882.15 | N22: =ROUND(J22-M22,2) -> 0 | O22: =M22/J22 -> 1
A23: 002.001.010 | B23: CAIXA DE PASSAGEM / POÇO DE VISITA EM CONCRETO ARMADO FCK=18 MPA, INCLUSIVE TAMPA, DIMENSÕES INTERNAS 1.00 X 1.00 X 1.50 M | C23: UN | D23: 10 | E23: 4 | F23: 6 | G23: =ROUND(E23+F23,2) -> 10 | H23: =ROUND(D23-G23,2) -> 0 | I23: 4405.39 | J23: =ROUND(I23*D23,2) -> 44053.9 | K23: =ROUND(E23*I23,2) -> 17621.56 | L23: =ROUND(F23*I23,2) -> 26432.34 | M23: =ROUND(G23*I23,2) -> 44053.9 | N23: =ROUND(J23-M23,2) -> 0 | O23: =M23/J23 -> 1
A24: 002.001.011 | B24: PONTA DE ALA EM CONCRETO CICLÓPICO, PARA TUBOS DE CONCRETO (SIMPLES) D=0.40 À 0.60 M | C24: UN | D24: 1 | E24: 0 | F24: 1 | G24: =ROUND(E24+F24,2) -> 1 | H24: =ROUND(D24-G24,2) -> 0 | I24: 2138.66 | J24: =ROUND(I24*D24,2) -> 2138.66 | K24: =ROUND(E24*I24,2) -> 0 | L24: =ROUND(F24*I24,2) -> 2138.66 | M24: =ROUND(G24*I24,2) -> 2138.66 | N24: =ROUND(J24-M24,2) -> 0 | O24: =M24/J24 -> 1
A25: 002.002 | B25: ENTROCAMENTO REDE DE ABASTECIMENTO DN 400
A26: 002.002.001 | B26: SERVIÇOS PRELIMINARES
A27: 002.002.001.001 | B27: LOCAÇÃO DE REDE DE ÁGUA OU ESGOTO. AF_03/2024 | C27: M | D27: 100 | E27: 0 | F27: 50 | G27: =ROUND(E27+F27,2) -> 50 | H27: =ROUND(D27-G27,2) -> 50 | I27: 10.64 | J27: =ROUND(I27*D27,2) -> 1064 | K27: =ROUND(E27*I27,2) -> 0 | L27: =ROUND(F27*I27,2) -> 532 | M27: =ROUND(G27*I27,2) -> 532 | N27: =ROUND(J27-M27,2) -> 532 | O27: =M27/J27 -> 0.5
A28: 002.002.001.002 | B28: SINALIZAÇÃO DIURNA COM TELA TAPUME EM PVC - 10 USOS | C28: M | D28: 100 | E28: 0 | F28: 50 | G28: =ROUND(E28+F28,2) -> 50 | H28: =ROUND(D28-G28,2) -> 50 | I28: 4.38 | J28: =ROUND(I28*D28,2) -> 438 | K28: =ROUND(E28*I28,2) -> 0 | L28: =ROUND(F28*I28,2) -> 219 | M28: =ROUND(G28*I28,2) -> 219 | N28: =ROUND(J28-M28,2) -> 219 | O28: =M28/J28 -> 0.5
A29: 002.002.001.003 | B29: SINALIZAÇÃO DE VALAS COM PLACAS INDICATIVAS | C29: M | D29: 100 | E29: 0 | F29: 50 | G29: =ROUND(E29+F29,2) -> 50 | H29: =ROUND(D29-G29,2) -> 50 | I29: 4.07 | J29: =ROUND(I29*D29,2) -> 407 | K29: =ROUND(E29*I29,2) -> 0 | L29: =ROUND(F29*I29,2) -> 203.5 | M29: =ROUND(G29*I29,2) -> 203.5 | N29: =ROUND(J29-M29,2) -> 203.5 | O29: =M29/J29 -> 0.5
A30: 002.002.002 | B30: REMOÇÃO DE PAVIMENTAÇÃO
A31: 002.002.002.001 | B31: DEMOLIÇÃO DE PAVIMENTAÇÃO (CAPA) ASFÁLTICA | C31: M3 | D31: 15.25 | E31: 0 | F31: 4.5 | G31: =ROUND(E31+F31,2) -> 4.5 | H31: =ROUND(D31-G31,2) -> 10.75 | I31: 6.27 | J31: =ROUND(I31*D31,2) -> 95.62 | K31: =ROUND(E31*I31,2) -> 0 | L31: =ROUND(F31*I31,2) -> 28.22 | M31: =ROUND(G31*I31,2) -> 28.22 | N31: =ROUND(J31-M31,2) -> 67.4 | O31: =M31/J31 -> 0.29512654
A32: 002.002.002.002 | B32: CARGA MANUAL DE MATERIAL DE 1ª CATEGORIA | C32: M3 | D32: 218.75 | E32: 0 | F32: 72.92 | G32: =ROUND(E32+F32,2) -> 72.92 | H32: =ROUND(D32-G32,2) -> 145.83 | I32: 13.87 | J32: =ROUND(I32*D32,2) -> 3034.06 | K32: =ROUND(E32*I32,2) -> 0 | L32: =ROUND(F32*I32,2) -> 1011.4 | M32: =ROUND(G32*I32,2) -> 1011.4 | N32: =ROUND(J32-M32,2) -> 2022.66 | O32: =M32/J32 -> 0.33334871
A33: 002.002.002.003 | B33: TRANSPORTE LOCAL COM CAMINHÃO BASCULANTE DE 10M³, EM RODOVIA NÃO PAVIMENTADA (CONSTRUÇÃO) DENSIDADE=1,5T/M³TRANSPORTE LOCAL COM CAMINHÃO BASCULANTE DE 10M³, EM RODOVIA NÃO PAVIMENTADA (CONSTRUÇÃO) DENSIDADE=1,5T/M³ | C33: TKM | D33: 178.75 | E33: 0 | F33: 52.79 | G33: =ROUND(E33+F33,2) -> 52.79 | H33: =ROUND(D33-G33,2) -> 125.96 | I33: 1.37 | J33: =ROUND(I33*D33,2) -> 244.89 | K33: =ROUND(E33*I33,2) -> 0 | L33: =ROUND(F33*I33,2) -> 72.32 | M33: =ROUND(G33*I33,2) -> 72.32 | N33: =ROUND(J33-M33,2) -> 172.57 | O33: =M33/J33 -> 0.29531626
A34: 002.002.002.004 | B34: Descarte de resíduos da construção civil em área licenci ada | C34: t | D34: 22.87 | E34: 0 | F34: 6.75 | G34: =ROUND(E34+F34,2) -> 6.75 | H34: =ROUND(D34-G34,2) -> 16.12 | I34: 37.45 | J34: =ROUND(I34*D34,2) -> 856.48 | K34: =ROUND(E34*I34,2) -> 0 | L34: =ROUND(F34*I34,2) -> 252.79 | M34: =ROUND(G34*I34,2) -> 252.79 | N34: =ROUND(J34-M34,2) -> 603.69 | O34: =M34/J34 -> 0.29514992
A35: 002.002.003 | B35: ABERTURA DE VALAS
A36: 002.002.003.001 | B36: ESCAVAÇÃO MECANIZADA DE VALA COM PROF. ATÉ 1,5 M (MÉDIA MONTANTE E JUSANTE/UMA COMPOSIÇÃO POR TRECHO), RETROESCAV. (0,26 M3), LARG. MENOR QUE 0,8 M, EM SOLO DE 1A CATEGORIA, EM LOCAIS COM ALTO NÍVEL DE INTERFERÊNCIA. AF_09/2024 | C36: M3 | D36: 300 | E36: 0 | F36: 90 | G36: =ROUND(E36+F36,2) -> 90 | H36: =ROUND(D36-G36,2) -> 210 | I36: 18.5 | J36: =ROUND(I36*D36,2) -> 5550 | K36: =ROUND(E36*I36,2) -> 0 | L36: =ROUND(F36*I36,2) -> 1665 | M36: =ROUND(G36*I36,2) -> 1665 | N36: =ROUND(J36-M36,2) -> 3885 | O36: =M36/J36 -> 0.3
A37: 002.002.003.002 | B37: CARGA MANUAL DE MATERIAL DE 1ª CATEGORIA | C37: M3 | D37: 218.75 | E37: 0 | F37: 109.37 | G37: =ROUND(E37+F37,2) -> 109.37 | H37: =ROUND(D37-G37,2) -> 109.38 | I37: 13.87 | J37: =ROUND(I37*D37,2) -> 3034.06 | K37: =ROUND(E37*I37,2) -> 0 | L37: =ROUND(F37*I37,2) -> 1516.96 | M37: =ROUND(G37*I37,2) -> 1516.96 | N37: =ROUND(J37-M37,2) -> 1517.1 | O37: =M37/J37 -> 0.49997693
A38: 002.002.003.003 | B38: TRANSPORTE LOCAL COM CAMINHÃO BASCULANTE DE 10M³, EM RODOVIA NÃO PAVIMENTADA (CONSTRUÇÃO) DENSIDADE=1,5T/M³TRANSPORTE LOCAL COM CAMINHÃO BASCULANTE DE 10M³, EM RODOVIA NÃO PAVIMENTADA (CONSTRUÇÃO) DENSIDADE=1,5T/M³ | C38: TKM | D38: 10500 | E38: 0 | F38: 5249.7 | G38: =ROUND(E38+F38,2) -> 5249.7 | H38: =ROUND(D38-G38,2) -> 5250.3 | I38: 1.37 | J38: =ROUND(I38*D38,2) -> 14385 | K38: =ROUND(E38*I38,2) -> 0 | L38: =ROUND(F38*I38,2) -> 7192.09 | M38: =ROUND(G38*I38,2) -> 7192.09 | N38: =ROUND(J38-M38,2) -> 7192.91 | O38: =M38/J38 -> 0.4999715
A39: 002.002.004 | B39: ASSENTAMENTO DE TUBOS
A40: 002.002.004.001 | B40: ASSENTAMENTO DE TUBOS EM FERRO FUNDIDO, JUNTA MECÂNICA, DIAM.= 400 MM | C40: M | D40: 100 | E40: 0 | F40: 30 | G40: =ROUND(E40+F40,2) -> 30 | H40: =ROUND(D40-G40,2) -> 70 | I40: 27.17 | J40: =ROUND(I40*D40,2) -> 2717 | K40: =ROUND(E40*I40,2) -> 0 | L40: =ROUND(F40*I40,2) -> 815.1 | M40: =ROUND(G40*I40,2) -> 815.1 | N40: =ROUND(J40-M40,2) -> 1901.9 | O40: =M40/J40 -> 0.3
...

Sheet BM - 001
A1: EXECUÇÃO DA INFRAESTRUTURA PARA O BAIRRO DIVINEIA, NO MUNICÍPIO DE SÃO CRISTÓVÃO/SE | D1: BOLETIM DE MEDIÇÃO | I1: CONTRATO Nº: | J1: 0049/2026 | K1: CONCORRÊNCIA PUBLICA N° CP0009/2026 | N1: 1
I2: DATA CONTR.: 17/08/26
D3: Período: | E3: 17/08/2026 a 31/08/2026 | I3: INICIO: | J3: 46251 | K3: TERM. PREV.: | L3: 46491
A4: ITEM | B4: DESCRIÇÃO | C4: UN | D4: Quantidades | J4: Valores ( R$ ) | O4: % med acum
D5: Contratada atualizada | E5: Acumulada Anterior | F5: No Período | G5: Acumulada Atual | H5: Saldo à Medir | I5: Preço Unitário (R$) | J5: Contratada atualizada | K5: Acumulada Anterior | L5: No Período | M5: Acumulada Atual | N5: Saldo à Medir
B6: SERVIÇOS
A7: 01. | B7: ADMINISTRAÇÃO DA OBRA | J7: =SUBTOTAL(9,J8:J11) -> 212163.23 | K7: =SUBTOTAL(9,K8:K11) -> 0 | L7: =SUBTOTAL(9,L8:L11) -> 8486.53 | M7: =SUBTOTAL(9,M8:M11) -> 8486.53 | N7: =SUBTOTAL(9,N8:N11) -> 203676.7 | Q7: BM 01
A8: 01.01 | B8: ADMINISTRAÇÃO LOCAL | J8: =SUBTOTAL(9,J9:J11) -> 212163.23 | K8: =SUBTOTAL(9,K9:K11) -> 0 | L8: =SUBTOTAL(9,L9:L11) -> 8486.53 | M8: =SUBTOTAL(9,M9:M11) -> 8486.53 | N8: =SUBTOTAL(9,N9:N11) -> 203676.7 | Q8: 0.24
A9: 01.01.001 | B9: Equipe Dirigente | C9: un | D9: 1 | F9: =MC!T8 -> 0.04 | G9: =ROUND(E9+F9,2) -> 0.04 | H9: =ROUND(D9-G9,2) -> 0.96 | I9: 189331.77 | J9: =ROUND(I9*D9,2) -> 189331.77 | K9: =ROUND(E9*I9,2) -> 0 | L9: =ROUND(F9*I9,2) -> 7573.27 | M9: =ROUND(G9*I9,2) -> 7573.27 | N9: =ROUND(J9-M9,2) -> 181758.5 | O9: =M9/J9 -> 0.039999996 | P9: =L9-M9 -> 0 | Q9: 94.5
A10: 01.01.002 | B10: Manutenção do Canteiro | C10: un | D10: 1 | F10: =MC!T14 -> 0.04 | G10: =ROUND(E10+F10,2) -> 0.04 | H10: =ROUND(D10-G10,2) -> 0.96 | I10: 18359.18 | J10: =ROUND(I10*D10,2) -> 18359.18 | K10: =ROUND(E10*I10,2) -> 0 | L10: =ROUND(F10*I10,2) -> 734.37 | M10: =ROUND(G10*I10,2) -> 734.37 | N10: =ROUND(J10-M10,2) -> 17624.81 | O10: =M10/J10 -> 0.040000153 | P10: =L10-M10 -> 0 | Q10: 132
A11: 01.01.003 | B11: Equipamentos de Apoio à Produção | C11: un | D11: 1 | F11: =MC!T20 -> 0.04 | G11: =ROUND(E11+F11,2) -> 0.04 | H11: =ROUND(D11-G11,2) -> 0.96 | I11: 4472.28 | J11: =ROUND(I11*D11,2) -> 4472.28 | K11: =ROUND(E11*I11,2) -> 0 | L11: =ROUND(F11*I11,2) -> 178.89 | M11: =ROUND(G11*I11,2) -> 178.89 | N11: =ROUND(J11-M11,2) -> 4293.39 | O11: =M11/J11 -> 0.039999732 | P11: =L11-M11 -> 0 | Q11: 63
A12: 02. | B12: CANTEIRO DE OBRAS | J12: =SUBTOTAL(9,J13:J39) -> 110340.22 | K12: =SUBTOTAL(9,K13:K39) -> 0 | L12: =SUBTOTAL(9,L13:L39) -> 39161.16 | M12: =SUBTOTAL(9,M13:M39) -> 39161.16 | N12: =SUBTOTAL(9,N13:N39) -> 71179.06 | P12: =L12-M12 -> 0 | Q12: 40
A13: 02.01 | B13: TERRAPLENAGEM E PAVIMENTAÇÃO | J13: =SUBTOTAL(9,J14:J21) -> 8997.08 | K13: =SUBTOTAL(9,K14:K21) -> 0 | L13: =SUBTOTAL(9,L14:L21) -> 8738.88 | M13: =SUBTOTAL(9,M14:M21) -> 8738.88 | N13: =SUBTOTAL(9,N14:N21) -> 258.2 | P13: =L13-M13 -> 0 | Q13: 132
A14: 02.01.001 | B14: Desmatamento, destocamento e limpeza de área com árvores de diâmetro até 0,15 m (SICRO - 5501700) | C14: m² | D14: 660 | F14: =MC!T28 -> 660 | G14: =ROUND(E14+F14,2) -> 660 | H14: =ROUND(D14-G14,2) -> 0 | I14: 0.91 | J14: =ROUND(I14*D14,2) -> 600.6 | K14: =ROUND(E14*I14,2) -> 0 | L14: =ROUND(F14*I14,2) -> 600.6 | M14: =ROUND(G14*I14,2) -> 600.6 | N14: =ROUND(J14-M14,2) -> 0 | O14: =M14/J14 -> 1 | P14: =L14-M14 -> 0 | Q14: #VALUE!
A15: 02.01.002 | B15: Carga, manobra e descarga de agregados ou solos em caminhão basculante de 14 m³ - carga com carregadeira de 3,40 m³ e descarga livre (SICRO - 5914351) | C15: t | D15: 128.7 | F15: =MC!T34 -> 128.7 | G15: =ROUND(E15+F15,2) -> 128.7 | H15: =ROUND(D15-G15,2) -> 0 | I15: 2.76 | J15: =ROUND(I15*D15,2) -> 355.21 | K15: =ROUND(E15*I15,2) -> 0 | L15: =ROUND(F15*I15,2) -> 355.21 | M15: =ROUND(G15*I15,2) -> 355.21 | N15: =ROUND(J15-M15,2) -> 0 | O15: =M15/J15 -> 1 | P15: =L15-M15 -> 0 | Q15: 132
A16: 02.01.003 | B16: Transporte com caminhão basculante de 14 m³ - rodovia pavimentada (SICRO - 5915321) | C16: tkm | D16: 1544.4 | F16: =MC!T40 -> 1544.4 | G16: =ROUND(E16+F16,2) -> 1544.4 | H16: =ROUND(D16-G16,2) -> 0 | I16: 0.66 | J16: =ROUND(I16*D16,2) -> 1019.3 | K16: =ROUND(E16*I16,2) -> 0 | L16: =ROUND(F16*I16,2) -> 1019.3 | M16: =ROUND(G16*I16,2) -> 1019.3 | N16: =ROUND(J16-M16,2) -> 0 | O16: =M16/J16 -> 1 | P16: =L16-M16 -> 0
A17: 02.01.004 | B17: Descarte de resíduos da construção civil em área licenciada | C17: t | D17: 158.33 | F17: =MC!T46 -> 158.33 | G17: =ROUND(E17+F17,2) -> 158.33 | H17: =ROUND(D17-G17,2) -> 0 | I17: 29.07 | J17: =ROUND(I17*D17,2) -> 4602.65 | K17: =ROUND(E17*I17,2) -> 0 | L17: =ROUND(F17*I17,2) -> 4602.65 | M17: =ROUND(G17*I17,2) -> 4602.65 | N17: =ROUND(J17-M17,2) -> 0 | O17: =M17/J17 -> 1 | P17: =L17-M17 -> 0
A18: 02.01.005 | B18: Regularização do subleito - 100% Proctor intermediário (SICRO - 4011209) | C18: m² | D18: 600 | F18: =MC!T52 -> 600 | G18: =ROUND(E18+F18,2) -> 600 | H18: =ROUND(D18-G18,2) -> 0 | I18: 2.17 | J18: =ROUND(I18*D18,2) -> 1302 | K18: =ROUND(E18*I18,2) -> 0 | L18: =ROUND(F18*I18,2) -> 1302 | M18: =ROUND(G18*I18,2) -> 1302 | N18: =ROUND(J18-M18,2) -> 0 | O18: =M18/J18 -> 1 | P18: =L18-M18 -> 0
A19: 02.01.006 | B19: Material para sub-base (adquirido e medido pelo corte na jazida), exclusive limpeza da área, escavação e carga - Mineração Sta Maria - Terra Dura | C19: m3 | D19: 36.18 | F19: =MC!T58 -> 36.18 | G19: =ROUND(E19+F19,2) -> 36.18 | H19: =ROUND(D19-G19,2) -> 0 | I19: 13.06 | J19: =ROUND(I19*D19,2) -> 472.51 | K19: =ROUND(E19*I19,2) -> 0 | L19: =ROUND(F19*I19,2) -> 472.51 | M19: =ROUND(G19*I19,2) -> 472.51 | N19: =ROUND(J19-M19,2) -> 0 | O19: =M19/J19 -> 1 | P19: =L19-M19 -> 0
A20: 02.01.007 | B20: Transporte com caminhão basculante de 14 m³ - rodovia pavimentada (SICRO - 5915321) | C20: tkm | D20: 586.13 | F20: =MC!T64 -> 585.78 | G20: =ROUND(E20+F20,2) -> 585.78 | H20: =ROUND(D20-G20,2) -> 0.35 | I20: 0.66 | J20: =ROUND(I20*D20,2) -> 386.85 | K20: =ROUND(E20*I20,2) -> 0 | L20: =ROUND(F20*I20,2) -> 386.61 | M20: =ROUND(G20*I20,2) -> 386.61 | N20: =ROUND(J20-M20,2) -> 0.24 | O20: =M20/J20 -> 0.9993796 | P20: =L20-M20 -> 0
A21: 02.01.008 | B21: Compactação de aterros a 100% do Proctor normal (SICRO - 5502978) | C21: m³ | D21: 36.18 | F21: 0 | G21: =ROUND(E21+F21,2) -> 0 | H21: =ROUND(D21-G21,2) -> 36.18 | I21: 7.13 | J21: =ROUND(I21*D21,2) -> 257.96 | K21: =ROUND(E21*I21,2) -> 0 | L21: =ROUND(F21*I21,2) -> 0 | M21: =ROUND(G21*I21,2) -> 0 | N21: =ROUND(J21-M21,2) -> 257.96 | O21: =M21/J21 -> 0 | P21: =L21-M21 -> 0
A22: 02.02 | B22: FECHAMENTO | J22: =SUBTOTAL(9,J23) -> 16449 | K22: =SUBTOTAL(9,K23) -> 0 | L22: =SUBTOTAL(9,L23) -> 16449 | M22: =SUBTOTAL(9,M23) -> 16449 | N22: =SUBTOTAL(9,N23) -> 0 | P22: =L22-M22 -> 0
A23: 02.02.001 | B23: Tapume em chapa galvanizada nº30, esp=0,35mm, h=2,00m, exclusive pintura | C23: m | D23: 100 | F23: =MC!T71 -> 100 | G23: =ROUND(E23+F23,2) -> 100 | H23: =ROUND(D23-G23,2) -> 0 | I23: 164.49 | J23: =ROUND(I23*D23,2) -> 16449 | K23: =ROUND(E23*I23,2) -> 0 | L23: =ROUND(F23*I23,2) -> 16449 | M23: =ROUND(G23*I23,2) -> 16449 | N23: =ROUND(J23-M23,2) -> 0 | O23: =M23/J23 -> 1 | P23: =L23-M23 -> 0
A24: 02.03 | B24: BARRACÕES | J24: =SUBTOTAL(9,J25:J28) -> 54884.88 | K24: =SUBTOTAL(9,K25:K28) -> 0 | L24: =SUBTOTAL(9,L25:L28) -> 12500.4 | M24: =SUBTOTAL(9,M25:M28) -> 12500.4 | N24: =SUBTOTAL(9,N25:N28) -> 42384.48 | P24: =L24-M24 -> 0
A25: 02.03.001 | B25: Barracão para Obras de Médio Porte Reaproveitamento 2 vezes | C25: m2 | D25: 108.8 | F25: =MC!T78 -> 0 | G25: =ROUND(E25+F25,2) -> 0 | H25: =ROUND(D25-G25,2) -> 108.8 | I25: 249.99 | J25: =ROUND(I25*D25,2) -> 27198.91 | K25: =ROUND(E25*I25,2) -> 0 | L25: =ROUND(F25*I25,2) -> 0 | M25: =ROUND(G25*I25,2) -> 0 | N25: =ROUND(J25-M25,2) -> 27198.91 | O25: =M25/J25 -> 0 | P25: =L25-M25 -> 0
A26: 02.03.002 | B26: Barracão aberto para apoio à produção (carpintaria, central de armação, oficina, etc.) c/ tesouras, telha 4mm, piso em concreto desempolado | C26: m2 | D26: 75.24 | F26: =MC!T84 -> 55 | G26: =ROUND(E26+F26,2) -> 55 | H26: =ROUND(D26-G26,2) -> 20.24 | I26: 227.28 | J26: =ROUND(I26*D26,2) -> 17100.55 | K26: =ROUND(E26*I26,2) -> 0 | L26: =ROUND(F26*I26,2) -> 12500.4 | M26: =ROUND(G26*I26,2) -> 12500.4 | N26: =ROUND(J26-M26,2) -> 4600.15 | O26: =M26/J26 -> 0.73099403 | P26: =L26-M26 -> 0
A27: 02.03.003 | B27: Reservatorio elevado c/ caixa d'agua em fibra de vidro de 5.000 litros apoiado em estrutura pre-moldada concreto, composta de capitel p/apoio da caixa e pilar cilindrico c/altura util = 6,00m, incluso frete e montagem no local, exceto inst.hidraulica | C27: un | D27: 1 | F27: 0 | G27: =ROUND(E27+F27,2) -> 0 | H27: =ROUND(D27-G27,2) -> 1 | I27: 9343.39 | J27: =ROUND(I27*D27,2) -> 9343.39 | K27: =ROUND(E27*I27,2) -> 0 | L27: =ROUND(F27*I27,2) -> 0 | M27: =ROUND(G27*I27,2) -> 0 | N27: =ROUND(J27-M27,2) -> 9343.39 | O27: =M27/J27 -> 0 | P27: =L27-M27 -> 0
A28: 02.03.004 | B28: Caixa d´água em fibra de vidro - instalada, sem estrutura de suporte cap. 1.000 litros | C28: un | D28: 1 | F28: 0 | G28: =ROUND(E28+F28,2) -> 0 | H28: =ROUND(D28-G28,2) -> 1 | I28: 1242.03 | J28: =ROUND(I28*D28,2) -> 1242.03 | K28: =ROUND(E28*I28,2) -> 0 | L28: =ROUND(F28*I28,2) -> 0 | M28: =ROUND(G28*I28,2) -> 0 | N28: =ROUND(J28-M28,2) -> 1242.03 | O28: =M28/J28 -> 0 | P28: =L28-M28 -> 0
A29: 02.04 | B29: LIGAÇÕES PROVISÓRIAS | J29: =SUBTOTAL(9,J30:J33) -> 25633.01 | K29: =SUBTOTAL(9,K30:K33) -> 0 | L29: =SUBTOTAL(9,L30:L33) -> 1472.88 | M29: =SUBTOTAL(9,M30:M33) -> 1472.88 | N29: =SUBTOTAL(9,N30:N33) -> 24160.13 | P29: =L29-M29 -> 0
A30: 02.04.001 | B30: Ligação Predial de Água em Mureta de Concreto, Provisória ou Definitiva, com Fornecimento de Material, inclusive Mureta e Hidrômetro, Rede DN 50mm - Rev 03_10/2022 | C30: UN | D30: 1 | F30: =MC!T91 -> 0.5 | G30: =ROUND(E30+F30,2) -> 0.5 | H30: =ROUND(D30-G30,2) -> 0.5 | I30: 730.26 | J30: =ROUND(I30*D30,2) -> 730.26 | K30: =ROUND(E30*I30,2) -> 0 | L30: =ROUND(F30*I30,2) -> 365.13 | M30: =ROUND(G30*I30,2) -> 365.13 | N30: =ROUND(J30-M30,2) -> 365.13 | O30: =M30/J30 -> 0.5 | P30: =L30-M30 -> 0
A31: 02.04.002 | B31: Instalação provisória de energia elétrica, aerea, trifasica, em poste galvanizado, exclusive fornecimento do medidor | C31: un | D31: 1 | F31: =MC!T97 -> 0.5 | G31: =ROUND(E31+F31,2) -> 0.5 | H31: =ROUND(D31-G31,2) -> 0.5 | I31: 2215.49 | J31: =ROUND(I31*D31,2) -> 2215.49 | K31: =ROUND(E31*I31,2) -> 0 | L31: =ROUND(F31*I31,2) -> 1107.75 | M31: =ROUND(G31*I31,2) -> 1107.75 | N31: =ROUND(J31-M31,2) -> 1107.74 | O31: =M31/J31 -> 0.50000226 | P31: =L31-M31 -> 0
A32: 02.04.003 | B32: Tanque séptico retangular, em alvenaria com tijolos cerâmicos maciços, dimensões internas: 1,4 x 3,2 x h=1,8 m, volume útil: 6272 l (para 32 contribuintes). af_12/2020 | C32: un | D32: 1 | F32: 0 | G32: =ROUND(E32+F32,2) -> 0 | H32: =ROUND(D32-G32,2) -> 1 | I32: 8184.35 | J32: =ROUND(I32*D32,2) -> 8184.35 | K32: =ROUND(E32*I32,2) -> 0 | L32: =ROUND(F32*I32,2) -> 0 | M32: =ROUND(G32*I32,2) -> 0 | N32: =ROUND(J32-M32,2) -> 8184.35 | O32: =M32/J32 -> 0 | P32: =L32-M32 -> 0
A33: 02.04.004 | B33: Limpeza de fossa acima de 5m3 | C33: m3 | D33: 307.2 | F33: =MC!T103 -> 0 | G33: =ROUND(E33+F33,2) -> 0 | H33: =ROUND(D33-G33,2) -> 307.2 | I33: 47.21 | J33: =ROUND(I33*D33,2) -> 14502.91 | K33: =ROUND(E33*I33,2) -> 0 | L33: =ROUND(F33*I33,2) -> 0 | M33: =ROUND(G33*I33,2) -> 0 | N33: =ROUND(J33-M33,2) -> 14502.91 | O33: =M33/J33 -> 0 | P33: =L33-M33 -> 0
A34: 02.05 | B34: DESMOBILIZAÇÃO DO CANTEIRO | J34: =SUBTOTAL(9,J35:J39) -> 4376.25 | K34: =SUBTOTAL(9,K35:K39) -> 0 | L34: =SUBTOTAL(9,L35:L39) -> 0 | M34: =SUBTOTAL(9,M35:M39) -> 0 | N34: =SUBTOTAL(9,N35:N39) -> 4376.25 | P34: =L34-M34 -> 0
A35: 02.05.001 | B35: Demolição de Barracão de Obra | C35: m2 | D35: 184.04 | F35: =MC!T105 -> 0 | G35: =ROUND(E35+F35,2) -> 0 | H35: =ROUND(D35-G35,2) -> 184.04 | I35: 7.11 | J35: =ROUND(I35*D35,2) -> 1308.52 | K35: =ROUND(E35*I35,2) -> 0 | L35: =ROUND(F35*I35,2) -> 0 | M35: =ROUND(G35*I35,2) -> 0 | N35: =ROUND(J35-M35,2) -> 1308.52 | O35: =M35/J35 -> 0 | P35: =L35-M35 -> 0 | Q35: =D35*0.8 -> 147.232
A36: 02.05.002 | B36: Remoção de tapume | C36: m2 | D36: 210 | F36: =MC!T106 -> 0 | G36: =ROUND(E36+F36,2) -> 0 | H36: =ROUND(D36-G36,2) -> 210 | I36: 12.35 | J36: =ROUND(I36*D36,2) -> 2593.5 | K36: =ROUND(E36*I36,2) -> 0 | L36: =ROUND(F36*I36,2) -> 0 | M36: =ROUND(G36*I36,2) -> 0 | N36: =ROUND(J36-M36,2) -> 2593.5 | O36: =M36/J36 -> 0 | P36: =L36-M36 -> 0 | Q36: =D36*0.8 -> 168
A37: 02.05.003 | B37: Carga, manobra e descarga de entulho em caminhão basculante 10 m³ - carga com escavadeira hidráulica (caçamba de 0,80 m³ / 111 hp) e descarga livre (unidade: m3). af_07/2020 | C37: m3 | D37: 19.75 | F37: =MC!T107 -> 0 | G37: =ROUND(E37+F37,2) -> 0 | H37: =ROUND(D37-G37,2) -> 19.75 | I37: 8.78 | J37: =ROUND(I37*D37,2) -> 173.41 | K37: =ROUND(E37*I37,2) -> 0 | L37: =ROUND(F37*I37,2) -> 0 | M37: =ROUND(G37*I37,2) -> 0 | N37: =ROUND(J37-M37,2) -> 173.41 | O37: =M37/J37 -> 0 | P37: =L37-M37 -> 0 | Q37: =D37*0.8 -> 15.8
A38: 02.05.004 | B38: Transporte com caminhão basculante de 14 m³ - rodovia pavimentada (SICRO - 5915321) | C38: tkm | D38: 355.55 | F38: =MC!T108 -> 0 | G38: =ROUND(E38+F38,2) -> 0 | H38: =ROUND(D38-G38,2) -> 355.55 | I38: 0.66 | J38: =ROUND(I38*D38,2) -> 234.66 | K38: =ROUND(E38*I38,2) -> 0 | L38: =ROUND(F38*I38,2) -> 0 | M38: =ROUND(G38*I38,2) -> 0 | N38: =ROUND(J38-M38,2) -> 234.66 | O38: =M38/J38 -> 0 | P38: =L38-M38 -> 0 | Q38: =D38*0.8 -> 284.44
A39: 02.05.005 | B39: Espalhamento de material em bota-fora (SICRO - 4413942) | C39: m³ | D39: 19.75 | F39: =MC!T109 -> 0 | G39: =ROUND(E39+F39,2) -> 0 | H39: =ROUND(D39-G39,2) -> 19.75 | I39: 3.35 | J39: =ROUND(I39*D39,2) -> 66.16 | K39: =ROUND(E39*I39,2) -> 0 | L39: =ROUND(F39*I39,2) -> 0 | M39: =ROUND(G39*I39,2) -> 0 | N39: =ROUND(J39-M39,2) -> 66.16 | O39: =M39/J39 -> 0 | P39: =L39-M39 -> 0 | Q39: =D39*0.8 -> 15.8
A40: 03. | B40: MOBILIZAÇÃO E DESMOBILIZAÇÃO DE MÁQUINAS E EQUIPAMENTOS | J40: =SUBTOTAL(9,J41:J46) -> 9420.96 | K40: =SUBTOTAL(9,K41:K46) -> 0 | L40: =SUBTOTAL(9,L41:L46) -> 3310.17 | M40: =SUBTOTAL(9,M41:M46) -> 3310.17 | N40: =SUBTOTAL(9,N41:N46) -> 6110.79 | P40: =L40-M40 -> 0
...

Sheet MC
A1: CONTRATADA: INOVE - Construções e Locações Ltda. | U1: OK
A2: CONTRATO: 049/2026 | O2: PERIODO | P2: ='BM - 001'!E3 -> 17/08/2026 a 31/08/2026 | U2: OK
A3: CONTRATANTE: Prefeitura Municipal de São Cristóvão | O3: BM | P3: ='BM - 001'!N1 -> 1 | U3: OK
H4: MEMÓRIA DE CALCULO | U4: BM 01
A5: ITEM | B5: DESCRIMINAÇÃO DO CÁLCULO | N5: UND | O5: EXECUTADO NO PERÍODO | P5: ACUMULADO ANTERIOR | Q5: ACUMULADO ATUAL | R5: SALDO A MEDIR | S5: DESCONTO POR FALTA DE SALDO (REMANESCENTE) | T5: À MEDIR NO PERÍODO | U5: OK
A6: 01. | B6: ADMINISTRAÇÃO DA OBRA | U6: OK
A7: 01.01 | B7: ADMINISTRAÇÃO LOCAL | U7: OK
A8: 01.01.001 | B8: Equipe Dirigente | N8: un | O8: =R12 -> 0.040780311 | P8: =VLOOKUP($A8,'BM - 001'!$A$8:$O$115,5,FALSE) -> 0 | Q8: =VLOOKUP($A8,'BM - 001'!$A$8:$O$115,7,FALSE) -> 0.04 | R8: =VLOOKUP($A8,'BM - 001'!$A$8:$O$59,4,FALSE)-P8 -> 1 | S8: =IF(O8>R8,O8-R8,0) -> 0 | T8: =ROUND(IF(O8<R8,O8,R8),2) -> 0.04 | U8: OK
U9: OK
B10: MEDIÇÃO ACUMULADA SEM ADM LOCAL | D10: VALOR DO CONTRATO SEM ADM LOCAL | F10: PERCENTUAL DE AVANÇO - EXCLUÍDO MEDIÇÃO DA ADM LOCAL | H10: VALOR CONTRATUAL DA TX ADM LOCAL | J10: VALOR ADM ACUMULADO ANTERIOR | L10: VALOR ADM CALCULADO ACUMULADO ATUAL | N10: VALOR DE ADM LOCAL A MEDIR NA MEDIÇÃO | P10: PERCENTUAL | Q10: QTD DE CONTRATO | R10: TOTAL(un) | U10: OK
B11: ='BM - 001'!L153 -> 141715.77 | D11: ='BM - 001'!J153 -> 3977811 | F11: 0.064 | H11: ='BM - 001'!J8 -> 212163.23 | J11: 0 | L11: =N11+J11 -> 8652.0826 | N11: =H11*P11 -> 8652.0826 | P11: 0.040780311 | Q11: 1 | R11: =P11 -> 0.040780311 | U11: OK
B12: MEDIÇÃO 01 | R12: =R11 -> 0.040780311
U13: OK
A14: 01.01.002 | B14: Manutenção do Canteiro | N14: un | O14: =R18 -> 0.040780311 | P14: =VLOOKUP($A14,'BM - 001'!$A$8:$O$115,5,FALSE) -> 0 | Q14: =VLOOKUP($A14,'BM - 001'!$A$8:$O$115,7,FALSE) -> 0.04 | R14: =VLOOKUP($A14,'BM - 001'!$A$8:$O$59,4,FALSE)-P14 -> 1 | S14: =IF(O14>R14,O14-R14,0) -> 0 | T14: =ROUND(IF(O14<R14,O14,R14),2) -> 0.04 | U14: OK
U15: OK
B16: MEDIÇÃO ACUMULADA SEM ADM LOCAL | D16: VALOR DO CONTRATO SEM ADM LOCAL | F16: PERCENTUAL DE AVANÇO - EXCLUÍDO MEDIÇÃO DA ADM LOCAL | H16: VALOR CONTRATUAL DA TX ADM LOCAL | J16: VALOR ADM ACUMULADO ANTERIOR | L16: VALOR ADM CALCULADO ACUMULADO ATUAL | N16: VALOR DE ADM LOCAL A MEDIR NA MEDIÇÃO | P16: PERCENTUAL | Q16: QTD DE CONTRATO | R16: TOTAL(un) | U16: OK
B17: =B11 -> 141715.77 | D17: =D11 -> 3977811 | F17: =F11 -> 0.064 | H17: =H11 -> 212163.23 | J17: =J11 -> 0 | L17: =L11 -> 8652.0826 | N17: =N11 -> 8652.0826 | P17: =P11 -> 0.040780311 | Q17: =Q11 -> 1 | R17: =R11 -> 0.040780311 | U17: OK
B18: MEDIÇÃO 01 | R18: =R17 -> 0.040780311 | U18: OK
U19: OK
A20: 01.01.003 | B20: Equipamentos de Apoio à Produção | N20: un | O20: =R24 -> 0.040780311 | P20: =VLOOKUP($A20,'BM - 001'!$A$8:$O$115,5,FALSE) -> 0 | Q20: =VLOOKUP($A20,'BM - 001'!$A$8:$O$115,7,FALSE) -> 0.04 | R20: =VLOOKUP($A20,'BM - 001'!$A$8:$O$59,4,FALSE)-P20 -> 1 | S20: =IF(O20>R20,O20-R20,0) -> 0 | T20: =ROUND(IF(O20<R20,O20,R20),2) -> 0.04 | U20: OK
U21: OK
B22: MEDIÇÃO ACUMULADA SEM ADM LOCAL | D22: VALOR DO CONTRATO SEM ADM LOCAL | F22: PERCENTUAL DE AVANÇO - EXCLUÍDO MEDIÇÃO DA ADM LOCAL | H22: VALOR CONTRATUAL DA TX ADM LOCAL | J22: VALOR ADM ACUMULADO ANTERIOR | L22: VALOR ADM CALCULADO ACUMULADO ATUAL | N22: VALOR DE ADM LOCAL A MEDIR NA MEDIÇÃO | P22: PERCENTUAL | Q22: QTD DE CONTRATO | R22: TOTAL(un) | U22: OK
B23: =B17 -> 141715.77 | D23: =D17 -> 3977811 | F23: =F17 -> 0.064 | H23: =H17 -> 212163.23 | J23: =J17 -> 0 | L23: =L17 -> 8652.0826 | N23: =N17 -> 8652.0826 | P23: =P17 -> 0.040780311 | Q23: =Q17 -> 1 | R23: =R17 -> 0.040780311 | U23: OK
B24: MEDIÇÃO 01 | R24: =R23 -> 0.040780311 | U24: OK
U25: OK
A26: 02. | B26: CANTEIRO DE OBRAS | U26: OK
A27: 02.01 | B27: TERRAPLENAGEM E PAVIMENTAÇÃO | U27: OK
A28: 02.01.001 | B28: Desmatamento, destocamento e limpeza de área com árvores de diâmetro até 0,15 m (SICRO - 5501700) | N28: m² | O28: =I32 -> 660 | P28: =VLOOKUP($A28,'BM - 001'!$A$8:$O$115,5,FALSE) -> 0 | Q28: =VLOOKUP($A28,'BM - 001'!$A$8:$O$115,7,FALSE) -> 660 | R28: =VLOOKUP($A28,'BM - 001'!$A$8:$O$59,4,FALSE)-P28 -> 660 | S28: =IF(O28>R28,O28-R28,0) -> 0 | T28: =ROUND(IF(O28<R28,O28,R28),2) -> 660 | U28: OK
U29: OK
B30: LOCAL | E30: COMPRIMENTO (m) | G30: LARGURA (m) | I30: TOTAL (m2) | U30: OK
B31: CANTEIRO | F31: 30 | H31: 22 | J31: =H31*F31 -> 660 | U31: OK
B32: MEDIÇÃO 01 | I32: =J31 -> 660 | U32: OK
U33: OK
A34: 02.01.002 | B34: Carga, manobra e descarga de agregados ou solos em caminhão basculante de 14 m³ - carga com carregadeira de 3,40 m³ e descarga livre (SICRO - 5914351) | N34: t | O34: =O38 -> 128.7 | P34: =VLOOKUP($A34,'BM - 001'!$A$8:$O$115,5,FALSE) -> 0 | Q34: =VLOOKUP($A34,'BM - 001'!$A$8:$O$115,7,FALSE) -> 128.7 | R34: =VLOOKUP($A34,'BM - 001'!$A$8:$O$59,4,FALSE)-P34 -> 128.7 | S34: =IF(O34>R34,O34-R34,0) -> 0 | T34: =ROUND(IF(O34<R34,O34,R34),2) -> 128.7 | U34: OK
U35: OK
B36: LOCAL | E36: COMPRIMENTO (m) | G36: LARGURA (m) | I36: ESPESSURA (m) | K36: DENSIDADE | M36: EMPOLAMENTO | O36: TOTAL (T) | U36: OK
B37: CANTEIRO | F37: 30 | H37: 22 | J37: 0.104 | L37: 1.5 | N37: 1.25 | P37: =N37*L37*J37*H37*F37 -> 128.7 | U37: OK
B38: MEDIÇÃO 01 | O38: =P37 -> 128.7 | U38: OK
U39: OK
A40: 02.01.003 | B40: Transporte com caminhão basculante de 14 m³ - rodovia pavimentada (SICRO - 5915321) | N40: tkm | O40: =I44 -> 1930.5 | P40: =VLOOKUP($A40,'BM - 001'!$A$8:$O$115,5,FALSE) -> 0 | Q40: =VLOOKUP($A40,'BM - 001'!$A$8:$O$115,7,FALSE) -> 1544.4 | R40: =VLOOKUP($A40,'BM - 001'!$A$8:$O$59,4,FALSE)-P40 -> 1544.4 | S40: =IF(O40>R40,O40-R40,0) -> 386.1 | T40: =ROUND(IF(O40<R40,O40,R40),2) -> 1544.4 | U40: OK
...

Sheet Planilha2
A1: OBRA: EXECUÇÃO DOS SERVIÇOS PARA IMPLANTAÇÃO E SUBSTITUIÇÃO DE DOIS TRECHOS DE ADUTORAS NO MUNICÍPIO DE TOBIAS BARRETO / SE, A PARTIR DOS POÇOS DE ITAPICURU, POVOADO CATU / BA.
A4: BOLETIM DE MEDIÇÃO 1
I47: AREIA

Sheet BMs_Acum
A1: COMPLEMENTAÇÃO DA CONSTRUÇÃO DE BARRAGEM DE CAPTAÇÃO NO RIACHO GUARAREMA E DAS ESTAÇÕES ELEVATÓRIAS DE ÁGUA BRUTA 01 E 02, NO MUNICÍPIO DE SANTA LUZIA DO ITANHY, ESTADO DE SERGIPE. | D1: BOLETIM DE MEDIÇÃO – HISTORICO | M1: CONTRATO Nº: | N1: =#REF! -> #REF! | W1: GERAL
M2: DATA CONTR. | N2: =#REF! -> #REF!
M3: INICIO: | N3: =#REF! -> #REF! | O3: =#REF! -> #REF!
A4: ITEM | B4: DESCRIÇÃO | C4: UN | D4: Quantidades | N4: Valores ( R$ ) | X4: % med acum
D5: Contratada atualizada | E5: BM01 | F5: BM02 | G5: BM03 | H5: BM04 | I5: BM05 | J5: BM06 | K5: BM07 | L5: QNT ACUM MED | M5: Preço Unitário (R$) | N5: Contratada atualizada | O5: BM01 | P5: BM02 | Q5: BM03 | R5: BM04 | S5: BM05 | T5: BM06 | U5: BM07 | V5: Acumulada Atual | W5: Saldo à Medir
A6: . | B6: GERAL | N6: =SUM(N8:N260) -> 2005906.2 | O6: =SUM(O7,O154) -> 457056.11 | P6: =SUM(P7,P154) -> 661251.95 | Q6: =SUM(Q7,Q154) -> 0 | R6: =SUM(R7,R154) -> 0 | S6: =SUM(S7,S154) -> 0 | T6: =SUM(T7,T154) -> 0 | U6: =SUM(U8:U260) -> 0 | V6: =SUM(O6:U6) -> 1118308.1 | W6: =SUM(W8:W260) -> 887598.11 | X6: =V6/N6 -> 0.55750766
A7: 001. . . . . . | B7: SERVIÇOS | O7: =SUM(O10:O153) -> 457056.11 | P7: =SUM(P10:P153) -> 607217.98 | Q7: =SUM(Q10:Q153) -> 0 | R7: =SUM(R10:R153) -> 0 | S7: =SUM(S10:S153) -> 0 | T7: =SUM(T10:T153) -> 0 | U7: =SUM(U10:U153) -> 0
A8: 001.001. . . . . | B8: INSTALAÇÃO E MANUTENÇÃO DO CANTEIRO DE OBRAS
A9: 001.001.001. . . . | B9: CANTEIRO DE OBRA
A10: 001.001.001.001. . . | B10: Locação de container - Escritório com banheiro - 6,20 x 2,20m | C10: mês | D10: 6 | E10: 0 | L10: =IF(D10="","",SUM(E10:K10)) -> 0 | M10: 1480.68 | N10: =IF(L10="","",ROUND(D10*M10,2)) -> 8884.08 | O10: =IF(E10="","",ROUND(E10*M10,2)) -> 0 | P10: =IF(F10="","",ROUND(F10*M10,2)) | Q10: =IF(G10="","",ROUND(G10*M10,2)) | R10: =IF(H10="","",ROUND(H10*M10,2)) | S10: =IF(I10="","",ROUND(I10*M10,2)) | T10: =IF(J10="","",ROUND(J10*M10,2)) | U10: =IF(K10="","",ROUND(K10*M10,2)) | V10: =IF(N10="","",SUM(O10:U10)) -> 0 | W10: =IF(N10="","",N10-V10) -> 8884.08
A11: 001.001.001.002. . . | B11: Conjunto de tenda plástica com 3 mesas, 12 cadeiras e 3 garrafas térmicas | C11: un | D11: 1 | E11: 1 | L11: =IF(D11="","",SUM(E11:K11)) -> 1 | M11: 1214.45 | N11: =IF(L11="","",ROUND(D11*M11,2)) -> 1214.45 | O11: =IF(E11="","",ROUND(E11*M11,2)) -> 1214.45 | P11: =IF(F11="","",ROUND(F11*M11,2)) | Q11: =IF(G11="","",ROUND(G11*M11,2)) | R11: =IF(H11="","",ROUND(H11*M11,2)) | S11: =IF(I11="","",ROUND(I11*M11,2)) | T11: =IF(J11="","",ROUND(J11*M11,2)) | U11: =IF(K11="","",ROUND(K11*M11,2)) | V11: =IF(N11="","",SUM(O11:U11)) -> 1214.45 | W11: =IF(N11="","",N11-V11) -> 0
A12: 001.001.001.003. . . | B12: Demolição de Barracão de Obra | C12: m2 | D12: 100 | E12: 0 | L12: =IF(D12="","",SUM(E12:K12)) -> 0 | M12: 5.7 | N12: =IF(L12="","",ROUND(D12*M12,2)) -> 570 | O12: =IF(E12="","",ROUND(E12*M12,2)) -> 0 | P12: =IF(F12="","",ROUND(F12*M12,2)) | Q12: =IF(G12="","",ROUND(G12*M12,2)) | R12: =IF(H12="","",ROUND(H12*M12,2)) | S12: =IF(I12="","",ROUND(I12*M12,2)) | T12: =IF(J12="","",ROUND(J12*M12,2)) | U12: =IF(K12="","",ROUND(K12*M12,2)) | V12: =IF(N12="","",SUM(O12:U12)) -> 0 | W12: =IF(N12="","",N12-V12) -> 570
A13: 001.001.001.004. . . | B13: Placa de obra em chapa aço galvanizado, instalada | C13: m2 | D13: 6 | E13: 6 | L13: =IF(D13="","",SUM(E13:K13)) -> 6 | M13: 453.32 | N13: =IF(L13="","",ROUND(D13*M13,2)) -> 2719.92 | O13: =IF(E13="","",ROUND(E13*M13,2)) -> 2719.92 | P13: =IF(F13="","",ROUND(F13*M13,2)) | Q13: =IF(G13="","",ROUND(G13*M13,2)) | R13: =IF(H13="","",ROUND(H13*M13,2)) | S13: =IF(I13="","",ROUND(I13*M13,2)) | T13: =IF(J13="","",ROUND(J13*M13,2)) | U13: =IF(K13="","",ROUND(K13*M13,2)) | V13: =IF(N13="","",SUM(O13:U13)) -> 2719.92 | W13: =IF(N13="","",N13-V13) -> 0
A14: 001.001.001.005. . . | B14: Barracão aberto para apoio à produção (carpintaria, central de armação, oficina, etc.) c/ tesouras, telha 4mm, piso em concreto desempolado | C14: m2 | D14: 50 | E14: 50 | L14: =IF(D14="","",SUM(E14:K14)) -> 50 | M14: 210.21 | N14: =IF(L14="","",ROUND(D14*M14,2)) -> 10510.5 | O14: =IF(E14="","",ROUND(E14*M14,2)) -> 10510.5 | P14: =IF(F14="","",ROUND(F14*M14,2)) | Q14: =IF(G14="","",ROUND(G14*M14,2)) | R14: =IF(H14="","",ROUND(H14*M14,2)) | S14: =IF(I14="","",ROUND(I14*M14,2)) | T14: =IF(J14="","",ROUND(J14*M14,2)) | U14: =IF(K14="","",ROUND(K14*M14,2)) | V14: =IF(N14="","",SUM(O14:U14)) -> 10510.5 | W14: =IF(N14="","",N14-V14) -> 0
A15: 001.001.002. . . . | B15: MANUTENÇÃO DO CANTEIRO | E15: . | L15: =IF(D15="","",SUM(E15:K15)) | N15: =IF(L15="","",ROUND(D15*M15,2)) | U15: =IF(K15="","",ROUND(K15*M15,2)) | V15: =IF(N15="","",SUM(O15:U15)) | W15: =IF(N15="","",N15-V15)
A16: 001.001.002.001. . . | B16: Água - dispêndio mensal | C16: mês | D16: 6 | E16: 1 | F16: 1 | L16: =IF(D16="","",SUM(E16:K16)) -> 2 | M16: 487.38 | N16: =IF(L16="","",ROUND(D16*M16,2)) -> 2924.28 | O16: =IF(E16="","",ROUND(E16*M16,2)) -> 487.38 | P16: =IF(F16="","",ROUND(F16*M16,2)) -> 487.38 | Q16: =IF(G16="","",ROUND(G16*M16,2)) | R16: =IF(H16="","",ROUND(H16*M16,2)) | S16: =IF(I16="","",ROUND(I16*M16,2)) | T16: =IF(J16="","",ROUND(J16*M16,2)) | U16: =IF(K16="","",ROUND(K16*M16,2)) | V16: =IF(N16="","",SUM(O16:U16)) -> 974.76 | W16: =IF(N16="","",N16-V16) -> 1949.52
A17: 001.001.002.002. . . | B17: Consumo de energia elétrica | C17: mês | D17: 6 | E17: 1 | F17: 1 | L17: =IF(D17="","",SUM(E17:K17)) -> 2 | M17: 222.1 | N17: =IF(L17="","",ROUND(D17*M17,2)) -> 1332.6 | O17: =IF(E17="","",ROUND(E17*M17,2)) -> 222.1 | P17: =IF(F17="","",ROUND(F17*M17,2)) -> 222.1 | Q17: =IF(G17="","",ROUND(G17*M17,2)) | R17: =IF(H17="","",ROUND(H17*M17,2)) | S17: =IF(I17="","",ROUND(I17*M17,2)) | T17: =IF(J17="","",ROUND(J17*M17,2)) | U17: =IF(K17="","",ROUND(K17*M17,2)) | V17: =IF(N17="","",SUM(O17:U17)) -> 444.2 | W17: =IF(N17="","",N17-V17) -> 888.4
A18: 001.001.002.003. . . | B18: Material de limpeza | C18: mês | D18: 6 | E18: 1 | F18: 1 | L18: =IF(D18="","",SUM(E18:K18)) -> 2 | M18: 140.85 | N18: =IF(L18="","",ROUND(D18*M18,2)) -> 845.1 | O18: =IF(E18="","",ROUND(E18*M18,2)) -> 140.85 | P18: =IF(F18="","",ROUND(F18*M18,2)) -> 140.85 | Q18: =IF(G18="","",ROUND(G18*M18,2)) | R18: =IF(H18="","",ROUND(H18*M18,2)) | S18: =IF(I18="","",ROUND(I18*M18,2)) | T18: =IF(J18="","",ROUND(J18*M18,2)) | U18: =IF(K18="","",ROUND(K18*M18,2)) | V18: =IF(N18="","",SUM(O18:U18)) -> 281.7 | W18: =IF(N18="","",N18-V18) -> 563.4
A19: 001.001.002.004. . . | B19: Transportes de máquinas e equipamentos por caminhão munck | C19: km | D19: 400 | E19: 200 | L19: =IF(D19="","",SUM(E19:K19)) -> 200 | M19: 12.34 | N19: =IF(L19="","",ROUND(D19*M19,2)) -> 4936 | O19: =IF(E19="","",ROUND(E19*M19,2)) -> 2468 | P19: =IF(F19="","",ROUND(F19*M19,2)) | Q19: =IF(G19="","",ROUND(G19*M19,2)) | R19: =IF(H19="","",ROUND(H19*M19,2)) | S19: =IF(I19="","",ROUND(I19*M19,2)) | T19: =IF(J19="","",ROUND(J19*M19,2)) | U19: =IF(K19="","",ROUND(K19*M19,2)) | V19: =IF(N19="","",SUM(O19:U19)) -> 2468 | W19: =IF(N19="","",N19-V19) -> 2468
A20: 001.001.002.005. . . | B20: Transporte de máquinas e equipamentos por prancha rebaixada | C20: km | D20: 300 | E20: 150 | L20: =IF(D20="","",SUM(E20:K20)) -> 150 | M20: 12.34 | N20: =IF(L20="","",ROUND(D20*M20,2)) -> 3702 | O20: =IF(E20="","",ROUND(E20*M20,2)) -> 1851 | P20: =IF(F20="","",ROUND(F20*M20,2)) | Q20: =IF(G20="","",ROUND(G20*M20,2)) | R20: =IF(H20="","",ROUND(H20*M20,2)) | S20: =IF(I20="","",ROUND(I20*M20,2)) | T20: =IF(J20="","",ROUND(J20*M20,2)) | U20: =IF(K20="","",ROUND(K20*M20,2)) | V20: =IF(N20="","",SUM(O20:U20)) -> 1851 | W20: =IF(N20="","",N20-V20) -> 1851
A21: 001.002. . . . . | B21: ADMINISTRAÇÃO LOCAL DE OBRA | L21: =IF(D21="","",SUM(E21:K21)) | N21: =IF(L21="","",ROUND(D21*M21,2)) | O21: =IF(E21="","",ROUND(E21*M21,2)) | P21: =IF(F21="","",ROUND(F21*M21,2)) | Q21: =IF(G21="","",ROUND(G21*M21,2)) | R21: =IF(H21="","",ROUND(H21*M21,2)) | S21: =IF(I21="","",ROUND(I21*M21,2)) | T21: =IF(J21="","",ROUND(J21*M21,2)) | U21: =IF(K21="","",ROUND(K21*M21,2)) | V21: =IF(N21="","",SUM(O21:U21)) | W21: =IF(N21="","",N21-V21)
A22: 001.002.001. . . . | B22: ADMINISTRAÇÃO LOCAL | L22: =IF(D22="","",SUM(E22:K22)) | N22: =IF(L22="","",ROUND(D22*M22,2)) | O22: =IF(E22="","",ROUND(E22*M22,2)) | P22: =IF(F22="","",ROUND(F22*M22,2)) | Q22: =IF(G22="","",ROUND(G22*M22,2)) | R22: =IF(H22="","",ROUND(H22*M22,2)) | S22: =IF(I22="","",ROUND(I22*M22,2)) | T22: =IF(J22="","",ROUND(J22*M22,2)) | U22: =IF(K22="","",ROUND(K22*M22,2)) | V22: =IF(N22="","",SUM(O22:U22)) | W22: =IF(N22="","",N22-V22)
A23: 001.002.001.001. . . | B23: Engenheiro civil de obra pleno com encargos complementares | C23: h | D23: 640 | E23: 147.2 | F23: 211.2 | L23: =IF(D23="","",SUM(E23:K23)) -> 358.4 | M23: 106.99 | N23: =IF(L23="","",ROUND(D23*M23,2)) -> 68473.6 | O23: =IF(E23="","",ROUND(E23*M23,2)) -> 15748.93 | P23: =IF(F23="","",ROUND(F23*M23,2)) -> 22596.29 | Q23: =IF(G23="","",ROUND(G23*M23,2)) | R23: =IF(H23="","",ROUND(H23*M23,2)) | S23: =IF(I23="","",ROUND(I23*M23,2)) | T23: =IF(J23="","",ROUND(J23*M23,2)) | U23: =IF(K23="","",ROUND(K23*M23,2)) | V23: =IF(N23="","",SUM(O23:U23)) -> 38345.22 | W23: =IF(N23="","",N23-V23) -> 30128.38
A24: 001.002.001.002. . . | B24: Encarregado geral com encargos complementares | C24: h | D24: 1056 | E24: 242.88 | F24: 348.48 | L24: =IF(D24="","",SUM(E24:K24)) -> 591.36 | M24: 28.63 | N24: =IF(L24="","",ROUND(D24*M24,2)) -> 30233.28 | O24: =IF(E24="","",ROUND(E24*M24,2)) -> 6953.65 | P24: =IF(F24="","",ROUND(F24*M24,2)) -> 9976.98 | Q24: =IF(G24="","",ROUND(G24*M24,2)) | R24: =IF(H24="","",ROUND(H24*M24,2)) | S24: =IF(I24="","",ROUND(I24*M24,2)) | T24: =IF(J24="","",ROUND(J24*M24,2)) | U24: =IF(K24="","",ROUND(K24*M24,2)) | V24: =IF(N24="","",SUM(O24:U24)) -> 16930.63 | W24: =IF(N24="","",N24-V24) -> 13302.65
A25: 001.003. . . . . | B25: ESTAÇÃO ELEVATÓRIA DE ÁGUA BRUTA 01 – EEAB1 | L25: =IF(D25="","",SUM(E25:K25)) | N25: =IF(L25="","",ROUND(D25*M25,2)) | O25: =IF(E25="","",ROUND(E25*M25,2)) | P25: =IF(F25="","",ROUND(F25*M25,2)) | Q25: =IF(G25="","",ROUND(G25*M25,2)) | R25: =IF(H25="","",ROUND(H25*M25,2)) | S25: =IF(I25="","",ROUND(I25*M25,2)) | T25: =IF(J25="","",ROUND(J25*M25,2)) | U25: =IF(K25="","",ROUND(K25*M25,2)) | V25: =IF(N25="","",SUM(O25:U25)) | W25: =IF(N25="","",N25-V25)
A26: 001.003.001. . . . | B26: SERVIÇOS PRELIMINARES | L26: =IF(D26="","",SUM(E26:K26)) | N26: =IF(L26="","",ROUND(D26*M26,2)) | O26: =IF(E26="","",ROUND(E26*M26,2)) | P26: =IF(F26="","",ROUND(F26*M26,2)) | Q26: =IF(G26="","",ROUND(G26*M26,2)) | R26: =IF(H26="","",ROUND(H26*M26,2)) | S26: =IF(I26="","",ROUND(I26*M26,2)) | T26: =IF(J26="","",ROUND(J26*M26,2)) | U26: =IF(K26="","",ROUND(K26*M26,2)) | V26: =IF(N26="","",SUM(O26:U26)) | W26: =IF(N26="","",N26-V26)
A27: 001.003.001.001. . . | B27: Locação de construção de edificação entre 200 e 1000 m2, inclusive execução de gabarito de madeira | C27: m2 | D27: 19.29 | L27: =IF(D27="","",SUM(E27:K27)) -> 0 | M27: 7.92 | N27: =IF(L27="","",ROUND(D27*M27,2)) -> 152.78 | O27: =IF(E27="","",ROUND(E27*M27,2)) | P27: =IF(F27="","",ROUND(F27*M27,2)) | Q27: =IF(G27="","",ROUND(G27*M27,2)) | R27: =IF(H27="","",ROUND(H27*M27,2)) | S27: =IF(I27="","",ROUND(I27*M27,2)) | T27: =IF(J27="","",ROUND(J27*M27,2)) | U27: =IF(K27="","",ROUND(K27*M27,2)) | V27: =IF(N27="","",SUM(O27:U27)) -> 0 | W27: =IF(N27="","",N27-V27) -> 152.78
A28: 001.003.001.002. . . | B28: Limpeza mecanizada do terreno c/ trator esteira (vegetação rasteira) inclusive carga e transporte - dmt até 1 km | C28: m2 | D28: 61.21 | L28: =IF(D28="","",SUM(E28:K28)) -> 0 | M28: 7.76 | N28: =IF(L28="","",ROUND(D28*M28,2)) -> 474.99 | O28: =IF(E28="","",ROUND(E28*M28,2)) | P28: =IF(F28="","",ROUND(F28*M28,2)) | Q28: =IF(G28="","",ROUND(G28*M28,2)) | R28: =IF(H28="","",ROUND(H28*M28,2)) | S28: =IF(I28="","",ROUND(I28*M28,2)) | T28: =IF(J28="","",ROUND(J28*M28,2)) | U28: =IF(K28="","",ROUND(K28*M28,2)) | V28: =IF(N28="","",SUM(O28:U28)) -> 0 | W28: =IF(N28="","",N28-V28) -> 474.99
A29: 001.003.001.003. . . | B29: Limpeza manual de terreno com vegetação rasteira, incluindo roçagem e queima | C29: m2 | D29: 3.8 | L29: =IF(D29="","",SUM(E29:K29)) -> 0 | M29: 4.29 | N29: =IF(L29="","",ROUND(D29*M29,2)) -> 16.3 | O29: =IF(E29="","",ROUND(E29*M29,2)) | P29: =IF(F29="","",ROUND(F29*M29,2)) | Q29: =IF(G29="","",ROUND(G29*M29,2)) | R29: =IF(H29="","",ROUND(H29*M29,2)) | S29: =IF(I29="","",ROUND(I29*M29,2)) | T29: =IF(J29="","",ROUND(J29*M29,2)) | U29: =IF(K29="","",ROUND(K29*M29,2)) | V29: =IF(N29="","",SUM(O29:U29)) -> 0 | W29: =IF(N29="","",N29-V29) -> 16.3
A30: 001.003.001.004. . . | B30: Regularização Manual | C30: m2 | D30: 309.6 | L30: =IF(D30="","",SUM(E30:K30)) -> 0 | M30: 5.16 | N30: =IF(L30="","",ROUND(D30*M30,2)) -> 1597.54 | O30: =IF(E30="","",ROUND(E30*M30,2)) | P30: =IF(F30="","",ROUND(F30*M30,2)) | Q30: =IF(G30="","",ROUND(G30*M30,2)) | R30: =IF(H30="","",ROUND(H30*M30,2)) | S30: =IF(I30="","",ROUND(I30*M30,2)) | T30: =IF(J30="","",ROUND(J30*M30,2)) | U30: =IF(K30="","",ROUND(K30*M30,2)) | V30: =IF(N30="","",SUM(O30:U30)) -> 0 | W30: =IF(N30="","",N30-V30) -> 1597.54
A31: 001.003.001.005. . . | B31: Cascalho (piçarra branca) aplicado | C31: m3 | D31: 16.44 | L31: =IF(D31="","",SUM(E31:K31)) -> 0 | M31: 125.76 | N31: =IF(L31="","",ROUND(D31*M31,2)) -> 2067.49 | O31: =IF(E31="","",ROUND(E31*M31,2)) | P31: =IF(F31="","",ROUND(F31*M31,2)) | Q31: =IF(G31="","",ROUND(G31*M31,2)) | R31: =IF(H31="","",ROUND(H31*M31,2)) | S31: =IF(I31="","",ROUND(I31*M31,2)) | T31: =IF(J31="","",ROUND(J31*M31,2)) | U31: =IF(K31="","",ROUND(K31*M31,2)) | V31: =IF(N31="","",SUM(O31:U31)) -> 0 | W31: =IF(N31="","",N31-V31) -> 2067.49
